Workbook
Name A_P_GR: 'groupe-type'!$B$2:$B$3916
Name AGAS: 'groupe-type'!$C$2:$C$1515
Name ANNEE: 'groupe-type'!$AI$2:$AI$12
Name ASIAT: 'groupe-type'!$D$2:$D$1515
Name AUST: 'groupe-type'!$E$2:$E$361
Name BOLBO: 'groupe-type'!$F$2:$F$132
Name C_COUL: 'groupe-type'!$I$2:$I$2911
Name C_POST: 'groupe-type'!$K$2:$K$1044
Name CA_CO: 'groupe-type'!$G$2:$G$950
Name CAGE_PERSONNEL: #REF!
Name CAGE_PERSONNEL: #REF!
Name CAGE_PERSONNEL: #REF!
Name CAGE_PERSONNEL: 'groupe-type'!$AJ$2:$AJ$4
Name CALOS: 'groupe-type'!$H$2:$H$373
Name CL_GROUPE: 'groupe-type'!$B$1:$AF$1
Name CLASSE: 'CLASSES oiseau'!$B$2:$B$27640
Name COLOMB: 'groupe-type'!$J$2:$J$1192
Name CONVOI: 'groupe-type'!$AG$15:$AG$17
Name CONVOYAGE: #REF!
Name CONVOYAGE: #REF!
Name CONVOYAGE: #REF!
Name CONVOYAGE: 'groupe-type'!$AG$15:$AG$17
Name CROUP: 'groupe-type'!$L$2:$L$888
Name ESPECE_BOURSE: 'groupe-type'!$AL$2:$AL$10
Name ESTRI: 'groupe-type'!$M$2:$M$797
Name ETAT: 'groupe-type'!$AK$2:$AK$9
Name EUPH: 'groupe-type'!$N$2:$N$668
Name F_I_N: 'groupe-type'!$P$2:$P$634
Name FAUNE: 'groupe-type'!$O$2:$O$1770
Name FORPUS: 'groupe-type'!$Q$2:$Q$634
Name G_AME: 'groupe-type'!$R$2:$R$465
Name G_AUST: 'groupe-type'!$S$2:$S$647
Name GENRE: #REF!
Name GENRE: #REF!
Name GENRE: #REF!
Name GENRE: 'groupe-type'!$AI$15:$AI$17
Name GOULD: 'groupe-type'!$T$2:$T$693
Name GROUPE: 'CLASSES oiseau'!$A$2:$A$27640
Name groupeoiseaux: #REF!
Name groupeoiseaux: #REF!
Name groupeoiseaux: #REF!
Name groupeoiseaux: 'groupe-type'!$B$1:$AF$1
Name HYBRI: 'groupe-type'!$U$2:$U$407
Name individuel01: 'CONCOURS INDIVIDUEL F1'!$B$10:$N$31
Name KAKAR: 'groupe-type'!$V$2:$V$251
Name LONCH: 'groupe-type'!$W$2:$W$526
Name LORIS: 'groupe-type'!$X$2:$X$410
Name M_AUS: 'groupe-type'!$Z$2:$Z$113
Name MAND: 'groupe-type'!$Y$2:$Y$826
Name NAISSANCE: #REF!
Name NAISSANCE: #REF!
Name NAISSANCE: #REF!
Name NAISSANCE: 'groupe-type'!$AI$2:$AI$12
Name OCEAN: 'groupe-type'!$AA$2:$AA$194
Name PADDA: 'groupe-type'!$AB$2:$AB$62
Name PERRO: 'groupe-type'!$AC$2:$AC$714
Name POC: 'groupe-type'!$AD$2:$AD$895
Name POP: 'groupe-type'!$AE$2:$AE$1606
Name PYRRH: 'groupe-type'!$AF$2:$AF$350
Name REGION: #REF!

Sheet CONCOURS  INDIVIDUEL F1
D1: Renseigner ici votre Nom Prenom adresse telephone club souche Etc.
D2: CONCOURS / BOURSE SORGUES 26 & 27 - 09 - 2026
A4: qualité | B4: NOM | D4: PRENON | F4: ADRESSE | G4: CODE POSTAL | I4: VILLE | K4: TELEPHONE | M4: MAIL
A5: Monsieur | B5: pascal | D5: mOrice | F5: 1510 rte oraoires | G5: 83332 | I5: castellet | K5: 663831252 | M5: mpasca@sfr.fr
A7: FEUILLE | E7: REGION | F7: CLUB | G7: SOUCHE | J7: AUTRES SOUCHES | M7: Nbre oiseaux | N7: 10
A8: N° | B8: 1 | E8: cde | F8: ocp | G8: PM | J8: SOUC1 | K8: SOUC2 | M8: Nbre cages | N8: 5
A9: RENSEIGNER POUR LES OISEAUX 1- LE TYPE 2- LA CLASSE 3 -LE SEXE ( M F C ? ) 4 - LE N° DE BAGUE MALE OU FEMELLE POUR LES COUPLE LES DEUX 5 -L'ANNEE 6-LE PRIX 7- EXPOSITION (OUI/NON)8- CAGE PERSONELLE (OUI/NON)
A10: NINSC | B10: REGION | C10: SOUCHE | D10: TYPE | E10: CLASSE | F10: DESIGNATION | G10: SEXE | H10: BAGUE MALE | I10: BAGUE FEMELLE | J10: BAGUE | K10: ANNEE | L10: PRIX | M10: EXPOSITION OUI /NON | N10: CAGE PERSONNEL
A11: 1 | B11: =E8 -> cde | C11: =G8 -> PM | F11: =IFERROR(VLOOKUP(E11,'CLASSES oiseau'!B1:C27636,2,FALSE),"") | BHF11: =IFERROR(VLOOKUP(G11,'CLASSES oiseau'!D2:E27637,2,FALSE),"")
A12: 2 | B12: =B11 -> cde | C12: =C11 -> PM | F12: =IFERROR(VLOOKUP(E12,'CLASSES oiseau'!B2:C27637,2,FALSE),"") | J12: =_xludf.CONCAT("M",H12,"/","F",I12) -> #NAME?
A13: 3 | B13: =B12 -> cde | C13: =C12 -> PM | F13: =IFERROR(VLOOKUP(E13,'CLASSES oiseau'!B3:C27638,2,FALSE),"") | J13: =_xludf.CONCAT("M",H13,"/","F",I13) -> #NAME?
A14: 8 | B14: =B13 -> cde | C14: =C13 -> PM | F14: =IFERROR(VLOOKUP(E14,'CLASSES oiseau'!B2:C27640,2,FALSE),"") | J14: =_xludf.CONCAT("M",H14,"/","F",I14) -> #NAME?
A15: 9 | B15: =B14 -> cde | C15: =C14 -> PM | F15: =IFERROR(VLOOKUP(E15,'CLASSES oiseau'!B2:C27637,2,FALSE),"") | J15: =_xludf.CONCAT("M",H15,"/","F",I15) -> #NAME?
A16: 10 | B16: =B15 -> cde | C16: =C15 -> PM | F16: =IFERROR(VLOOKUP(E16,'CLASSES oiseau'!B2:C27637,2,FALSE),"") | J16: =_xludf.CONCAT("M",H16,"/","F",I16) -> #NAME?
A17: 11 | B17: =B16 -> cde | C17: =C16 -> PM | F17: =IFERROR(VLOOKUP(E17,'CLASSES oiseau'!B2:C27637,2,FALSE),"") | J17: =_xludf.CONCAT("M",H17,"/","F",I17) -> #NAME?
A18: 12 | B18: =B17 -> cde | C18: =C17 -> PM | F18: =IFERROR(VLOOKUP(E18,'CLASSES oiseau'!B2:C27637,2,FALSE),"") | J18: =_xludf.CONCAT("M",H18,"/","F",I18) -> #NAME?
A19: 13 | B19: =B18 -> cde | C19: =C18 -> PM | F19: =IFERROR(VLOOKUP(E19,'CLASSES oiseau'!B2:C27637,2,FALSE),"") | J19: =_xludf.CONCAT("M",H19,"/","F",I19) -> #NAME?
A20: 14 | B20: =B19 -> cde | C20: =C19 -> PM | F20: =IFERROR(VLOOKUP(E20,'CLASSES oiseau'!B2:C27637,2,FALSE),"") | J20: =_xludf.CONCAT("M",H20,"/","F",I20) -> #NAME?
A21: 15 | B21: =B20 -> cde | C21: =C20 -> PM | F21: =IFERROR(VLOOKUP(E21,'CLASSES oiseau'!B2:C27637,2,FALSE),"") | J21: =_xludf.CONCAT("M",H21,"/","F",I21) -> #NAME?
A22: 16 | B22: =B21 -> cde | C22: =C21 -> PM | F22: =IFERROR(VLOOKUP(E22,'CLASSES oiseau'!B2:C27637,2,FALSE),"") | J22: =_xludf.CONCAT("M",H22,"/","F",I22) -> #NAME?
A23: 17 | B23: =B22 -> cde | C23: =C22 -> PM | F23: =IFERROR(VLOOKUP(E23,'CLASSES oiseau'!B2:C27637,2,FALSE),"") | J23: =_xludf.CONCAT("M",H23,"/","F",I23) -> #NAME?
A24: 18 | B24: =B23 -> cde | C24: =C23 -> PM | F24: =IFERROR(VLOOKUP(E24,'CLASSES oiseau'!B2:C27637,2,FALSE),"") | J24: =_xludf.CONCAT("M",H24,"/","F",I24) -> #NAME?
A25: 19 | B25: =B24 -> cde | C25: =C24 -> PM | F25: =IFERROR(VLOOKUP(E25,'CLASSES oiseau'!B2:C27637,2,FALSE),"") | J25: =_xludf.CONCAT("M",H25,"/","F",I25) -> #NAME?
A26: 20 | B26: =B25 -> cde | C26: =C25 -> PM | F26: =IFERROR(VLOOKUP(E26,'CLASSES oiseau'!B2:C27637,2,FALSE),"") | J26: =_xludf.CONCAT("M",H26,"/","F",I26) -> #NAME?
A27: 21 | B27: =B26 -> cde | C27: =C26 -> PM | F27: =IFERROR(VLOOKUP(E27,'CLASSES oiseau'!B2:C27637,2,FALSE),"") | J27: =_xludf.CONCAT("M",H27,"/","F",I27) -> #NAME?
A28: 22 | B28: =B27 -> cde | C28: =C27 -> PM | F28: =IFERROR(VLOOKUP(E28,'CLASSES oiseau'!B2:C27637,2,FALSE),"") | J28: =_xludf.CONCAT("M",H28,"/","F",I28) -> #NAME?
A29: 23 | B29: =B28 -> cde | C29: =C28 -> PM | F29: =IFERROR(VLOOKUP(E29,'CLASSES oiseau'!B2:C27637,2,FALSE),"") | J29: =_xludf.CONCAT("M",H29,"/","F",I29) -> #NAME?
A30: 24 | B30: =B29 -> cde | C30: =C29 -> PM | F30: =IFERROR(VLOOKUP(E30,'CLASSES oiseau'!B2:C27637,2,FALSE),"") | J30: =_xludf.CONCAT("M",H30,"/","F",I30) -> #NAME?
A31: 25 | B31: =B30 -> cde | C31: =C30 -> PM | F31: =IFERROR(VLOOKUP(E31,'CLASSES oiseau'!B2:C27637,2,FALSE),"") | J31: =_xludf.CONCAT("M",H31,"/","F",I31) -> #NAME?
A32: Un changement de sujet ne pourra être fait que s'il appartient exactement à la même section et à la même classe
A33: Vous pouvez dupliquer cette feuille et la transmettre à vos amis.
A34: Si nécessaire, joindre copie du certificat de capacité ou de l'autorisation de détention.Les organisateurs déclinent toute responsabilité en cas d'annulation de la manifestation ( décision ministérielle ou autre) Tout exposant accepte que ses oiseaux puissent être filmés ou photographiés librement, et en autorise la diffusion.
A37: IND | C37: 3 | E37: =C37*D37 -> 0 | G37: Les cageots doivent toujours être accompagnés d'une feuille d'encagement..Pour les oiseaux arrivant par convoyeur
A38: DUO | C38: 5 | E38: =C38*D38 -> 0
A39: stam | C39: 10 | E39: =C39*D39 -> 0 | G39: Convoyeur M.
A40: CAGE | C40: 2 | E40: =C40*D40 -> 0 | G40: Repris par M.
A41: inscription | C41: 5 | E41: =C41*D41 -> 0 | G41: Par la signature de cette feuille, je décharge les organisateurs de toute responsabilité pour les accidents pouvant survenir à moi-même ou à mes oiseaux.
A42: Repas Samedi | C42: 15 | E42: =C42*D42 -> 0
A43: Repas Dimanche | C43: 20 | E43: =C43*D43 -> 0
C44: TOTAL | D44: =SUM(E37:E43) -> 0
G45: Date : | L45: Signature : | P45: Signature :
A46: A renvoyer le FICHIER EXCEL avant le 11 Septembre 2026 Daniel PAGNON 153, chemin grande draille des paluds ou daniel.pagnon.1968@gmail.com

Sheet CONCOURS  INDIVIDUEL F2
E2: ='CONCOURS INDIVIDUEL F1'!D2 -> CONCOURS / BOURSE SORGUES 26 & 27 - 09 - 2026
B4: NOM | D4: PRENON | F4: ADRESSE | G4: CODE POSTAL | I4: VILLE | K4: TELEPHONE | M4: MAIL
B5: ='CONCOURS INDIVIDUEL F1'!B5 -> pascal | D5: ='CONCOURS INDIVIDUEL F1'!D5 -> mOrice | F5: ='CONCOURS INDIVIDUEL F1'!F5 -> 1510 rte oraoires | G5: ='CONCOURS INDIVIDUEL F1'!G5 -> 83332 | I5: ='CONCOURS INDIVIDUEL F1'!I5 -> castellet | K5: ='CONCOURS INDIVIDUEL F1'!K5 -> 663831252 | M5: ='CONCOURS INDIVIDUEL F1'!M5 -> mpasca@sfr.fr
A7: FEUILLE | E7: REGION | F7: CLUB | G7: SOUCHE | J7: AUTRES SOUCHES | M7: Nbre oiseaux
A8: N° | B8: 2 | E8: ='CONCOURS INDIVIDUEL F1'!E8 -> cde | F8: ='CONCOURS INDIVIDUEL F1'!F8 -> ocp | G8: ='CONCOURS INDIVIDUEL F1'!G8 -> PM | J8: ='CONCOURS INDIVIDUEL F1'!J8 -> SOUC1 | K8: ='CONCOURS INDIVIDUEL F1'!K8 -> SOUC2 | M8: Nbre cages
A9: RENSEIGNER POUR LES OISEAUX 1- LE TYPE 2- LA CLASSE 3 -LE SEXE ( M F C ? ) 4 - LE N° DE BAGUE MALE OU FEMELLE POUR LES COUPLE LES DEUX 5 -L'ANNEE 6-LE PRIX 7- EXPOSITION (OUI/NON)8- CAGE PERSONELLE (OUI/NON)
A10: NINSC | B10: REGION | C10: SOUCHE | D10: TYPE | E10: CLASSE | F10: DESIGNATION | G10: SEXE | H10: BAGUE MALE | I10: BAGUE FEMELLE | J10: BAGUE | K10: ANNEE | L10: PRIX | M10: EXPOSITION OUI /NON | N10: CAGE PERSONNEL
A11: 1 | B11: =E8 -> cde | C11: =G8 -> PM | F11: =IFERROR(VLOOKUP(E11,'CLASSES oiseau'!B1:C27636,2,FALSE),"") | J11: =_xludf.CONCAT("M",H11,"/","F",I11) -> #NAME? | BHF11: =IFERROR(VLOOKUP(G11,'CLASSES oiseau'!D2:E27637,2,FALSE),"")
A12: 2 | B12: =B11 -> cde | C12: =C11 -> PM | F12: =IFERROR(VLOOKUP(E12,'CLASSES oiseau'!B2:C27637,2,FALSE),"") | J12: =_xludf.CONCAT("M",H12,"/","F",I12) -> #NAME?
A13: 3 | B13: =B12 -> cde | C13: =C12 -> PM | F13: =IFERROR(VLOOKUP(E13,'CLASSES oiseau'!B3:C27638,2,FALSE),"") | J13: =_xludf.CONCAT("M",H13,"/","F",I13) -> #NAME?
A14: 8 | B14: =B13 -> cde | C14: =C13 -> PM | F14: =IFERROR(VLOOKUP(E14,'CLASSES oiseau'!B2:C27640,2,FALSE),"") | J14: =_xludf.CONCAT("M",H14,"/","F",I14) -> #NAME?
A15: 9 | B15: =B14 -> cde | C15: =C14 -> PM | F15: =IFERROR(VLOOKUP(E15,'CLASSES oiseau'!B2:C27637,2,FALSE),"") | J15: =_xludf.CONCAT("M",H15,"/","F",I15) -> #NAME?
A16: 10 | B16: =B15 -> cde | C16: =C15 -> PM | F16: =IFERROR(VLOOKUP(E16,'CLASSES oiseau'!B2:C27637,2,FALSE),"") | J16: =_xludf.CONCAT("M",H16,"/","F",I16) -> #NAME?
A17: 11 | B17: =B16 -> cde | C17: =C16 -> PM | F17: =IFERROR(VLOOKUP(E17,'CLASSES oiseau'!B2:C27637,2,FALSE),"") | J17: =_xludf.CONCAT("M",H17,"/","F",I17) -> #NAME?
A18: 12 | B18: =B17 -> cde | C18: =C17 -> PM | F18: =IFERROR(VLOOKUP(E18,'CLASSES oiseau'!B2:C27637,2,FALSE),"") | J18: =_xludf.CONCAT("M",H18,"/","F",I18) -> #NAME?
A19: 13 | B19: =B18 -> cde | C19: =C18 -> PM | F19: =IFERROR(VLOOKUP(E19,'CLASSES oiseau'!B2:C27637,2,FALSE),"") | J19: =_xludf.CONCAT("M",H19,"/","F",I19) -> #NAME?
A20: 14 | B20: =B19 -> cde | C20: =C19 -> PM | F20: =IFERROR(VLOOKUP(E20,'CLASSES oiseau'!B2:C27637,2,FALSE),"") | J20: =_xludf.CONCAT("M",H20,"/","F",I20) -> #NAME?
A21: 15 | B21: =B20 -> cde | C21: =C20 -> PM | F21: =IFERROR(VLOOKUP(E21,'CLASSES oiseau'!B2:C27637,2,FALSE),"") | J21: =_xludf.CONCAT("M",H21,"/","F",I21) -> #NAME?
A22: 16 | B22: =B21 -> cde | C22: =C21 -> PM | F22: =IFERROR(VLOOKUP(E22,'CLASSES oiseau'!B2:C27637,2,FALSE),"") | J22: =_xludf.CONCAT("M",H22,"/","F",I22) -> #NAME?
A23: 17 | B23: =B22 -> cde | C23: =C22 -> PM | F23: =IFERROR(VLOOKUP(E23,'CLASSES oiseau'!B2:C27637,2,FALSE),"") | J23: =_xludf.CONCAT("M",H23,"/","F",I23) -> #NAME?
A24: 18 | B24: =B23 -> cde | C24: =C23 -> PM | F24: =IFERROR(VLOOKUP(E24,'CLASSES oiseau'!B2:C27637,2,FALSE),"") | J24: =_xludf.CONCAT("M",H24,"/","F",I24) -> #NAME?
A25: 19 | B25: =B24 -> cde | C25: =C24 -> PM | F25: =IFERROR(VLOOKUP(E25,'CLASSES oiseau'!B2:C27637,2,FALSE),"") | J25: =_xludf.CONCAT("M",H25,"/","F",I25) -> #NAME?
A26: 20 | B26: =B25 -> cde | C26: =C25 -> PM | F26: =IFERROR(VLOOKUP(E26,'CLASSES oiseau'!B2:C27637,2,FALSE),"") | J26: =_xludf.CONCAT("M",H26,"/","F",I26) -> #NAME?
A27: 21 | B27: =B26 -> cde | C27: =C26 -> PM | F27: =IFERROR(VLOOKUP(E27,'CLASSES oiseau'!B2:C27637,2,FALSE),"") | J27: =_xludf.CONCAT("M",H27,"/","F",I27) -> #NAME?
A28: 22 | B28: =B27 -> cde | C28: =C27 -> PM | F28: =IFERROR(VLOOKUP(E28,'CLASSES oiseau'!B2:C27637,2,FALSE),"") | J28: =_xludf.CONCAT("M",H28,"/","F",I28) -> #NAME?
A29: 23 | B29: =B28 -> cde | C29: =C28 -> PM | F29: =IFERROR(VLOOKUP(E29,'CLASSES oiseau'!B2:C27637,2,FALSE),"") | J29: =_xludf.CONCAT("M",H29,"/","F",I29) -> #NAME?
A30: 24 | B30: =B29 -> cde | C30: =C29 -> PM | F30: =IFERROR(VLOOKUP(E30,'CLASSES oiseau'!B2:C27637,2,FALSE),"") | J30: =_xludf.CONCAT("M",H30,"/","F",I30) -> #NAME?
A31: 25 | B31: =B30 -> cde | C31: =C30 -> PM | F31: =IFERROR(VLOOKUP(E31,'CLASSES oiseau'!B2:C27637,2,FALSE),"") | J31: =_xludf.CONCAT("M",H31,"/","F",I31) -> #NAME?
A32: Un changement de sujet ne pourra être fait que s'il appartient exactement à la même section et à la même classe
A33: Vous pouvez dupliquer cette feuille et la transmettre à vos amis.
A34: Si nécessaire, joindre copie du certificat de capacité ou de l'autorisation de détention.Les organisateurs déclinent toute responsabilité en cas d'annulation de la manifestation ( décision ministérielle ou autre) Tout exposant accepte que ses oiseaux puissent être filmés ou photographiés librement, et en autorise la diffusion.
A37: IND | C37: 3 | E37: =C37*D37 -> 0 | G37: Les cageots doivent toujours être accompagnés d'une feuille d'encagement..Pour les oiseaux arrivant par convoyeur
A38: DUO | C38: 5 | E38: =C38*D38 -> 0
A39: stam | C39: 10 | E39: =C39*D39 -> 0 | G39: Convoyeur M.
A40: CAGE | C40: 2 | E40: =C40*D40 -> 0 | G40: Repris par M.
A41: inscription | C41: 5 | E41: =C41*D41 -> 0 | G41: Par la signature de cette feuille, je décharge les organisateurs de toute responsabilité pour les accidents pouvant survenir à moi-même ou à mes oiseaux.
A42: Repas Samedi | C42: 15 | E42: =C42*D42 -> 0
A43: Repas Dimanche | C43: 20 | E43: =C43*D43 -> 0
C44: TOTAL | D44: =SUM(E37:E43) -> 0
G45: Date : | L45: Signature : | P45: Signature :
A46: ='CONCOURS INDIVIDUEL F1'!A46 -> A renvoyer le FICHIER EXCEL avant le 11 Septembre 2026 Daniel PAGNON 153, chemin grande draille des paluds ou daniel.pagnon.1968@gmail.com

Sheet CONCOURS  INDIVIDUEL F3
E2: ='CONCOURS INDIVIDUEL F1'!D2 -> CONCOURS / BOURSE SORGUES 26 & 27 - 09 - 2026
B4: NOM | D4: PRENON | F4: ADRESSE | G4: CODE POSTAL | I4: VILLE | K4: TELEPHONE | M4: MAIL
B5: ='CONCOURS INDIVIDUEL F1'!B5 -> pascal | D5: ='CONCOURS INDIVIDUEL F1'!D5 -> mOrice | F5: ='CONCOURS INDIVIDUEL F1'!F5 -> 1510 rte oraoires | G5: ='CONCOURS INDIVIDUEL F1'!G5 -> 83332 | I5: ='CONCOURS INDIVIDUEL F1'!I5 -> castellet | K5: ='CONCOURS INDIVIDUEL F1'!K5 -> 663831252 | M5: ='CONCOURS INDIVIDUEL F1'!M5 -> mpasca@sfr.fr
A7: FEUILLE | E7: REGION | F7: CLUB | G7: SOUCHE | J7: AUTRES SOUCHES | M7: Nbre oiseaux
A8: N° | B8: 3 | E8: ='CONCOURS INDIVIDUEL F1'!E8 -> cde | F8: ='CONCOURS INDIVIDUEL F1'!F8 -> ocp | G8: ='CONCOURS INDIVIDUEL F1'!G8 -> PM | J8: ='CONCOURS INDIVIDUEL F1'!J8 -> SOUC1 | K8: ='CONCOURS INDIVIDUEL F1'!K8 -> SOUC2 | M8: Nbre cages
A9: RENSEIGNER POUR LES OISEAUX 1- LE TYPE 2- LA CLASSE 3 -LE SEXE ( M F C ? ) 4 - LE N° DE BAGUE MALE OU FEMELLE POUR LES COUPLE LES DEUX 5 -L'ANNEE 6-LE PRIX 7- EXPOSITION (OUI/NON)8- CAGE PERSONELLE (OUI/NON)
A10: NINSC | B10: REGION | C10: SOUCHE | D10: TYPE | E10: CLASSE | F10: DESIGNATION | G10: SEXE | H10: BAGUE MALE | I10: BAGUE FEMELLE | J10: BAGUE | K10: ANNEE | L10: PRIX | M10: EXPOSITION OUI /NON | N10: CAGE PERSONNEL
A11: 1 | B11: =E8 -> cde | C11: =G8 -> PM | F11: =IFERROR(VLOOKUP(E11,'CLASSES oiseau'!B1:C27636,2,FALSE),"") | J11: =_xludf.CONCAT("M",H11,"/","F",I11) -> #NAME? | BHF11: =IFERROR(VLOOKUP(G11,'CLASSES oiseau'!D2:E27637,2,FALSE),"")
A12: 2 | B12: =B11 -> cde | C12: =C11 -> PM | F12: =IFERROR(VLOOKUP(E12,'CLASSES oiseau'!B2:C27637,2,FALSE),"") | J12: =_xludf.CONCAT("M",H12,"/","F",I12) -> #NAME?
A13: 3 | B13: =B12 -> cde | C13: =C12 -> PM | F13: =IFERROR(VLOOKUP(E13,'CLASSES oiseau'!B3:C27638,2,FALSE),"") | J13: =_xludf.CONCAT("M",H13,"/","F",I13) -> #NAME?
A14: 4 | B14: =B13 -> cde | C14: =C13 -> PM | F14: =IFERROR(VLOOKUP(E14,'CLASSES oiseau'!B2:C27640,2,FALSE),"") | J14: =_xludf.CONCAT("M",H14,"/","F",I14) -> #NAME?
A15: 5 | B15: =B14 -> cde | C15: =C14 -> PM | F15: =IFERROR(VLOOKUP(E15,'CLASSES oiseau'!B2:C27637,2,FALSE),"") | J15: =_xludf.CONCAT("M",H15,"/","F",I15) -> #NAME?
A16: 6 | B16: =B15 -> cde | C16: =C15 -> PM | F16: =IFERROR(VLOOKUP(E16,'CLASSES oiseau'!B2:C27637,2,FALSE),"") | J16: =_xludf.CONCAT("M",H16,"/","F",I16) -> #NAME?
A17: 7 | B17: =B16 -> cde | C17: =C16 -> PM | F17: =IFERROR(VLOOKUP(E17,'CLASSES oiseau'!B2:C27637,2,FALSE),"") | J17: =_xludf.CONCAT("M",H17,"/","F",I17) -> #NAME?
A18: 8 | B18: =B17 -> cde | C18: =C17 -> PM | F18: =IFERROR(VLOOKUP(E18,'CLASSES oiseau'!B2:C27637,2,FALSE),"") | J18: =_xludf.CONCAT("M",H18,"/","F",I18) -> #NAME?
A19: 9 | B19: =B18 -> cde | C19: =C18 -> PM | F19: =IFERROR(VLOOKUP(E19,'CLASSES oiseau'!B2:C27637,2,FALSE),"") | J19: =_xludf.CONCAT("M",H19,"/","F",I19) -> #NAME?
A20: 10 | B20: =B19 -> cde | C20: =C19 -> PM | F20: =IFERROR(VLOOKUP(E20,'CLASSES oiseau'!B2:C27637,2,FALSE),"") | J20: =_xludf.CONCAT("M",H20,"/","F",I20) -> #NAME?
A21: 11 | B21: =B20 -> cde | C21: =C20 -> PM | F21: =IFERROR(VLOOKUP(E21,'CLASSES oiseau'!B2:C27637,2,FALSE),"") | J21: =_xludf.CONCAT("M",H21,"/","F",I21) -> #NAME?
A22: 12 | B22: =B21 -> cde | C22: =C21 -> PM | F22: =IFERROR(VLOOKUP(E22,'CLASSES oiseau'!B2:C27637,2,FALSE),"") | J22: =_xludf.CONCAT("M",H22,"/","F",I22) -> #NAME?
A23: 13 | B23: =B22 -> cde | C23: =C22 -> PM | F23: =IFERROR(VLOOKUP(E23,'CLASSES oiseau'!B2:C27637,2,FALSE),"") | J23: =_xludf.CONCAT("M",H23,"/","F",I23) -> #NAME?
A24: 14 | B24: =B23 -> cde | C24: =C23 -> PM | F24: =IFERROR(VLOOKUP(E24,'CLASSES oiseau'!B2:C27637,2,FALSE),"") | J24: =_xludf.CONCAT("M",H24,"/","F",I24) -> #NAME?
A25: 15 | B25: =B24 -> cde | C25: =C24 -> PM | F25: =IFERROR(VLOOKUP(E25,'CLASSES oiseau'!B2:C27637,2,FALSE),"") | J25: =_xludf.CONCAT("M",H25,"/","F",I25) -> #NAME?
A26: 16 | B26: =B25 -> cde | C26: =C25 -> PM | F26: =IFERROR(VLOOKUP(E26,'CLASSES oiseau'!B2:C27637,2,FALSE),"") | J26: =_xludf.CONCAT("M",H26,"/","F",I26) -> #NAME?
A27: 17 | B27: =B26 -> cde | C27: =C26 -> PM | F27: =IFERROR(VLOOKUP(E27,'CLASSES oiseau'!B2:C27637,2,FALSE),"") | J27: =_xludf.CONCAT("M",H27,"/","F",I27) -> #NAME?
A28: 18 | B28: =B27 -> cde | C28: =C27 -> PM | F28: =IFERROR(VLOOKUP(E28,'CLASSES oiseau'!B2:C27637,2,FALSE),"") | J28: =_xludf.CONCAT("M",H28,"/","F",I28) -> #NAME?
A29: 19 | B29: =B28 -> cde | C29: =C28 -> PM | F29: =IFERROR(VLOOKUP(E29,'CLASSES oiseau'!B2:C27637,2,FALSE),"") | J29: =_xludf.CONCAT("M",H29,"/","F",I29) -> #NAME?
A30: 20 | B30: =B29 -> cde | C30: =C29 -> PM | F30: =IFERROR(VLOOKUP(E30,'CLASSES oiseau'!B2:C27637,2,FALSE),"") | J30: =_xludf.CONCAT("M",H30,"/","F",I30) -> #NAME?
A31: 21 | B31: =B30 -> cde | C31: =C30 -> PM | F31: =IFERROR(VLOOKUP(E31,'CLASSES oiseau'!B2:C27637,2,FALSE),"") | J31: =_xludf.CONCAT("M",H31,"/","F",I31) -> #NAME?
A32: Un changement de sujet ne pourra être fait que s'il appartient exactement à la même section et à la même classe
A33: Vous pouvez dupliquer cette feuille et la transmettre à vos amis.
A34: Si nécessaire, joindre copie du certificat de capacité ou de l'autorisation de détention.Les organisateurs déclinent toute responsabilité en cas d'annulation de la manifestation ( décision ministérielle ou autre) Tout exposant accepte que ses oiseaux puissent être filmés ou photographiés librement, et en autorise la diffusion.
A37: IND | C37: 3 | E37: =C37*D37 -> 0 | G37: Les cageots doivent toujours être accompagnés d'une feuille d'encagement..Pour les oiseaux arrivant par convoyeur
A38: DUO | C38: 5 | E38: =C38*D38 -> 0
A39: stam | C39: 10 | E39: =C39*D39 -> 0 | G39: Convoyeur M.
A40: CAGE | C40: 2 | E40: =C40*D40 -> 0 | G40: Repris par M.
A41: inscription | C41: 5 | E41: =C41*D41 -> 0 | G41: Par la signature de cette feuille, je décharge les organisateurs de toute responsabilité pour les accidents pouvant survenir à moi-même ou à mes oiseaux.
A42: Repas Samedi | C42: 15 | E42: =C42*D42 -> 0
A43: Repas Dimanche | C43: 20 | E43: =C43*D43 -> 0
C44: TOTAL | D44: =SUM(E37:E43) -> 0
G45: Date : | L45: Signature : | P45: Signature :
A46: ='CONCOURS INDIVIDUEL F1'!A46 -> A renvoyer le FICHIER EXCEL avant le 11 Septembre 2026 Daniel PAGNON 153, chemin grande draille des paluds ou daniel.pagnon.1968@gmail.com

Sheet CONCOURS DUO F1
E2: ='CONCOURS INDIVIDUEL F1'!D2 -> CONCOURS / BOURSE SORGUES 26 & 27 - 09 - 2026
B4: NOM | D4: PRENON | F4: ADRESSE | G4: CODE POSTAL | I4: VILLE | K4: TELEPHONE | M4: MAIL
B5: ='CONCOURS INDIVIDUEL F1'!B5 -> pascal | D5: ='CONCOURS INDIVIDUEL F1'!D5 -> mOrice | F5: ='CONCOURS INDIVIDUEL F1'!F5 -> 1510 rte oraoires | G5: ='CONCOURS INDIVIDUEL F1'!G5 -> 83332 | I5: ='CONCOURS INDIVIDUEL F1'!I5 -> castellet | K5: ='CONCOURS INDIVIDUEL F1'!K5 -> 663831252 | M5: ='CONCOURS INDIVIDUEL F1'!M5 -> mpasca@sfr.fr
A7: FEUILLE | E7: REGION | F7: CLUB | G7: SOUCHE | J7: AUTRES SOUCHES | M7: Nbre oiseaux
A8: N° | B8: 1 | E8: ='CONCOURS INDIVIDUEL F1'!E8 -> cde | F8: ='CONCOURS INDIVIDUEL F1'!F8 -> ocp | G8: ='CONCOURS INDIVIDUEL F1'!G8 -> PM | J8: ='CONCOURS INDIVIDUEL F1'!J8 -> SOUC1 | K8: ='CONCOURS INDIVIDUEL F1'!K8 -> SOUC2 | M8: Nbre cages
A9: RENSEIGNER POUR LES OISEAUX 1- LE TYPE 2- LA CLASSE 3 -LE SEXE ( M F C ? ) 4 - LE N° DE BAGUE MALE OU FEMELLE POUR LES COUPLE LES DEUX 5 -L'ANNEE 6-LE PRIX 7- EXPOSITION (OUI/NON)8- CAGE PERSONELLE (OUI/NON)
A10: NINSC | B10: REGION | C10: SOUCHE | D10: TYPE | E10: CLASSE | F10: DESIGNATION | G10: SEXE | H10: BAGUE MALE | I10: BAGUE FEMELLE | J10: BAGUE | K10: ANNEE | L10: PRIX | M10: EXPOSITION OUI /NON | N10: CAGE PERSONNEL
A11: 1 | B11: =E8 -> cde | C11: =G8 -> PM | F11: =IFERROR(VLOOKUP(E11,'CLASSES oiseau'!B1:C27636,2,FALSE),"") | BHF11: =IFERROR(VLOOKUP(G11,'CLASSES oiseau'!D2:E27637,2,FALSE),"")
A12: 2 | B12: =B11 -> cde | C12: =C11 -> PM | E12: =E11 -> 0 | F12: =IFERROR(VLOOKUP(E12,'CLASSES oiseau'!B2:C27637,2,FALSE),"")
A13: 3 | B13: =B12 -> cde | C13: =C12 -> PM | F13: =IFERROR(VLOOKUP(E13,'CLASSES oiseau'!B3:C27638,2,FALSE),"")
A14: 4 | B14: =B13 -> cde | C14: =C13 -> PM | E14: =E13 -> 0 | F14: =IFERROR(VLOOKUP(E14,'CLASSES oiseau'!B4:C27639,2,FALSE),"")
A15: 5 | B15: =B14 -> cde | C15: =C14 -> PM | F15: =IFERROR(VLOOKUP(E15,'CLASSES oiseau'!B5:C27640,2,FALSE),"")
A16: 6 | B16: =B15 -> cde | C16: =C15 -> PM | E16: =E15 -> 0 | F16: =IFERROR(VLOOKUP(E16,'CLASSES oiseau'!B6:C27641,2,FALSE),"")
A17: 7 | B17: =B16 -> cde | C17: =C16 -> PM | F17: =IFERROR(VLOOKUP(E17,'CLASSES oiseau'!B7:C27642,2,FALSE),"")
A18: 8 | B18: =B17 -> cde | C18: =C17 -> PM | E18: =E17 -> 0 | F18: =IFERROR(VLOOKUP(E18,'CLASSES oiseau'!B8:C27643,2,FALSE),"")
A19: 9 | B19: =B18 -> cde | C19: =C18 -> PM | F19: =IFERROR(VLOOKUP(E19,'CLASSES oiseau'!B9:C27644,2,FALSE),"")
A20: 10 | B20: =B19 -> cde | C20: =C19 -> PM | E20: =E19 -> 0 | F20: =IFERROR(VLOOKUP(E20,'CLASSES oiseau'!B10:C27645,2,FALSE),"")
A21: 11 | B21: =B20 -> cde | C21: =C20 -> PM | F21: =IFERROR(VLOOKUP(E21,'CLASSES oiseau'!B11:C27646,2,FALSE),"")
A22: 12 | B22: =B21 -> cde | C22: =C21 -> PM | E22: =E21 -> 0 | F22: =IFERROR(VLOOKUP(E22,'CLASSES oiseau'!B12:C27647,2,FALSE),"")
A23: 13 | B23: =B22 -> cde | C23: =C22 -> PM | F23: =IFERROR(VLOOKUP(E23,'CLASSES oiseau'!B13:C27648,2,FALSE),"")
A24: 14 | B24: =B23 -> cde | C24: =C23 -> PM | E24: =E23 -> 0 | F24: =IFERROR(VLOOKUP(E24,'CLASSES oiseau'!B14:C27649,2,FALSE),"")
A25: 15 | B25: =B24 -> cde | C25: =C24 -> PM | F25: =IFERROR(VLOOKUP(E25,'CLASSES oiseau'!B15:C27650,2,FALSE),"")
A26: 16 | B26: =B25 -> cde | C26: =C25 -> PM | E26: =E25 -> 0 | F26: =IFERROR(VLOOKUP(E26,'CLASSES oiseau'!B16:C27651,2,FALSE),"")
A27: 17 | B27: =B26 -> cde | C27: =C26 -> PM | F27: =IFERROR(VLOOKUP(E27,'CLASSES oiseau'!B17:C27652,2,FALSE),"")
A28: 18 | B28: =B27 -> cde | C28: =C27 -> PM | E28: =E27 -> 0 | F28: =IFERROR(VLOOKUP(E28,'CLASSES oiseau'!B18:C27653,2,FALSE),"")
A29: 19 | B29: =B28 -> cde | C29: =C28 -> PM | F29: =IFERROR(VLOOKUP(E29,'CLASSES oiseau'!B19:C27654,2,FALSE),"")
A30: 20 | B30: =B29 -> cde | C30: =C29 -> PM | E30: =E29 -> 0 | F30: =IFERROR(VLOOKUP(E30,'CLASSES oiseau'!B20:C27655,2,FALSE),"")
A31: 21 | B31: =B30 -> cde | C31: =C30 -> PM | F31: =IFERROR(VLOOKUP(E31,'CLASSES oiseau'!B21:C27656,2,FALSE),"")
A32: 22 | B32: =B31 -> cde | C32: =C31 -> PM | E32: =E31 -> 0 | F32: =IFERROR(VLOOKUP(E32,'CLASSES oiseau'!B22:C27657,2,FALSE),"")
A33: 23 | B33: =B32 -> cde | C33: =C32 -> PM | F33: =IFERROR(VLOOKUP(E33,'CLASSES oiseau'!B23:C27658,2,FALSE),"")
A34: 24 | B34: =B33 -> cde | C34: =C33 -> PM | E34: =E33 -> 0 | F34: =IFERROR(VLOOKUP(E34,'CLASSES oiseau'!B24:C27659,2,FALSE),"")
A35: Un changement de sujet ne pourra être fait que s'il appartient exactement à la même section et à la même classe
A36: Vous pouvez dupliquer cette feuille et la transmettre à vos amis.
A37: Si nécessaire, joindre copie du certificat de capacité ou de l'autorisation de détention.Les organisateurs déclinent toute responsabilité en cas d'annulation de la manifestation ( décision ministérielle ou autre) Tout exposant accepte que ses oiseaux puissent être filmés ou photographiés librement, et en autorise la diffusion.
A40: IND | C40: 3 | E40: =C40*D40 -> 0 | G40: Les cageots doivent toujours être accompagnés d'une feuille d'encagement..Pour les oiseaux arrivant par convoyeur
A41: DUO | C41: 5 | E41: =C41*D41 -> 0
A42: stam | C42: 10 | E42: =C42*D42 -> 0 | G42: Convoyeur M.
A43: CAGE | C43: 2 | E43: =C43*D43 -> 0 | G43: Repris par M.
A44: inscription | C44: 5 | E44: =C44*D44 -> 0 | G44: Par la signature de cette feuille, je décharge les organisateurs de toute responsabilité pour les accidents pouvant survenir à moi-même ou à mes oiseaux.
A45: Repas Samedi | C45: 15 | E45: =C45*D45 -> 0
A46: Repas Dimanche | C46: 20 | E46: =C46*D46 -> 0
C47: TOTAL | D47: =SUM(E40:E46) -> 0
G48: Date : | L48: Signature : | P48: Signature :
A49: ='CONCOURS INDIVIDUEL F1'!A46 -> A renvoyer le FICHIER EXCEL avant le 11 Septembre 2026 Daniel PAGNON 153, chemin grande draille des paluds ou daniel.pagnon.1968@gmail.com

Sheet CONCOURS DUO F2
E2: ='CONCOURS INDIVIDUEL F1'!D2 -> CONCOURS / BOURSE SORGUES 26 & 27 - 09 - 2026
B4: NOM | D4: PRENON | F4: ADRESSE | G4: CODE POSTAL | I4: VILLE | K4: TELEPHONE | M4: MAIL
B5: ='CONCOURS INDIVIDUEL F1'!B5 -> pascal | D5: ='CONCOURS INDIVIDUEL F1'!D5 -> mOrice | F5: ='CONCOURS INDIVIDUEL F1'!F5 -> 1510 rte oraoires | G5: ='CONCOURS INDIVIDUEL F1'!G5 -> 83332 | I5: ='CONCOURS INDIVIDUEL F1'!I5 -> castellet | K5: ='CONCOURS INDIVIDUEL F1'!K5 -> 663831252 | M5: ='CONCOURS INDIVIDUEL F1'!M5 -> mpasca@sfr.fr
A7: FEUILLE | E7: REGION | F7: CLUB | G7: SOUCHE | J7: AUTRES SOUCHES | M7: Nbre oiseaux
A8: N° | B8: 2 | E8: ='CONCOURS INDIVIDUEL F1'!E8 -> cde | F8: ='CONCOURS INDIVIDUEL F1'!F8 -> ocp | G8: ='CONCOURS INDIVIDUEL F1'!G8 -> PM | J8: ='CONCOURS INDIVIDUEL F1'!J8 -> SOUC1 | K8: ='CONCOURS INDIVIDUEL F1'!K8 -> SOUC2 | M8: Nbre cages
A9: RENSEIGNER POUR LES OISEAUX 1- LE TYPE 2- LA CLASSE 3 -LE SEXE ( M F C ? ) 4 - LE N° DE BAGUE MALE OU FEMELLE POUR LES COUPLE LES DEUX 5 -L'ANNEE 6-LE PRIX 7- EXPOSITION (OUI/NON)8- CAGE PERSONELLE (OUI/NON)
A10: NINSC | B10: REGION | C10: SOUCHE | D10: TYPE | E10: CLASSE | F10: DESIGNATION | G10: SEXE | H10: BAGUE MALE | I10: BAGUE FEMELLE | J10: BAGUE | K10: ANNEE | L10: PRIX | M10: EXPOSITION OUI /NON | N10: CAGE PERSONNEL
A11: 1 | B11: =E8 -> cde | C11: =G8 -> PM | F11: =IFERROR(VLOOKUP(E11,'CLASSES oiseau'!B1:C27636,2,FALSE),"") | BHF11: =IFERROR(VLOOKUP(G11,'CLASSES oiseau'!D2:E27637,2,FALSE),"")
A12: 2 | B12: =B11 -> cde | C12: =C11 -> PM | E12: =E11 -> 0 | F12: =IFERROR(VLOOKUP(E12,'CLASSES oiseau'!B2:C27637,2,FALSE),"")
A13: 3 | B13: =B12 -> cde | C13: =C12 -> PM | F13: =IFERROR(VLOOKUP(E13,'CLASSES oiseau'!B3:C27638,2,FALSE),"")
A14: 4 | B14: =B13 -> cde | C14: =C13 -> PM | E14: =E13 -> 0 | F14: =IFERROR(VLOOKUP(E14,'CLASSES oiseau'!B4:C27639,2,FALSE),"")
A15: 5 | B15: =B14 -> cde | C15: =C14 -> PM | F15: =IFERROR(VLOOKUP(E15,'CLASSES oiseau'!B5:C27640,2,FALSE),"") | J15: =_xludf.CONCAT("M",H15,"/","F",I15) -> #NAME?
A16: 6 | B16: =B15 -> cde | C16: =C15 -> PM | E16: =E15 -> 0 | F16: =IFERROR(VLOOKUP(E16,'CLASSES oiseau'!B6:C27641,2,FALSE),"") | J16: =_xludf.CONCAT("M",H16,"/","F",I16) -> #NAME?
A17: 7 | B17: =B16 -> cde | C17: =C16 -> PM | F17: =IFERROR(VLOOKUP(E17,'CLASSES oiseau'!B7:C27642,2,FALSE),"") | J17: =_xludf.CONCAT("M",H17,"/","F",I17) -> #NAME?
A18: 8 | B18: =B17 -> cde | C18: =C17 -> PM | E18: =E17 -> 0 | F18: =IFERROR(VLOOKUP(E18,'CLASSES oiseau'!B8:C27643,2,FALSE),"") | J18: =_xludf.CONCAT("M",H18,"/","F",I18) -> #NAME?
A19: 9 | B19: =B18 -> cde | C19: =C18 -> PM | F19: =IFERROR(VLOOKUP(E19,'CLASSES oiseau'!B9:C27644,2,FALSE),"") | J19: =_xludf.CONCAT("M",H19,"/","F",I19) -> #NAME?
A20: 10 | B20: =B19 -> cde | C20: =C19 -> PM | E20: =E19 -> 0 | F20: =IFERROR(VLOOKUP(E20,'CLASSES oiseau'!B10:C27645,2,FALSE),"") | J20: =_xludf.CONCAT("M",H20,"/","F",I20) -> #NAME?
A21: 11 | B21: =B20 -> cde | C21: =C20 -> PM | F21: =IFERROR(VLOOKUP(E21,'CLASSES oiseau'!B11:C27646,2,FALSE),"") | J21: =_xludf.CONCAT("M",H21,"/","F",I21) -> #NAME?
A22: 12 | B22: =B21 -> cde | C22: =C21 -> PM | E22: =E21 -> 0 | F22: =IFERROR(VLOOKUP(E22,'CLASSES oiseau'!B12:C27647,2,FALSE),"") | J22: =_xludf.CONCAT("M",H22,"/","F",I22) -> #NAME?
A23: 13 | B23: =B22 -> cde | C23: =C22 -> PM | F23: =IFERROR(VLOOKUP(E23,'CLASSES oiseau'!B13:C27648,2,FALSE),"") | J23: =_xludf.CONCAT("M",H23,"/","F",I23) -> #NAME?
A24: 14 | B24: =B23 -> cde | C24: =C23 -> PM | E24: =E23 -> 0 | F24: =IFERROR(VLOOKUP(E24,'CLASSES oiseau'!B14:C27649,2,FALSE),"") | J24: =_xludf.CONCAT("M",H24,"/","F",I24) -> #NAME?
A25: 15 | B25: =B24 -> cde | C25: =C24 -> PM | F25: =IFERROR(VLOOKUP(E25,'CLASSES oiseau'!B15:C27650,2,FALSE),"") | J25: =_xludf.CONCAT("M",H25,"/","F",I25) -> #NAME?
A26: 16 | B26: =B25 -> cde | C26: =C25 -> PM | E26: =E25 -> 0 | F26: =IFERROR(VLOOKUP(E26,'CLASSES oiseau'!B16:C27651,2,FALSE),"") | J26: =_xludf.CONCAT("M",H26,"/","F",I26) -> #NAME?
A27: 17 | B27: =B26 -> cde | C27: =C26 -> PM | F27: =IFERROR(VLOOKUP(E27,'CLASSES oiseau'!B17:C27652,2,FALSE),"") | J27: =_xludf.CONCAT("M",H27,"/","F",I27) -> #NAME?
A28: 18 | B28: =B27 -> cde | C28: =C27 -> PM | E28: =E27 -> 0 | F28: =IFERROR(VLOOKUP(E28,'CLASSES oiseau'!B18:C27653,2,FALSE),"") | J28: =_xludf.CONCAT("M",H28,"/","F",I28) -> #NAME?
A29: 19 | B29: =B28 -> cde | C29: =C28 -> PM | F29: =IFERROR(VLOOKUP(E29,'CLASSES oiseau'!B19:C27654,2,FALSE),"") | J29: =_xludf.CONCAT("M",H29,"/","F",I29) -> #NAME?
A30: 20 | B30: =B29 -> cde | C30: =C29 -> PM | E30: =E29 -> 0 | F30: =IFERROR(VLOOKUP(E30,'CLASSES oiseau'!B20:C27655,2,FALSE),"") | J30: =_xludf.CONCAT("M",H30,"/","F",I30) -> #NAME?
A31: 21 | B31: =B30 -> cde | C31: =C30 -> PM | F31: =IFERROR(VLOOKUP(E31,'CLASSES oiseau'!B21:C27656,2,FALSE),"") | J31: =_xludf.CONCAT("M",H31,"/","F",I31) -> #NAME?
A32: 22 | B32: =B31 -> cde | C32: =C31 -> PM | E32: =E31 -> 0 | F32: =IFERROR(VLOOKUP(E32,'CLASSES oiseau'!B22:C27657,2,FALSE),"") | J32: =_xludf.CONCAT("M",H32,"/","F",I32) -> #NAME?
A33: 23 | B33: =B32 -> cde | C33: =C32 -> PM | F33: =IFERROR(VLOOKUP(E33,'CLASSES oiseau'!B23:C27658,2,FALSE),"") | J33: =_xludf.CONCAT("M",H33,"/","F",I33) -> #NAME?
A34: 24 | B34: =B33 -> cde | C34: =C33 -> PM | E34: =E33 -> 0 | F34: =IFERROR(VLOOKUP(E34,'CLASSES oiseau'!B24:C27659,2,FALSE),"") | J34: =_xludf.CONCAT("M",H34,"/","F",I34) -> #NAME?
A35: Un changement de sujet ne pourra être fait que s'il appartient exactement à la même section et à la même classe
A36: Vous pouvez dupliquer cette feuille et la transmettre à vos amis.
A37: Si nécessaire, joindre copie du certificat de capacité ou de l'autorisation de détention.Les organisateurs déclinent toute responsabilité en cas d'annulation de la manifestation ( décision ministérielle ou autre) Tout exposant accepte que ses oiseaux puissent être filmés ou photographiés librement, et en autorise la diffusion.
A40: IND | C40: 3 | E40: =C40*D40 -> 0 | G40: Les cageots doivent toujours être accompagnés d'une feuille d'encagement..Pour les oiseaux arrivant par convoyeur
A41: DUO | C41: 5 | E41: =C41*D41 -> 0
A42: stam | C42: 10 | E42: =C42*D42 -> 0 | G42: Convoyeur M.
A43: CAGE | C43: 2 | E43: =C43*D43 -> 0 | G43: Repris par M.
A44: inscription | C44: 5 | E44: =C44*D44 -> 0 | G44: Par la signature de cette feuille, je décharge les organisateurs de toute responsabilité pour les accidents pouvant survenir à moi-même ou à mes oiseaux.
A45: Repas Samedi | C45: 15 | E45: =C45*D45 -> 0
A46: Repas Dimanche | C46: 20 | E46: =C46*D46 -> 0
C47: TOTAL | D47: =SUM(E40:E46) -> 0
G48: Date : | L48: Signature : | P48: Signature :
A49: ='CONCOURS INDIVIDUEL F1'!A46 -> A renvoyer le FICHIER EXCEL avant le 11 Septembre 2026 Daniel PAGNON 153, chemin grande draille des paluds ou daniel.pagnon.1968@gmail.com

Sheet CONCOURS DUO F3
E2: ='CONCOURS INDIVIDUEL F1'!D2 -> CONCOURS / BOURSE SORGUES 26 & 27 - 09 - 2026
B4: NOM | D4: PRENON | F4: ADRESSE | G4: CODE POSTAL | I4: VILLE | K4: TELEPHONE | M4: MAIL
B5: ='CONCOURS INDIVIDUEL F1'!B5 -> pascal | D5: ='CONCOURS INDIVIDUEL F1'!D5 -> mOrice | F5: ='CONCOURS INDIVIDUEL F1'!F5 -> 1510 rte oraoires | G5: ='CONCOURS INDIVIDUEL F1'!G5 -> 83332 | I5: ='CONCOURS INDIVIDUEL F1'!I5 -> castellet | K5: ='CONCOURS INDIVIDUEL F1'!K5 -> 663831252 | M5: ='CONCOURS INDIVIDUEL F1'!M5 -> mpasca@sfr.fr
A7: FEUILLE | E7: REGION | F7: CLUB | G7: SOUCHE | J7: AUTRES SOUCHES | M7: Nbre oiseaux
A8: N° | B8: 3 | E8: ='CONCOURS INDIVIDUEL F1'!E8 -> cde | F8: ='CONCOURS INDIVIDUEL F1'!F8 -> ocp | G8: ='CONCOURS INDIVIDUEL F1'!G8 -> PM | J8: ='CONCOURS INDIVIDUEL F1'!J8 -> SOUC1 | K8: ='CONCOURS INDIVIDUEL F1'!K8 -> SOUC2 | M8: Nbre cages
A9: RENSEIGNER POUR LES OISEAUX 1- LE TYPE 2- LA CLASSE 3 -LE SEXE ( M F C ? ) 4 - LE N° DE BAGUE MALE OU FEMELLE POUR LES COUPLE LES DEUX 5 -L'ANNEE 6-LE PRIX 7- EXPOSITION (OUI/NON)8- CAGE PERSONELLE (OUI/NON)
A10: NINSC | B10: REGION | C10: SOUCHE | D10: TYPE | E10: CLASSE | F10: DESIGNATION | G10: SEXE | H10: BAGUE MALE | I10: BAGUE FEMELLE | J10: BAGUE | K10: ANNEE | L10: PRIX | M10: EXPOSITION OUI /NON | N10: CAGE PERSONNEL
A11: 1 | B11: =E8 -> cde | C11: =G8 -> PM | F11: =IFERROR(VLOOKUP(E11,'CLASSES oiseau'!B1:C27636,2,FALSE),"") | J11: =_xludf.CONCAT("M",H11,"/","F",I11) -> #NAME? | BHF11: =IFERROR(VLOOKUP(G11,'CLASSES oiseau'!D2:E27637,2,FALSE),"")
A12: 2 | B12: =B11 -> cde | C12: =C11 -> PM | E12: =E11 -> 0 | F12: =IFERROR(VLOOKUP(E12,'CLASSES oiseau'!B2:C27637,2,FALSE),"") | J12: =_xludf.CONCAT("M",H12,"/","F",I12) -> #NAME?
A13: 3 | B13: =B12 -> cde | C13: =C12 -> PM | F13: =IFERROR(VLOOKUP(E13,'CLASSES oiseau'!B3:C27638,2,FALSE),"") | J13: =_xludf.CONCAT("M",H13,"/","F",I13) -> #NAME?
A14: 4 | B14: =B13 -> cde | C14: =C13 -> PM | E14: =E13 -> 0 | F14: =IFERROR(VLOOKUP(E14,'CLASSES oiseau'!B4:C27639,2,FALSE),"") | J14: =_xludf.CONCAT("M",H14,"/","F",I14) -> #NAME?
A15: 5 | B15: =B14 -> cde | C15: =C14 -> PM | F15: =IFERROR(VLOOKUP(E15,'CLASSES oiseau'!B5:C27640,2,FALSE),"") | J15: =_xludf.CONCAT("M",H15,"/","F",I15) -> #NAME?
A16: 6 | B16: =B15 -> cde | C16: =C15 -> PM | E16: =E15 -> 0 | F16: =IFERROR(VLOOKUP(E16,'CLASSES oiseau'!B6:C27641,2,FALSE),"") | J16: =_xludf.CONCAT("M",H16,"/","F",I16) -> #NAME?
A17: 7 | B17: =B16 -> cde | C17: =C16 -> PM | F17: =IFERROR(VLOOKUP(E17,'CLASSES oiseau'!B7:C27642,2,FALSE),"") | J17: =_xludf.CONCAT("M",H17,"/","F",I17) -> #NAME?
A18: 8 | B18: =B17 -> cde | C18: =C17 -> PM | E18: =E17 -> 0 | F18: =IFERROR(VLOOKUP(E18,'CLASSES oiseau'!B8:C27643,2,FALSE),"") | J18: =_xludf.CONCAT("M",H18,"/","F",I18) -> #NAME?
A19: 9 | B19: =B18 -> cde | C19: =C18 -> PM | F19: =IFERROR(VLOOKUP(E19,'CLASSES oiseau'!B9:C27644,2,FALSE),"") | J19: =_xludf.CONCAT("M",H19,"/","F",I19) -> #NAME?
A20: 10 | B20: =B19 -> cde | C20: =C19 -> PM | E20: =E19 -> 0 | F20: =IFERROR(VLOOKUP(E20,'CLASSES oiseau'!B10:C27645,2,FALSE),"") | J20: =_xludf.CONCAT("M",H20,"/","F",I20) -> #NAME?
A21: 11 | B21: =B20 -> cde | C21: =C20 -> PM | F21: =IFERROR(VLOOKUP(E21,'CLASSES oiseau'!B11:C27646,2,FALSE),"") | J21: =_xludf.CONCAT("M",H21,"/","F",I21) -> #NAME?
A22: 12 | B22: =B21 -> cde | C22: =C21 -> PM | E22: =E21 -> 0 | F22: =IFERROR(VLOOKUP(E22,'CLASSES oiseau'!B12:C27647,2,FALSE),"") | J22: =_xludf.CONCAT("M",H22,"/","F",I22) -> #NAME?
A23: 13 | B23: =B22 -> cde | C23: =C22 -> PM | F23: =IFERROR(VLOOKUP(E23,'CLASSES oiseau'!B13:C27648,2,FALSE),"") | J23: =_xludf.CONCAT("M",H23,"/","F",I23) -> #NAME?
A24: 14 | B24: =B23 -> cde | C24: =C23 -> PM | E24: =E23 -> 0 | F24: =IFERROR(VLOOKUP(E24,'CLASSES oiseau'!B14:C27649,2,FALSE),"") | J24: =_xludf.CONCAT("M",H24,"/","F",I24) -> #NAME?
A25: 15 | B25: =B24 -> cde | C25: =C24 -> PM | F25: =IFERROR(VLOOKUP(E25,'CLASSES oiseau'!B15:C27650,2,FALSE),"") | J25: =_xludf.CONCAT("M",H25,"/","F",I25) -> #NAME?
A26: 16 | B26: =B25 -> cde | C26: =C25 -> PM | E26: =E25 -> 0 | F26: =IFERROR(VLOOKUP(E26,'CLASSES oiseau'!B16:C27651,2,FALSE),"") | J26: =_xludf.CONCAT("M",H26,"/","F",I26) -> #NAME?
A27: 17 | B27: =B26 -> cde | C27: =C26 -> PM | F27: =IFERROR(VLOOKUP(E27,'CLASSES oiseau'!B17:C27652,2,FALSE),"") | J27: =_xludf.CONCAT("M",H27,"/","F",I27) -> #NAME?
A28: 18 | B28: =B27 -> cde | C28: =C27 -> PM | E28: =E27 -> 0 | F28: =IFERROR(VLOOKUP(E28,'CLASSES oiseau'!B18:C27653,2,FALSE),"") | J28: =_xludf.CONCAT("M",H28,"/","F",I28) -> #NAME?
A29: 19 | B29: =B28 -> cde | C29: =C28 -> PM | F29: =IFERROR(VLOOKUP(E29,'CLASSES oiseau'!B19:C27654,2,FALSE),"") | J29: =_xludf.CONCAT("M",H29,"/","F",I29) -> #NAME?
A30: 20 | B30: =B29 -> cde | C30: =C29 -> PM | E30: =E29 -> 0 | F30: =IFERROR(VLOOKUP(E30,'CLASSES oiseau'!B20:C27655,2,FALSE),"") | J30: =_xludf.CONCAT("M",H30,"/","F",I30) -> #NAME?
A31: 21 | B31: =B30 -> cde | C31: =C30 -> PM | F31: =IFERROR(VLOOKUP(E31,'CLASSES oiseau'!B21:C27656,2,FALSE),"") | J31: =_xludf.CONCAT("M",H31,"/","F",I31) -> #NAME?
A32: 22 | B32: =B31 -> cde | C32: =C31 -> PM | E32: =E31 -> 0 | F32: =IFERROR(VLOOKUP(E32,'CLASSES oiseau'!B22:C27657,2,FALSE),"") | J32: =_xludf.CONCAT("M",H32,"/","F",I32) -> #NAME?
A33: 23 | B33: =B32 -> cde | C33: =C32 -> PM | F33: =IFERROR(VLOOKUP(E33,'CLASSES oiseau'!B23:C27658,2,FALSE),"") | J33: =_xludf.CONCAT("M",H33,"/","F",I33) -> #NAME?
A34: 24 | B34: =B33 -> cde | C34: =C33 -> PM | E34: =E33 -> 0 | F34: =IFERROR(VLOOKUP(E34,'CLASSES oiseau'!B24:C27659,2,FALSE),"") | J34: =_xludf.CONCAT("M",H34,"/","F",I34) -> #NAME?
A35: Un changement de sujet ne pourra être fait que s'il appartient exactement à la même section et à la même classe
A36: Vous pouvez dupliquer cette feuille et la transmettre à vos amis.
A37: Si nécessaire, joindre copie du certificat de capacité ou de l'autorisation de détention.Les organisateurs déclinent toute responsabilité en cas d'annulation de la manifestation ( décision ministérielle ou autre) Tout exposant accepte que ses oiseaux puissent être filmés ou photographiés librement, et en autorise la diffusion.
A40: IND | C40: 3 | E40: =C40*D40 -> 0 | G40: Les cageots doivent toujours être accompagnés d'une feuille d'encagement..Pour les oiseaux arrivant par convoyeur
A41: DUO | C41: 5 | E41: =C41*D41 -> 0
A42: stam | C42: 10 | E42: =C42*D42 -> 0 | G42: Convoyeur M.
A43: CAGE | C43: 2 | E43: =C43*D43 -> 0 | G43: Repris par M.
A44: inscription | C44: 5 | E44: =C44*D44 -> 0 | G44: Par la signature de cette feuille, je décharge les organisateurs de toute responsabilité pour les accidents pouvant survenir à moi-même ou à mes oiseaux.
A45: Repas Samedi | C45: 15 | E45: =C45*D45 -> 0
A46: Repas Dimanche | C46: 20 | E46: =C46*D46 -> 0
C47: TOTAL | D47: =SUM(E40:E46) -> 0
G48: Date : | L48: Signature : | P48: Signature :
A49: ='CONCOURS INDIVIDUEL F1'!A46 -> A renvoyer le FICHIER EXCEL avant le 11 Septembre 2026 Daniel PAGNON 153, chemin grande draille des paluds ou daniel.pagnon.1968@gmail.com

Sheet CONCOURS STAM F1
E2: ='CONCOURS INDIVIDUEL F1'!D2 -> CONCOURS / BOURSE SORGUES 26 & 27 - 09 - 2026
B4: NOM | D4: PRENON | F4: ADRESSE | G4: CODE POSTAL | I4: VILLE | K4: TELEPHONE | M4: MAIL
B5: ='CONCOURS INDIVIDUEL F1'!B5 -> pascal | D5: ='CONCOURS INDIVIDUEL F1'!D5 -> mOrice | F5: ='CONCOURS INDIVIDUEL F1'!F5 -> 1510 rte oraoires | G5: ='CONCOURS INDIVIDUEL F1'!G5 -> 83332 | I5: ='CONCOURS INDIVIDUEL F1'!I5 -> castellet | K5: ='CONCOURS INDIVIDUEL F1'!K5 -> 663831252 | M5: ='CONCOURS INDIVIDUEL F1'!M5 -> mpasca@sfr.fr
A7: FEUILLE | E7: REGION | F7: CLUB | G7: SOUCHE | J7: AUTRES SOUCHES | M7: Nbre oiseaux
A8: N° | B8: 1 | E8: ='CONCOURS INDIVIDUEL F1'!E8 -> cde | F8: ='CONCOURS INDIVIDUEL F1'!F8 -> ocp | G8: ='CONCOURS INDIVIDUEL F1'!G8 -> PM | J8: ='CONCOURS INDIVIDUEL F1'!J8 -> SOUC1 | K8: ='CONCOURS INDIVIDUEL F1'!K8 -> SOUC2 | M8: Nbre cages
A9: RENSEIGNER POUR LES OISEAUX 1- LE TYPE 2- LA CLASSE 3 -LE SEXE ( M F C ? ) 4 - LE N° DE BAGUE MALE OU FEMELLE POUR LES COUPLE LES DEUX 5 -L'ANNEE 6-LE PRIX 7- EXPOSITION (OUI/NON)8- CAGE PERSONELLE (OUI/NON)
A10: NINSC | B10: REGION | C10: SOUCHE | D10: TYPE | E10: CLASSE | F10: DESIGNATION | G10: SEXE | H10: BAGUE MALE | I10: BAGUE FEMELLE | J10: BAGUE | K10: ANNEE | L10: PRIX | M10: EXPOSITION OUI /NON | N10: CAGE PERSONNEL
A11: 1 | B11: =E8 -> cde | C11: =G8 -> PM | F11: =IFERROR(VLOOKUP(E11,'CLASSES oiseau'!B1:C27636,2,FALSE),"") | BHF11: =IFERROR(VLOOKUP(G11,'CLASSES oiseau'!D2:E27637,2,FALSE),"")
A12: 2 | B12: =B11 -> cde | C12: =C11 -> PM | E12: =E11 -> 0 | F12: =IFERROR(VLOOKUP(E12,'CLASSES oiseau'!B2:C27637,2,FALSE),"")
A13: 3 | B13: =B12 -> cde | C13: =C12 -> PM | E13: =E12 -> 0 | F13: =IFERROR(VLOOKUP(E13,'CLASSES oiseau'!B3:C27638,2,FALSE),"")
A14: 4 | B14: =B13 -> cde | C14: =C13 -> PM | E14: =E13 -> 0 | F14: =IFERROR(VLOOKUP(E14,'CLASSES oiseau'!B4:C27639,2,FALSE),"")
A15: 5 | B15: =B14 -> cde | C15: =C14 -> PM | F15: =IFERROR(VLOOKUP(E15,'CLASSES oiseau'!B5:C27640,2,FALSE),"") | J15: =_xludf.CONCAT("M",H15,"/","F",I15) -> #NAME?
A16: 6 | B16: =B15 -> cde | C16: =C15 -> PM | E16: =E15 -> 0 | F16: =IFERROR(VLOOKUP(E16,'CLASSES oiseau'!B6:C27641,2,FALSE),"") | J16: =_xludf.CONCAT("M",H16,"/","F",I16) -> #NAME?
A17: 7 | B17: =B16 -> cde | C17: =C16 -> PM | E17: =E16 -> 0 | F17: =IFERROR(VLOOKUP(E17,'CLASSES oiseau'!B7:C27642,2,FALSE),"") | J17: =_xludf.CONCAT("M",H17,"/","F",I17) -> #NAME?
A18: 8 | B18: =B17 -> cde | C18: =C17 -> PM | E18: =E17 -> 0 | F18: =IFERROR(VLOOKUP(E18,'CLASSES oiseau'!B8:C27643,2,FALSE),"") | J18: =_xludf.CONCAT("M",H18,"/","F",I18) -> #NAME?
A19: 9 | B19: =B18 -> cde | C19: =C18 -> PM | F19: =IFERROR(VLOOKUP(E19,'CLASSES oiseau'!B9:C27644,2,FALSE),"") | J19: =_xludf.CONCAT("M",H19,"/","F",I19) -> #NAME?
A20: 10 | B20: =B19 -> cde | C20: =C19 -> PM | E20: =E19 -> 0 | F20: =IFERROR(VLOOKUP(E20,'CLASSES oiseau'!B10:C27645,2,FALSE),"") | J20: =_xludf.CONCAT("M",H20,"/","F",I20) -> #NAME?
A21: 11 | B21: =B20 -> cde | C21: =C20 -> PM | E21: =E20 -> 0 | F21: =IFERROR(VLOOKUP(E21,'CLASSES oiseau'!B11:C27646,2,FALSE),"") | J21: =_xludf.CONCAT("M",H21,"/","F",I21) -> #NAME?
A22: 12 | B22: =B21 -> cde | C22: =C21 -> PM | E22: =E21 -> 0 | F22: =IFERROR(VLOOKUP(E22,'CLASSES oiseau'!B12:C27647,2,FALSE),"") | J22: =_xludf.CONCAT("M",H22,"/","F",I22) -> #NAME?
A23: 13 | B23: =B22 -> cde | C23: =C22 -> PM | F23: =IFERROR(VLOOKUP(E23,'CLASSES oiseau'!B13:C27648,2,FALSE),"") | J23: =_xludf.CONCAT("M",H23,"/","F",I23) -> #NAME?
A24: 14 | B24: =B23 -> cde | C24: =C23 -> PM | E24: =E23 -> 0 | F24: =IFERROR(VLOOKUP(E24,'CLASSES oiseau'!B14:C27649,2,FALSE),"") | J24: =_xludf.CONCAT("M",H24,"/","F",I24) -> #NAME?
A25: 15 | B25: =B24 -> cde | C25: =C24 -> PM | E25: =E24 -> 0 | F25: =IFERROR(VLOOKUP(E25,'CLASSES oiseau'!B15:C27650,2,FALSE),"") | J25: =_xludf.CONCAT("M",H25,"/","F",I25) -> #NAME?
A26: 16 | B26: =B25 -> cde | C26: =C25 -> PM | E26: =E25 -> 0 | F26: =IFERROR(VLOOKUP(E26,'CLASSES oiseau'!B16:C27651,2,FALSE),"") | J26: =_xludf.CONCAT("M",H26,"/","F",I26) -> #NAME?
A27: 17 | B27: =B26 -> cde | C27: =C26 -> PM | F27: =IFERROR(VLOOKUP(E27,'CLASSES oiseau'!B17:C27652,2,FALSE),"") | J27: =_xludf.CONCAT("M",H27,"/","F",I27) -> #NAME?
A28: 18 | B28: =B27 -> cde | C28: =C27 -> PM | E28: =E27 -> 0 | F28: =IFERROR(VLOOKUP(E28,'CLASSES oiseau'!B18:C27653,2,FALSE),"") | J28: =_xludf.CONCAT("M",H28,"/","F",I28) -> #NAME?
A29: 19 | B29: =B28 -> cde | C29: =C28 -> PM | E29: =E28 -> 0 | F29: =IFERROR(VLOOKUP(E29,'CLASSES oiseau'!B19:C27654,2,FALSE),"") | J29: =_xludf.CONCAT("M",H29,"/","F",I29) -> #NAME?
A30: 20 | B30: =B29 -> cde | C30: =C29 -> PM | E30: =E29 -> 0 | F30: =IFERROR(VLOOKUP(E30,'CLASSES oiseau'!B20:C27655,2,FALSE),"") | J30: =_xludf.CONCAT("M",H30,"/","F",I30) -> #NAME?
A31: 21 | B31: =B30 -> cde | C31: =C30 -> PM | F31: =IFERROR(VLOOKUP(E31,'CLASSES oiseau'!B21:C27656,2,FALSE),"") | J31: =_xludf.CONCAT("M",H31,"/","F",I31) -> #NAME?
A32: 22 | B32: =B31 -> cde | C32: =C31 -> PM | E32: =E31 -> 0 | F32: =IFERROR(VLOOKUP(E32,'CLASSES oiseau'!B22:C27657,2,FALSE),"") | J32: =_xludf.CONCAT("M",H32,"/","F",I32) -> #NAME?
A33: 23 | B33: =B32 -> cde | C33: =C32 -> PM | E33: =E32 -> 0 | F33: =IFERROR(VLOOKUP(E33,'CLASSES oiseau'!B23:C27658,2,FALSE),"") | J33: =_xludf.CONCAT("M",H33,"/","F",I33) -> #NAME?
A34: 24 | B34: =B33 -> cde | C34: =C33 -> PM | E34: =E33 -> 0 | F34: =IFERROR(VLOOKUP(E34,'CLASSES oiseau'!B24:C27659,2,FALSE),"") | J34: =_xludf.CONCAT("M",H34,"/","F",I34) -> #NAME?
A35: Un changement de sujet ne pourra être fait que s'il appartient exactement à la même section et à la même classe
A36: Vous pouvez dupliquer cette feuille et la transmettre à vos amis.
A37: Si nécessaire, joindre copie du certificat de capacité ou de l'autorisation de détention.Les organisateurs déclinent toute responsabilité en cas d'annulation de la manifestation ( décision ministérielle ou autre) Tout exposant accepte que ses oiseaux puissent être filmés ou photographiés librement, et en autorise la diffusion.
A40: IND | C40: 3 | E40: =C40*D40 -> 0 | G40: Les cageots doivent toujours être accompagnés d'une feuille d'encagement..Pour les oiseaux arrivant par convoyeur
A41: DUO | C41: 5 | E41: =C41*D41 -> 0
A42: stam | C42: 10 | E42: =C42*D42 -> 0 | G42: Convoyeur M.
A43: CAGE | C43: 2 | E43: =C43*D43 -> 0 | G43: Repris par M.
A44: inscription | C44: 5 | E44: =C44*D44 -> 0 | G44: Par la signature de cette feuille, je décharge les organisateurs de toute responsabilité pour les accidents pouvant survenir à moi-même ou à mes oiseaux.
A45: Repas Samedi | C45: 15 | E45: =C45*D45 -> 0
A46: Repas Dimanche | C46: 20 | E46: =C46*D46 -> 0
C47: TOTAL | D47: =SUM(E40:E46) -> 0
G48: Date : | L48: Signature : | P48: Signature :
A49: ='CONCOURS INDIVIDUEL F1'!A46 -> A renvoyer le FICHIER EXCEL avant le 11 Septembre 2026 Daniel PAGNON 153, chemin grande draille des paluds ou daniel.pagnon.1968@gmail.com

Sheet CONCOURS  STAM F2
E2: ='CONCOURS INDIVIDUEL F1'!D2 -> CONCOURS / BOURSE SORGUES 26 & 27 - 09 - 2026
B4: NOM | D4: PRENON | F4: ADRESSE | G4: CODE POSTAL | I4: VILLE | K4: TELEPHONE | M4: MAIL
B5: ='CONCOURS INDIVIDUEL F1'!B5 -> pascal | D5: ='CONCOURS INDIVIDUEL F1'!D5 -> mOrice | F5: ='CONCOURS INDIVIDUEL F1'!F5 -> 1510 rte oraoires | G5: ='CONCOURS INDIVIDUEL F1'!G5 -> 83332 | I5: ='CONCOURS INDIVIDUEL F1'!I5 -> castellet | K5: ='CONCOURS INDIVIDUEL F1'!K5 -> 663831252 | M5: ='CONCOURS INDIVIDUEL F1'!M5 -> mpasca@sfr.fr
A7: FEUILLE | E7: REGION | F7: CLUB | G7: SOUCHE | J7: AUTRES SOUCHES | M7: Nbre oiseaux
A8: N° | B8: 2 | E8: ='CONCOURS INDIVIDUEL F1'!E8 -> cde | F8: ='CONCOURS INDIVIDUEL F1'!F8 -> ocp | G8: ='CONCOURS INDIVIDUEL F1'!G8 -> PM | J8: ='CONCOURS INDIVIDUEL F1'!J8 -> SOUC1 | K8: ='CONCOURS INDIVIDUEL F1'!K8 -> SOUC2 | M8: Nbre cages
A9: RENSEIGNER POUR LES OISEAUX 1- LE TYPE 2- LA CLASSE 3 -LE SEXE ( M F C ? ) 4 - LE N° DE BAGUE MALE OU FEMELLE POUR LES COUPLE LES DEUX 5 -L'ANNEE 6-LE PRIX 7- EXPOSITION (OUI/NON)8- CAGE PERSONELLE (OUI/NON)
A10: NINSC | B10: REGION | C10: SOUCHE | D10: TYPE | E10: CLASSE | F10: DESIGNATION | G10: SEXE | H10: BAGUE MALE | I10: BAGUE FEMELLE | J10: BAGUE | K10: ANNEE | L10: PRIX | M10: EXPOSITION OUI /NON | N10: CAGE PERSONNEL
A11: 1 | B11: =E8 -> cde | C11: =G8 -> PM | F11: =IFERROR(VLOOKUP(E11,'CLASSES oiseau'!B1:C27636,2,FALSE),"") | BHF11: =IFERROR(VLOOKUP(G11,'CLASSES oiseau'!D2:E27637,2,FALSE),"")
A12: 2 | B12: =B11 -> cde | C12: =C11 -> PM | E12: =E11 -> 0 | F12: =IFERROR(VLOOKUP(E12,'CLASSES oiseau'!B2:C27637,2,FALSE),"") | J12: =_xludf.CONCAT("M",H12,"/","F",I12) -> #NAME?
A13: 3 | B13: =B12 -> cde | C13: =C12 -> PM | E13: =E12 -> 0 | F13: =IFERROR(VLOOKUP(E13,'CLASSES oiseau'!B3:C27638,2,FALSE),"") | J13: =_xludf.CONCAT("M",H13,"/","F",I13) -> #NAME?
A14: 4 | B14: =B13 -> cde | C14: =C13 -> PM | E14: =E13 -> 0 | F14: =IFERROR(VLOOKUP(E14,'CLASSES oiseau'!B4:C27639,2,FALSE),"") | J14: =_xludf.CONCAT("M",H14,"/","F",I14) -> #NAME?
A15: 5 | B15: =B14 -> cde | C15: =C14 -> PM | F15: =IFERROR(VLOOKUP(E15,'CLASSES oiseau'!B5:C27640,2,FALSE),"") | J15: =_xludf.CONCAT("M",H15,"/","F",I15) -> #NAME?
A16: 6 | B16: =B15 -> cde | C16: =C15 -> PM | E16: =E15 -> 0 | F16: =IFERROR(VLOOKUP(E16,'CLASSES oiseau'!B6:C27641,2,FALSE),"") | J16: =_xludf.CONCAT("M",H16,"/","F",I16) -> #NAME?
A17: 7 | B17: =B16 -> cde | C17: =C16 -> PM | E17: =E16 -> 0 | F17: =IFERROR(VLOOKUP(E17,'CLASSES oiseau'!B7:C27642,2,FALSE),"") | J17: =_xludf.CONCAT("M",H17,"/","F",I17) -> #NAME?
A18: 8 | B18: =B17 -> cde | C18: =C17 -> PM | E18: =E17 -> 0 | F18: =IFERROR(VLOOKUP(E18,'CLASSES oiseau'!B8:C27643,2,FALSE),"") | J18: =_xludf.CONCAT("M",H18,"/","F",I18) -> #NAME?
A19: 9 | B19: =B18 -> cde | C19: =C18 -> PM | F19: =IFERROR(VLOOKUP(E19,'CLASSES oiseau'!B9:C27644,2,FALSE),"") | J19: =_xludf.CONCAT("M",H19,"/","F",I19) -> #NAME?
A20: 10 | B20: =B19 -> cde | C20: =C19 -> PM | E20: =E19 -> 0 | F20: =IFERROR(VLOOKUP(E20,'CLASSES oiseau'!B10:C27645,2,FALSE),"") | J20: =_xludf.CONCAT("M",H20,"/","F",I20) -> #NAME?
A21: 11 | B21: =B20 -> cde | C21: =C20 -> PM | E21: =E20 -> 0 | F21: =IFERROR(VLOOKUP(E21,'CLASSES oiseau'!B11:C27646,2,FALSE),"") | J21: =_xludf.CONCAT("M",H21,"/","F",I21) -> #NAME?
A22: 12 | B22: =B21 -> cde | C22: =C21 -> PM | E22: =E21 -> 0 | F22: =IFERROR(VLOOKUP(E22,'CLASSES oiseau'!B12:C27647,2,FALSE),"") | J22: =_xludf.CONCAT("M",H22,"/","F",I22) -> #NAME?
A23: 13 | B23: =B22 -> cde | C23: =C22 -> PM | F23: =IFERROR(VLOOKUP(E23,'CLASSES oiseau'!B13:C27648,2,FALSE),"") | J23: =_xludf.CONCAT("M",H23,"/","F",I23) -> #NAME?
A24: 14 | B24: =B23 -> cde | C24: =C23 -> PM | E24: =E23 -> 0 | F24: =IFERROR(VLOOKUP(E24,'CLASSES oiseau'!B14:C27649,2,FALSE),"") | J24: =_xludf.CONCAT("M",H24,"/","F",I24) -> #NAME?
A25: 15 | B25: =B24 -> cde | C25: =C24 -> PM | E25: =E24 -> 0 | F25: =IFERROR(VLOOKUP(E25,'CLASSES oiseau'!B15:C27650,2,FALSE),"") | J25: =_xludf.CONCAT("M",H25,"/","F",I25) -> #NAME?
A26: 16 | B26: =B25 -> cde | C26: =C25 -> PM | E26: =E25 -> 0 | F26: =IFERROR(VLOOKUP(E26,'CLASSES oiseau'!B16:C27651,2,FALSE),"") | J26: =_xludf.CONCAT("M",H26,"/","F",I26) -> #NAME?
A27: 17 | B27: =B26 -> cde | C27: =C26 -> PM | F27: =IFERROR(VLOOKUP(E27,'CLASSES oiseau'!B17:C27652,2,FALSE),"") | J27: =_xludf.CONCAT("M",H27,"/","F",I27) -> #NAME?
A28: 18 | B28: =B27 -> cde | C28: =C27 -> PM | E28: =E27 -> 0 | F28: =IFERROR(VLOOKUP(E28,'CLASSES oiseau'!B18:C27653,2,FALSE),"") | J28: =_xludf.CONCAT("M",H28,"/","F",I28) -> #NAME?
A29: 19 | B29: =B28 -> cde | C29: =C28 -> PM | E29: =E28 -> 0 | F29: =IFERROR(VLOOKUP(E29,'CLASSES oiseau'!B19:C27654,2,FALSE),"") | J29: =_xludf.CONCAT("M",H29,"/","F",I29) -> #NAME?
A30: 20 | B30: =B29 -> cde | C30: =C29 -> PM | E30: =E29 -> 0 | F30: =IFERROR(VLOOKUP(E30,'CLASSES oiseau'!B20:C27655,2,FALSE),"") | J30: =_xludf.CONCAT("M",H30,"/","F",I30) -> #NAME?
A31: 21 | B31: =B30 -> cde | C31: =C30 -> PM | F31: =IFERROR(VLOOKUP(E31,'CLASSES oiseau'!B21:C27656,2,FALSE),"") | J31: =_xludf.CONCAT("M",H31,"/","F",I31) -> #NAME?
A32: 22 | B32: =B31 -> cde | C32: =C31 -> PM | E32: =E31 -> 0 | F32: =IFERROR(VLOOKUP(E32,'CLASSES oiseau'!B22:C27657,2,FALSE),"") | J32: =_xludf.CONCAT("M",H32,"/","F",I32) -> #NAME?
A33: 23 | B33: =B32 -> cde | C33: =C32 -> PM | E33: =E32 -> 0 | F33: =IFERROR(VLOOKUP(E33,'CLASSES oiseau'!B23:C27658,2,FALSE),"") | J33: =_xludf.CONCAT("M",H33,"/","F",I33) -> #NAME?
A34: 24 | B34: =B33 -> cde | C34: =C33 -> PM | E34: =E33 -> 0 | F34: =IFERROR(VLOOKUP(E34,'CLASSES oiseau'!B24:C27659,2,FALSE),"") | J34: =_xludf.CONCAT("M",H34,"/","F",I34) -> #NAME?
A35: Un changement de sujet ne pourra être fait que s'il appartient exactement à la même section et à la même classe
A36: Vous pouvez dupliquer cette feuille et la transmettre à vos amis.
A37: Si nécessaire, joindre copie du certificat de capacité ou de l'autorisation de détention.Les organisateurs déclinent toute responsabilité en cas d'annulation de la manifestation ( décision ministérielle ou autre) Tout exposant accepte que ses oiseaux puissent être filmés ou photographiés librement, et en autorise la diffusion.
A40: IND | C40: 3 | E40: =C40*D40 -> 0 | G40: Les cageots doivent toujours être accompagnés d'une feuille d'encagement..Pour les oiseaux arrivant par convoyeur
A41: DUO | C41: 5 | E41: =C41*D41 -> 0
A42: stam | C42: 10 | E42: =C42*D42 -> 0 | G42: Convoyeur M.
A43: CAGE | C43: 2 | E43: =C43*D43 -> 0 | G43: Repris par M.
A44: inscription | C44: 5 | E44: =C44*D44 -> 0 | G44: Par la signature de cette feuille, je décharge les organisateurs de toute responsabilité pour les accidents pouvant survenir à moi-même ou à mes oiseaux.
A45: Repas Samedi | C45: 15 | E45: =C45*D45 -> 0
A46: Repas Dimanche | C46: 20 | E46: =C46*D46 -> 0
C47: TOTAL | D47: =SUM(E40:E46) -> 0
G48: Date : | L48: Signature : | P48: Signature :
A49: ='CONCOURS INDIVIDUEL F1'!A46 -> A renvoyer le FICHIER EXCEL avant le 11 Septembre 2026 Daniel PAGNON 153, chemin grande draille des paluds ou daniel.pagnon.1968@gmail.com

Sheet CONCOURS STAM F3
E2: ='CONCOURS INDIVIDUEL F1'!D2 -> CONCOURS / BOURSE SORGUES 26 & 27 - 09 - 2026
B4: NOM | D4: PRENON | F4: ADRESSE | G4: CODE POSTAL | I4: VILLE | K4: TELEPHONE | M4: MAIL
B5: ='CONCOURS INDIVIDUEL F1'!B5 -> pascal | D5: ='CONCOURS INDIVIDUEL F1'!D5 -> mOrice | F5: ='CONCOURS INDIVIDUEL F1'!F5 -> 1510 rte oraoires | G5: ='CONCOURS INDIVIDUEL F1'!G5 -> 83332 | I5: ='CONCOURS INDIVIDUEL F1'!I5 -> castellet | K5: ='CONCOURS INDIVIDUEL F1'!K5 -> 663831252 | M5: ='CONCOURS INDIVIDUEL F1'!M5 -> mpasca@sfr.fr
A7: FEUILLE | E7: REGION | F7: CLUB | G7: SOUCHE | J7: AUTRES SOUCHES | M7: Nbre oiseaux
A8: N° | B8: 3 | E8: ='CONCOURS INDIVIDUEL F1'!E8 -> cde | F8: ='CONCOURS INDIVIDUEL F1'!F8 -> ocp | G8: ='CONCOURS INDIVIDUEL F1'!G8 -> PM | J8: ='CONCOURS INDIVIDUEL F1'!J8 -> SOUC1 | K8: ='CONCOURS INDIVIDUEL F1'!K8 -> SOUC2 | M8: Nbre cages
A9: RENSEIGNER POUR LES OISEAUX 1- LE TYPE 2- LA CLASSE 3 -LE SEXE ( M F C ? ) 4 - LE N° DE BAGUE MALE OU FEMELLE POUR LES COUPLE LES DEUX 5 -L'ANNEE 6-LE PRIX 7- EXPOSITION (OUI/NON)8- CAGE PERSONELLE (OUI/NON)
A10: NINSC | B10: REGION | C10: SOUCHE | D10: TYPE | E10: CLASSE | F10: DESIGNATION | G10: SEXE | H10: BAGUE MALE | I10: BAGUE FEMELLE | J10: BAGUE | K10: ANNEE | L10: PRIX | M10: EXPOSITION OUI /NON | N10: CAGE PERSONNEL
A11: 1 | B11: =E8 -> cde | C11: =G8 -> PM | F11: =IFERROR(VLOOKUP(E11,'CLASSES oiseau'!B1:C27636,2,FALSE),"") | J11: =_xludf.CONCAT("M",H11,"/","F",I11) -> #NAME? | BHF11: =IFERROR(VLOOKUP(G11,'CLASSES oiseau'!D2:E27637,2,FALSE),"")
A12: 2 | B12: =B11 -> cde | C12: =C11 -> PM | E12: =E11 -> 0 | F12: =IFERROR(VLOOKUP(E12,'CLASSES oiseau'!B2:C27637,2,FALSE),"") | J12: =_xludf.CONCAT("M",H12,"/","F",I12) -> #NAME?
A13: 3 | B13: =B12 -> cde | C13: =C12 -> PM | E13: =E12 -> 0 | F13: =IFERROR(VLOOKUP(E13,'CLASSES oiseau'!B3:C27638,2,FALSE),"") | J13: =_xludf.CONCAT("M",H13,"/","F",I13) -> #NAME?
A14: 4 | B14: =B13 -> cde | C14: =C13 -> PM | E14: =E13 -> 0 | F14: =IFERROR(VLOOKUP(E14,'CLASSES oiseau'!B4:C27639,2,FALSE),"") | J14: =_xludf.CONCAT("M",H14,"/","F",I14) -> #NAME?
A15: 5 | B15: =B14 -> cde | C15: =C14 -> PM | F15: =IFERROR(VLOOKUP(E15,'CLASSES oiseau'!B5:C27640,2,FALSE),"") | J15: =_xludf.CONCAT("M",H15,"/","F",I15) -> #NAME?
A16: 6 | B16: =B15 -> cde | C16: =C15 -> PM | E16: =E15 -> 0 | F16: =IFERROR(VLOOKUP(E16,'CLASSES oiseau'!B6:C27641,2,FALSE),"") | J16: =_xludf.CONCAT("M",H16,"/","F",I16) -> #NAME?
A17: 7 | B17: =B16 -> cde | C17: =C16 -> PM | E17: =E16 -> 0 | F17: =IFERROR(VLOOKUP(E17,'CLASSES oiseau'!B7:C27642,2,FALSE),"") | J17: =_xludf.CONCAT("M",H17,"/","F",I17) -> #NAME?
A18: 8 | B18: =B17 -> cde | C18: =C17 -> PM | E18: =E17 -> 0 | F18: =IFERROR(VLOOKUP(E18,'CLASSES oiseau'!B8:C27643,2,FALSE),"") | J18: =_xludf.CONCAT("M",H18,"/","F",I18) -> #NAME?
A19: 9 | B19: =B18 -> cde | C19: =C18 -> PM | F19: =IFERROR(VLOOKUP(E19,'CLASSES oiseau'!B9:C27644,2,FALSE),"") | J19: =_xludf.CONCAT("M",H19,"/","F",I19) -> #NAME?
A20: 10 | B20: =B19 -> cde | C20: =C19 -> PM | E20: =E19 -> 0 | F20: =IFERROR(VLOOKUP(E20,'CLASSES oiseau'!B10:C27645,2,FALSE),"") | J20: =_xludf.CONCAT("M",H20,"/","F",I20) -> #NAME?
A21: 11 | B21: =B20 -> cde | C21: =C20 -> PM | E21: =E20 -> 0 | F21: =IFERROR(VLOOKUP(E21,'CLASSES oiseau'!B11:C27646,2,FALSE),"") | J21: =_xludf.CONCAT("M",H21,"/","F",I21) -> #NAME?
A22: 12 | B22: =B21 -> cde | C22: =C21 -> PM | E22: =E21 -> 0 | F22: =IFERROR(VLOOKUP(E22,'CLASSES oiseau'!B12:C27647,2,FALSE),"") | J22: =_xludf.CONCAT("M",H22,"/","F",I22) -> #NAME?
A23: 13 | B23: =B22 -> cde | C23: =C22 -> PM | F23: =IFERROR(VLOOKUP(E23,'CLASSES oiseau'!B13:C27648,2,FALSE),"") | J23: =_xludf.CONCAT("M",H23,"/","F",I23) -> #NAME?
A24: 14 | B24: =B23 -> cde | C24: =C23 -> PM | E24: =E23 -> 0 | F24: =IFERROR(VLOOKUP(E24,'CLASSES oiseau'!B14:C27649,2,FALSE),"") | J24: =_xludf.CONCAT("M",H24,"/","F",I24) -> #NAME?
A25: 15 | B25: =B24 -> cde | C25: =C24 -> PM | E25: =E24 -> 0 | F25: =IFERROR(VLOOKUP(E25,'CLASSES oiseau'!B15:C27650,2,FALSE),"") | J25: =_xludf.CONCAT("M",H25,"/","F",I25) -> #NAME?
A26: 16 | B26: =B25 -> cde | C26: =C25 -> PM | E26: =E25 -> 0 | F26: =IFERROR(VLOOKUP(E26,'CLASSES oiseau'!B16:C27651,2,FALSE),"") | J26: =_xludf.CONCAT("M",H26,"/","F",I26) -> #NAME?
A27: 17 | B27: =B26 -> cde | C27: =C26 -> PM | F27: =IFERROR(VLOOKUP(E27,'CLASSES oiseau'!B17:C27652,2,FALSE),"") | J27: =_xludf.CONCAT("M",H27,"/","F",I27) -> #NAME?
A28: 18 | B28: =B27 -> cde | C28: =C27 -> PM | E28: =E27 -> 0 | F28: =IFERROR(VLOOKUP(E28,'CLASSES oiseau'!B18:C27653,2,FALSE),"") | J28: =_xludf.CONCAT("M",H28,"/","F",I28) -> #NAME?
A29: 19 | B29: =B28 -> cde | C29: =C28 -> PM | E29: =E28 -> 0 | F29: =IFERROR(VLOOKUP(E29,'CLASSES oiseau'!B19:C27654,2,FALSE),"") | J29: =_xludf.CONCAT("M",H29,"/","F",I29) -> #NAME?
A30: 20 | B30: =B29 -> cde | C30: =C29 -> PM | E30: =E29 -> 0 | F30: =IFERROR(VLOOKUP(E30,'CLASSES oiseau'!B20:C27655,2,FALSE),"") | J30: =_xludf.CONCAT("M",H30,"/","F",I30) -> #NAME?
A31: 21 | B31: =B30 -> cde | C31: =C30 -> PM | F31: =IFERROR(VLOOKUP(E31,'CLASSES oiseau'!B21:C27656,2,FALSE),"") | J31: =_xludf.CONCAT("M",H31,"/","F",I31) -> #NAME?
A32: 22 | B32: =B31 -> cde | C32: =C31 -> PM | E32: =E31 -> 0 | F32: =IFERROR(VLOOKUP(E32,'CLASSES oiseau'!B22:C27657,2,FALSE),"") | J32: =_xludf.CONCAT("M",H32,"/","F",I32) -> #NAME?
A33: 23 | B33: =B32 -> cde | C33: =C32 -> PM | E33: =E32 -> 0 | F33: =IFERROR(VLOOKUP(E33,'CLASSES oiseau'!B23:C27658,2,FALSE),"") | J33: =_xludf.CONCAT("M",H33,"/","F",I33) -> #NAME?
A34: 24 | B34: =B33 -> cde | C34: =C33 -> PM | E34: =E33 -> 0 | F34: =IFERROR(VLOOKUP(E34,'CLASSES oiseau'!B24:C27659,2,FALSE),"") | J34: =_xludf.CONCAT("M",H34,"/","F",I34) -> #NAME?
A35: Un changement de sujet ne pourra être fait que s'il appartient exactement à la même section et à la même classe
A36: Vous pouvez dupliquer cette feuille et la transmettre à vos amis.
A37: Si nécessaire, joindre copie du certificat de capacité ou de l'autorisation de détention.Les organisateurs déclinent toute responsabilité en cas d'annulation de la manifestation ( décision ministérielle ou autre) Tout exposant accepte que ses oiseaux puissent être filmés ou photographiés librement, et en autorise la diffusion.
A40: IND | C40: 3 | E40: =C40*D40 -> 0 | G40: Les cageots doivent toujours être accompagnés d'une feuille d'encagement..Pour les oiseaux arrivant par convoyeur
A41: DUO | C41: 5 | E41: =C41*D41 -> 0
A42: stam | C42: 10 | E42: =C42*D42 -> 0 | G42: Convoyeur M.
A43: CAGE | C43: 2 | E43: =C43*D43 -> 0 | G43: Repris par M.
A44: inscription | C44: 5 | E44: =C44*D44 -> 0 | G44: Par la signature de cette feuille, je décharge les organisateurs de toute responsabilité pour les accidents pouvant survenir à moi-même ou à mes oiseaux.
A45: Repas Samedi | C45: 15 | E45: =C45*D45 -> 0
A46: Repas Dimanche | C46: 20 | E46: =C46*D46 -> 0
C47: TOTAL | D47: =SUM(E40:E46) -> 0
G48: Date : | L48: Signature : | P48: Signature :
A49: ='CONCOURS INDIVIDUEL F1'!A46 -> A renvoyer le FICHIER EXCEL avant le 11 Septembre 2026 Daniel PAGNON 153, chemin grande draille des paluds ou daniel.pagnon.1968@gmail.com

Sheet BOURSE F1
D1: Renseigner ici votre Nom Prenom adresse telephone club souche Etc.
D2: BOURSE AUBAGNE 17 & 18 OCTOBRE 2026
A5: qualité | B5: NOM | D5: PRENON | F5: ADRESSE | G5: CODE POSTAL | I5: VILLE | K5: TELEPHONE | M5: MAIL
K7: Nbre Cages | M7: Simple | N7: Charles | O7: Volière
A8: FEUILLE n° | E8: ='CONCOURS INDIVIDUEL F1'!E8 -> cde | F8: CLUB | G8: SOUCHE | I8: AUTRES SOUCHES
A9: N° | B9: 1 | E9: CDE | M9: Nbre oiseaux
A10: RENSEIGNER POUR LES OISEAUX 1- DESIGNATION ( Description de l'oiseaux ) 3 -LE SEXE ( M F C ? ) 4 - LE N° DE BAGUE MALE OU FEMELLE POUR LES COUPLE LES DEUX 5 -L'ANNEE 6-LE PRIX 7- N° CAGE (Mettre le même N° de cage pour oiseaux qui seront ensemble) 8- CAGE PERSO (OUI/NON)
A11: NINSC | B11: REGION | C11: SOUCHE | D11: TYPE | E11: CLASSE | F11: DESIGNATION | G11: SEXE | H11: BAGUE MALE | I11: BAGUE FEMELLE | J11: N° CAGE | K11: ANNEE | L11: PRIX | M11: expo | N11: CAGE PERSO | O11: CONVOYAGE
A12: 1 | B12: =E9 -> CDE | C12: =G9 -> 0 | D12: BOURSE | E12: ZB
A13: 2 | B13: =B12 -> CDE | C13: =C12 -> 0 | D13: BOURSE | E13: ZB
A14: 3 | B14: =B13 -> CDE | C14: =C13 -> 0 | D14: BOURSE | E14: ZB
A15: 4 | B15: =B14 -> CDE | C15: =C14 -> 0 | D15: BOURSE | E15: ZB
A16: 5 | B16: =B15 -> CDE | C16: =C15 -> 0 | D16: BOURSE | E16: ZB
A17: 6 | B17: =B16 -> CDE | C17: =C16 -> 0 | D17: BOURSE | E17: ZB
A18: 7 | B18: =B17 -> CDE | C18: =C17 -> 0 | D18: BOURSE | E18: ZB
A19: 8 | B19: =B18 -> CDE | C19: =C18 -> 0 | D19: BOURSE | E19: ZB
A20: 9 | B20: =B19 -> CDE | C20: =C19 -> 0 | D20: BOURSE | E20: ZB
A21: 10 | B21: =B20 -> CDE | C21: =C20 -> 0 | D21: BOURSE | E21: ZB
A22: 11 | B22: =B21 -> CDE | C22: =C21 -> 0 | D22: BOURSE | E22: ZB
A23: 12 | B23: =B22 -> CDE | C23: =C22 -> 0 | D23: BOURSE | E23: ZB
A24: 13 | B24: =B23 -> CDE | C24: =C23 -> 0 | D24: BOURSE | E24: ZB
... A31: 20 | B31: =B30 -> CDE | C31: =C30 -> 0 | D31: BOURSE | E31: ZB
A32: 21 | B32: =B24 -> CDE | C32: =C24 -> 0 | D32: BOURSE | E32: ZB
A33: Un changement de sujet ne pourra être fait que s'il appartient exactement à la même section et à la même classe
A34: Vous pouvez dupliquer cette feuille et la transmettre à vos amis.
A35: Si nécessaire, joindre copie du certificat de capacité ou de l'autorisation de détention.Les organisateurs déclinent toute responsabilité en cas d'annulation de la manifestation ( décision ministérielle ou autre) Tout exposant accepte que ses oiseaux puissent être filmés ou photographiés librement, et en autorise la diffusion.
A38: IND | C38: 2.5 | E38: =C38*D38 -> 0 | G38: Les cageots doivent toujours être accompagnés d'une feuille d'encagement..Pour les oiseaux arrivant par convoyeur:
A39: DUO | C39: 5 | E39: =C39*D39 -> 0
A40: stam | C40: 10 | E40: =C40*D40 -> 0 | G40: Convoyeur M.
A41: CAGE | C41: 2 | E41: =C41*D41 -> 0 | G41: Repris par M.
A42: inscription | C42: 5 | E42: =C42*D42 -> 0 | G42: Par la signature de cette feuille, je décharge les organisateurs de toute responsabilité pour les accidents pouvant survenir à moi-même ou à mes oiseaux.
A43: Repas Samedi | C43: 15 | E43: =C43*D43 -> 0
A44: Repas Dimanche | C44: 20 | E44: =C44*D44 -> 0
C45: TOTAL | D45: =SUM(E38:E44) -> 0
G46: Date : | L46: Signature : | Q46: Signature :
A47: A renvoyer le FICHIER EXCEL avant le 30 Septembre 2026

Sheet BOURSE F2
E2: ='BOURSE F1'!D2 -> BOURSE AUBAGNE 17 & 18 OCTOBRE 2026
A5: qualité | B5: NOM | D5: PRENON | F5: ADRESSE | G5: CODE POSTAL | I5: VILLE | K5: TELEPHONE | M5: MAIL
A6: ='BOURSE F1'!A6 -> 0 | B6: ='BOURSE F1'!B6 -> 0 | D6: ='BOURSE F1'!D6 -> 0 | F6: ='BOURSE F1'!F6 -> 0 | G6: ='BOURSE F1'!G6 -> 0 | I6: ='BOURSE F1'!I6 -> 0 | K6: ='BOURSE F1'!K6 -> 0 | M6: ='BOURSE F1'!M6 -> 0
K7: Nbre Cages | M7: Simple | N7: Charles | O7: Volière
A8: FEUILLE n° | E8: ='CONCOURS INDIVIDUEL F1'!E8 -> cde | F8: CLUB | G8: SOUCHE | I8: AUTRES SOUCHES
A9: N° | B9: 2 | E9: ='CONCOURS INDIVIDUEL F1'!E8 -> cde | F9: ='BOURSE F1'!G9 -> 0 | G9: ='BOURSE F1'!G9 -> 0 | I9: ='BOURSE F1'!I9 -> 0 | J9: ='BOURSE F1'!J9 -> 0 | M9: Nbre oiseaux
A10: RENSEIGNER POUR LES OISEAUX 1- DESIGNATION ( Description de l'oiseaux ) 3 -LE SEXE ( M F C ? ) 4 - LE N° DE BAGUE MALE OU FEMELLE POUR LES COUPLE LES DEUX 5 -L'ANNEE 6-LE PRIX 7- N° CAGE (Mettre le même N° de cage pour oiseaux qui seront ensemble) 8- CAGE PERSO (OUI/NON)
A11: NINSC | B11: REGION | C11: SOUCHE | D11: TYPE | E11: CLASSE | F11: DESIGNATION | G11: SEXE | H11: BAGUE MALE | I11: BAGUE FEMELLE | J11: N° CAGE | K11: ANNEE | L11: PRIX | M11: expo | N11: CAGE PERSO | O11: CONVOYAGE
A12: 1 | B12: =E9 -> cde | C12: =G9 -> 0 | D12: BOURSE | E12: ZB
A13: 2 | B13: =B12 -> cde | C13: =C12 -> 0 | D13: BOURSE | E13: ZB
A14: 3 | B14: =B13 -> cde | C14: =C13 -> 0 | D14: BOURSE | E14: ZB
A15: 8 | B15: =B14 -> cde | C15: =C14 -> 0 | D15: BOURSE | E15: ZB
A16: 9 | B16: =B15 -> cde | C16: =C15 -> 0 | D16: BOURSE | E16: ZB
A17: 10 | B17: =B16 -> cde | C17: =C16 -> 0 | D17: BOURSE | E17: ZB
A18: 11 | B18: =B17 -> cde | C18: =C17 -> 0 | D18: BOURSE | E18: ZB
A19: 12 | B19: =B18 -> cde | C19: =C18 -> 0 | D19: BOURSE | E19: ZB
A20: 13 | B20: =B19 -> cde | C20: =C19 -> 0 | D20: BOURSE | E20: ZB
A21: 14 | B21: =B20 -> cde | C21: =C20 -> 0 | D21: BOURSE | E21: ZB
A22: 15 | B22: =B21 -> cde | C22: =C21 -> 0 | D22: BOURSE | E22: ZB
A23: 16 | B23: =B22 -> cde | C23: =C22 -> 0 | D23: BOURSE | E23: ZB
A24: 17 | B24: =B23 -> cde | C24: =C23 -> 0 | D24: BOURSE | E24: ZB
... A31: 24 | B31: =B30 -> cde | C31: =C30 -> 0 | D31: BOURSE | E31: ZB
A32: 25 | B32: =B24 -> cde | C32: =C24 -> 0 | D32: BOURSE | E32: ZB
A33: Un changement de sujet ne pourra être fait que s'il appartient exactement à la même section et à la même classe
A34: Vous pouvez dupliquer cette feuille et la transmettre à vos amis.
A35: Si nécessaire, joindre copie du certificat de capacité ou de l'autorisation de détention.Les organisateurs déclinent toute responsabilité en cas d'annulation de la manifestation ( décision ministérielle ou autre) Tout exposant accepte que ses oiseaux puissent être filmés ou photographiés librement, et en autorise la diffusion.
A38: IND | C38: ='BOURSE F1'!C38 -> 2.5 | E38: =C38*D38 -> 0 | G38: Les cageots doivent toujours être accompagnés d'une feuille d'encagement..Pour les oiseaux arrivant par convoyeur:
A39: DUO | C39: ='BOURSE F1'!C39 -> 5 | E39: =C39*D39 -> 0
A40: stam | C40: ='BOURSE F1'!C40 -> 10 | E40: =C40*D40 -> 0 | G40: Convoyeur M.
A41: CAGE | C41: ='BOURSE F1'!C41 -> 2 | E41: =C41*D41 -> 0 | G41: Repris par M.
A42: inscription | C42: ='BOURSE F1'!C42 -> 5 | E42: =C42*D42 -> 0 | G42: Par la signature de cette feuille, je décharge les organisateurs de toute responsabilité pour les accidents pouvant survenir à moi-même ou à mes oiseaux.
A43: Repas Samedi | C43: ='BOURSE F1'!C43 -> 15 | E43: =C43*D43 -> 0
A44: Repas Dimanche | C44: ='BOURSE F1'!C44 -> 20 | E44: =C44*D44 -> 0
C45: TOTAL | D45: =SUM(E38:E44) -> 0
G46: Date : | L46: Signature : | Q46: Signature :
A47: ='BOURSE F3'!A47 -> A renvoyer le FICHIER EXCEL avant le 30 Septembre 2026

Sheet BOURSE F3
E2: ='BOURSE F1'!D2 -> BOURSE AUBAGNE 17 & 18 OCTOBRE 2026
A5: qualité | B5: NOM | D5: PRENON | F5: ADRESSE | G5: CODE POSTAL | I5: VILLE | K5: TELEPHONE | M5: MAIL
A6: ='BOURSE F1'!A6 -> 0 | B6: ='BOURSE F1'!B6 -> 0 | D6: ='BOURSE F1'!D6 -> 0 | F6: ='BOURSE F1'!F6 -> 0 | G6: ='BOURSE F1'!G6 -> 0 | I6: ='BOURSE F1'!I6 -> 0 | K6: ='BOURSE F1'!K6 -> 0 | M6: ='BOURSE F1'!M6 -> 0
K7: Nbre Cages | M7: Simple | N7: Charles | O7: Volière
A8: FEUILLE n° | E8: ='CONCOURS INDIVIDUEL F1'!E8 -> cde | F8: CLUB | G8: SOUCHE | I8: AUTRES SOUCHES
A9: N° | B9: 2 | E9: ='CONCOURS INDIVIDUEL F1'!E8 -> cde | F9: ='BOURSE F1'!G9 -> 0 | G9: ='BOURSE F1'!G9 -> 0 | I9: ='BOURSE F1'!I9 -> 0 | J9: ='BOURSE F1'!J9 -> 0 | M9: Nbre oiseaux
A10: RENSEIGNER POUR LES OISEAUX 1- DESIGNATION ( Description de l'oiseaux ) 3 -LE SEXE ( M F C ? ) 4 - LE N° DE BAGUE MALE OU FEMELLE POUR LES COUPLE LES DEUX 5 -L'ANNEE 6-LE PRIX 7- N° CAGE (Mettre le même N° de cage pour oiseaux qui seront ensemble) 8- CAGE PERSO (OUI/NON)
A11: NINSC | B11: REGION | C11: SOUCHE | D11: TYPE | E11: CLASSE | F11: DESIGNATION | G11: SEXE | H11: BAGUE MALE | I11: BAGUE FEMELLE | J11: N° CAGE | K11: ANNEE | L11: PRIX | N11: CAGE PERSO | O11: CONVOYAGE
A12: 1 | B12: =E9 -> cde | C12: =G9 -> 0 | D12: BOURSE | E12: ZB
A13: 2 | B13: =B12 -> cde | C13: =C12 -> 0 | D13: BOURSE | E13: ZB
A14: 3 | B14: =B13 -> cde | C14: =C13 -> 0 | D14: BOURSE | E14: ZB
A15: 8 | B15: =B14 -> cde | C15: =C14 -> 0 | D15: BOURSE | E15: ZB
A16: 9 | B16: =B15 -> cde | C16: =C15 -> 0 | D16: BOURSE | E16: ZB
A17: 10 | B17: =B16 -> cde | C17: =C16 -> 0 | D17: BOURSE | E17: ZB
A18: 11 | B18: =B17 -> cde | C18: =C17 -> 0 | D18: BOURSE | E18: ZB
A19: 12 | B19: =B18 -> cde | C19: =C18 -> 0 | D19: BOURSE | E19: ZB
A20: 13 | B20: =B19 -> cde | C20: =C19 -> 0 | D20: BOURSE | E20: ZB
A21: 14 | B21: =B20 -> cde | C21: =C20 -> 0 | D21: BOURSE | E21: ZB
A22: 15 | B22: =B21 -> cde | C22: =C21 -> 0 | D22: BOURSE | E22: ZB
A23: 16 | B23: =B22 -> cde | C23: =C22 -> 0 | D23: BOURSE | E23: ZB
A24: 17 | B24: =B23 -> cde | C24: =C23 -> 0 | D24: BOURSE | E24: ZB
... A31: 24 | B31: =B30 -> cde | C31: =C30 -> 0 | D31: BOURSE | E31: ZB
A32: 25 | B32: =B24 -> cde | C32: =C24 -> 0 | D32: BOURSE | E32: ZB
A33: Un changement de sujet ne pourra être fait que s'il appartient exactement à la même section et à la même classe
A34: Vous pouvez dupliquer cette feuille et la transmettre à vos amis.
A35: Si nécessaire, joindre copie du certificat de capacité ou de l'autorisation de détention.Les organisateurs déclinent toute responsabilité en cas d'annulation de la manifestation ( décision ministérielle ou autre) Tout exposant accepte que ses oiseaux puissent être filmés ou photographiés librement, et en autorise la diffusion.
A38: IND | C38: ='BOURSE F1'!C38 -> 2.5 | E38: =C38*D38 -> 0 | G38: Les cageots doivent toujours être accompagnés d'une feuille d'encagement..Pour les oiseaux arrivant par convoyeur:
A39: DUO | C39: ='BOURSE F1'!C39 -> 5 | E39: =C39*D39 -> 0
A40: stam | C40: ='BOURSE F1'!C40 -> 10 | E40: =C40*D40 -> 0 | G40: Convoyeur M.
A41: CAGE | C41: ='BOURSE F1'!C41 -> 2 | E41: =C41*D41 -> 0 | G41: Repris par M.
A42: inscription | C42: ='BOURSE F1'!C42 -> 5 | E42: =C42*D42 -> 0 | G42: Par la signature de cette feuille, je décharge les organisateurs de toute responsabilité pour les accidents pouvant survenir à moi-même ou à mes oiseaux.
A43: Repas Samedi | C43: ='BOURSE F1'!C43 -> 15 | E43: =C43*D43 -> 0
A44: Repas Dimanche | C44: ='BOURSE F1'!C44 -> 20 | E44: =C44*D44 -> 0
C45: TOTAL | D45: =SUM(E38:E44) -> 0
G46: Date : | L46: Signature : | Q46: Signature :
A47: ='BOURSE F1'!A47 -> A renvoyer le FICHIER EXCEL avant le 30 Septembre 2026

Sheet engagement bourse
A1: Numéro | B1: NINSC | C1: ='CONCOURS INDIVIDUEL F1'!B10 -> REGION | D1: SOUCHE | E1: ='CONCOURS INDIVIDUEL F1'!D10 -> TYPE | F1: ='CONCOURS INDIVIDUEL F1'!E10 -> CLASSE | G1: ='CONCOURS INDIVIDUEL F1'!F10 -> DESIGNATION | H1: ='CONCOURS INDIVIDUEL F1'!G10 -> SEXE | I1: ='CONCOURS INDIVIDUEL F1'!H10 -> BAGUE MALE | J1: ='CONCOURS INDIVIDUEL F1'!I10 -> BAGUE FEMELLE | K1: N° CAGE | L1: ='CONCOURS INDIVIDUEL F1'!K10 -> ANNEE | M1: ='CONCOURS INDIVIDUEL F1'!L10 -> PRIX | N1: ='CONCOURS INDIVIDUEL F1'!M10 -> EXPOSITION OUI /NON | O1: ='CONCOURS INDIVIDUEL F1'!N10 -> CAGE PERSONNEL | P1: CONVOYAGE | Q1: BOURSE
A2: 1 | C2: ='BOURSE F1'!B12 -> CDE | D2: ='BOURSE F1'!C12 -> 0 | E2: ='BOURSE F1'!D12 -> BOURSE | F2: ='BOURSE F1'!E12 -> ZB | G2: ='BOURSE F1'!F12 -> 0 | H2: ='BOURSE F1'!G12 -> 0 | I2: ='BOURSE F1'!H12 -> 0 | J2: ='BOURSE F1'!I12 -> 0 | ... P2: ='BOURSE F1'!O12 -> 0 | Q2: FEUILLE BOURSE 1
A3: 2 | B3: =B2+1 -> 1 | C3: ='BOURSE F1'!B13 -> CDE | D3: ='BOURSE F1'!C13 -> 0 | E3: ='BOURSE F1'!D13 -> BOURSE | F3: ='BOURSE F1'!E13 -> ZB | G3: ='BOURSE F1'!F13 -> 0 | H3: ='BOURSE F1'!G13 -> 0 | I3: ='BOURSE F1'!H13 -> 0 | J3: ='BOURSE F1'!I13 -> 0 | ... P3: ='BOURSE F1'!O13 -> 0
A4: 3 | B4: =B3+1 -> 2 | C4: ='BOURSE F1'!B14 -> CDE | D4: ='BOURSE F1'!C14 -> 0 | E4: ='BOURSE F1'!D14 -> BOURSE | F4: ='BOURSE F1'!E14 -> ZB | G4: ='BOURSE F1'!F14 -> 0 | H4: ='BOURSE F1'!G14 -> 0 | I4: ='BOURSE F1'!H14 -> 0 | J4: ='BOURSE F1'!I14 -> 0 | ... P4: ='BOURSE F1'!O14 -> 0
A5: 4 | B5: =B4+1 -> 3 | C5: ='BOURSE F1'!B15 -> CDE | D5: ='BOURSE F1'!C15 -> 0 | E5: ='BOURSE F1'!D15 -> BOURSE | F5: ='BOURSE F1'!E15 -> ZB | G5: ='BOURSE F1'!F15 -> 0 | H5: ='BOURSE F1'!G15 -> 0 | I5: ='BOURSE F1'!H15 -> 0 | J5: ='BOURSE F1'!I15 -> 0 | ... P5: ='BOURSE F1'!O15 -> 0
A6: 5 | B6: =B5+1 -> 4 | C6: ='BOURSE F1'!B16 -> CDE | D6: ='BOURSE F1'!C16 -> 0 | E6: ='BOURSE F1'!D16 -> BOURSE | F6: ='BOURSE F1'!E16 -> ZB | G6: ='BOURSE F1'!F16 -> 0 | H6: ='BOURSE F1'!G16 -> 0 | I6: ='BOURSE F1'!H16 -> 0 | J6: ='BOURSE F1'!I16 -> 0 | ... P6: ='BOURSE F1'!O16 -> 0
A7: 6 | B7: =B6+1 -> 5 | C7: ='BOURSE F1'!B17 -> CDE | D7: ='BOURSE F1'!C17 -> 0 | E7: ='BOURSE F1'!D17 -> BOURSE | F7: ='BOURSE F1'!E17 -> ZB | G7: ='BOURSE F1'!F17 -> 0 | H7: ='BOURSE F1'!G17 -> 0 | I7: ='BOURSE F1'!H17 -> 0 | J7: ='BOURSE F1'!I17 -> 0 | ... P7: ='BOURSE F1'!O17 -> 0
A8: 7 | B8: =B7+1 -> 6 | C8: ='BOURSE F1'!B18 -> CDE | D8: ='BOURSE F1'!C18 -> 0 | E8: ='BOURSE F1'!D18 -> BOURSE | F8: ='BOURSE F1'!E18 -> ZB | G8: ='BOURSE F1'!F18 -> 0 | H8: ='BOURSE F1'!G18 -> 0 | I8: ='BOURSE F1'!H18 -> 0 | J8: ='BOURSE F1'!I18 -> 0 | ... P8: ='BOURSE F1'!O18 -> 0
A9: 8 | B9: =B8+1 -> 7 | C9: ='BOURSE F1'!B19 -> CDE | D9: ='BOURSE F1'!C19 -> 0 | E9: ='BOURSE F1'!D19 -> BOURSE | F9: ='BOURSE F1'!E19 -> ZB | G9: ='BOURSE F1'!F19 -> 0 | H9: ='BOURSE F1'!G19 -> 0 | I9: ='BOURSE F1'!H19 -> 0 | J9: ='BOURSE F1'!I19 -> 0 | ... P9: ='BOURSE F1'!O19 -> 0
A10: 9 | B10: =B9+1 -> 8 | C10: ='BOURSE F1'!B20 -> CDE | D10: ='BOURSE F1'!C20 -> 0 | E10: ='BOURSE F1'!D20 -> BOURSE | F10: ='BOURSE F1'!E20 -> ZB | G10: ='BOURSE F1'!F20 -> 0 | H10: ='BOURSE F1'!G20 -> 0 | I10: ='BOURSE F1'!H20 -> 0 | J10: ='BOURSE F1'!I20 -> 0 | ... P10: ='BOURSE F1'!O20 -> 0
A11: 10 | B11: =B10+1 -> 9 | C11: ='BOURSE F1'!B21 -> CDE | D11: ='BOURSE F1'!C21 -> 0 | E11: ='BOURSE F1'!D21 -> BOURSE | F11: ='BOURSE F1'!E21 -> ZB | G11: ='BOURSE F1'!F21 -> 0 | H11: ='BOURSE F1'!G21 -> 0 | I11: ='BOURSE F1'!H21 -> 0 | J11: ='BOURSE F1'!I21 -> 0 | ... P11: ='BOURSE F1'!O21 -> 0
A12: 11 | B12: =B11+1 -> 10 | C12: ='BOURSE F1'!B22 -> CDE | D12: ='BOURSE F1'!C22 -> 0 | E12: ='BOURSE F1'!D22 -> BOURSE | F12: ='BOURSE F1'!E22 -> ZB | G12: ='BOURSE F1'!F22 -> 0 | H12: ='BOURSE F1'!G22 -> 0 | I12: ='BOURSE F1'!H22 -> 0 | J12: ='BOURSE F1'!I22 -> 0 | ... P12: ='BOURSE F1'!O22 -> 0
A13: 12 | B13: =B12+1 -> 11 | C13: ='BOURSE F1'!B23 -> CDE | D13: ='BOURSE F1'!C23 -> 0 | E13: ='BOURSE F1'!D23 -> BOURSE | F13: ='BOURSE F1'!E23 -> ZB | G13: ='BOURSE F1'!F23 -> 0 | H13: ='BOURSE F1'!G23 -> 0 | I13: ='BOURSE F1'!H23 -> 0 | J13: ='BOURSE F1'!I23 -> 0 | ... P13: ='BOURSE F1'!O23 -> 0
A14: 13 | B14: =B13+1 -> 12 | C14: ='BOURSE F1'!B24 -> CDE | D14: ='BOURSE F1'!C24 -> 0 | E14: ='BOURSE F1'!D24 -> BOURSE | F14: ='BOURSE F1'!E24 -> ZB | G14: ='BOURSE F1'!F24 -> 0 | H14: ='BOURSE F1'!G24 -> 0 | I14: ='BOURSE F1'!H24 -> 0 | J14: ='BOURSE F1'!I24 -> 0 | ... P14: ='BOURSE F1'!O24 -> 0
... A22: 21 | B22: =B21+1 -> 20 | C22: ='BOURSE F1'!B32 -> CDE | D22: ='BOURSE F1'!C32 -> 0 | E22: ='BOURSE F1'!D32 -> BOURSE | F22: ='BOURSE F1'!E32 -> ZB | G22: ='BOURSE F1'!F32 -> 0 | H22: ='BOURSE F1'!G32 -> 0 | I22: ='BOURSE F1'!H32 -> 0 | J22: ='BOURSE F1'!I32 -> 0 | ... P22: ='BOURSE F1'!O32 -> 0
A23: 22 | B23: =B22+1 -> 21 | C23: ='BOURSE F2'!B12 -> cde | D23: ='BOURSE F2'!C12 -> 0 | E23: ='BOURSE F2'!D12 -> BOURSE | F23: ='BOURSE F2'!E12 -> ZB | G23: ='BOURSE F2'!F12 -> 0 | H23: ='BOURSE F2'!G12 -> 0 | I23: ='BOURSE F2'!H12 -> 0 | J23: ='BOURSE F2'!I12 -> 0 | ... P23: ='BOURSE F2'!O12 -> 0 | Q23: FEUILLE BOURSE 2
A24: 23 | B24: =B23+1 -> 22 | C24: ='BOURSE F2'!B13 -> cde | D24: ='BOURSE F2'!C13 -> 0 | E24: ='BOURSE F2'!D13 -> BOURSE | F24: ='BOURSE F2'!E13 -> ZB | G24: ='BOURSE F2'!F13 -> 0 | H24: ='BOURSE F2'!G13 -> 0 | I24: ='BOURSE F2'!H13 -> 0 | J24: ='BOURSE F2'!I13 -> 0 | ... P24: ='BOURSE F2'!O13 -> 0
A25: 24 | B25: =B24+1 -> 23 | C25: ='BOURSE F2'!B14 -> cde | D25: ='BOURSE F2'!C14 -> 0 | E25: ='BOURSE F2'!D14 -> BOURSE | F25: ='BOURSE F2'!E14 -> ZB | G25: ='BOURSE F2'!F14 -> 0 | H25: ='BOURSE F2'!G14 -> 0 | I25: ='BOURSE F2'!H14 -> 0 | J25: ='BOURSE F2'!I14 -> 0 | ... P25: ='BOURSE F2'!O14 -> 0
A26: 25 | B26: =B25+1 -> 24 | C26: ='BOURSE F2'!B15 -> cde | D26: ='BOURSE F2'!C15 -> 0 | E26: ='BOURSE F2'!D15 -> BOURSE | F26: ='BOURSE F2'!E15 -> ZB | G26: ='BOURSE F2'!F15 -> 0 | H26: ='BOURSE F2'!G15 -> 0 | I26: ='BOURSE F2'!H15 -> 0 | J26: ='BOURSE F2'!I15 -> 0 | ... P26: ='BOURSE F2'!O15 -> 0
A27: 26 | B27: =B26+1 -> 25 | C27: ='BOURSE F2'!B16 -> cde | D27: ='BOURSE F2'!C16 -> 0 | E27: ='BOURSE F2'!D16 -> BOURSE | F27: ='BOURSE F2'!E16 -> ZB | G27: ='BOURSE F2'!F16 -> 0 | H27: ='BOURSE F2'!G16 -> 0 | I27: ='BOURSE F2'!H16 -> 0 | J27: ='BOURSE F2'!I16 -> 0 | ... P27: ='BOURSE F2'!O16 -> 0
A28: 27 | B28: =B27+1 -> 26 | C28: ='BOURSE F2'!B17 -> cde | D28: ='BOURSE F2'!C17 -> 0 | E28: ='BOURSE F2'!D17 -> BOURSE | F28: ='BOURSE F2'!E17 -> ZB | G28: ='BOURSE F2'!F17 -> 0 | H28: ='BOURSE F2'!G17 -> 0 | I28: ='BOURSE F2'!H17 -> 0 | J28: ='BOURSE F2'!I17 -> 0 | ... P28: ='BOURSE F2'!O17 -> 0
A29: 28 | B29: =B28+1 -> 27 | C29: ='BOURSE F2'!B18 -> cde | D29: ='BOURSE F2'!C18 -> 0 | E29: ='BOURSE F2'!D18 -> BOURSE | F29: ='BOURSE F2'!E18 -> ZB | G29: ='BOURSE F2'!F18 -> 0 | H29: ='BOURSE F2'!G18 -> 0 | I29: ='BOURSE F2'!H18 -> 0 | J29: ='BOURSE F2'!I18 -> 0 | ... P29: ='BOURSE F2'!O18 -> 0
A30: 29 | B30: =B29+1 -> 28 | C30: ='BOURSE F2'!B19 -> cde | D30: ='BOURSE F2'!C19 -> 0 | E30: ='BOURSE F2'!D19 -> BOURSE | F30: ='BOURSE F2'!E19 -> ZB | G30: ='BOURSE F2'!F19 -> 0 | H30: ='BOURSE F2'!G19 -> 0 | I30: ='BOURSE F2'!H19 -> 0 | J30: ='BOURSE F2'!I19 -> 0 | ... P30: ='BOURSE F2'!O19 -> 0
A31: 30 | B31: =B30+1 -> 29 | C31: ='BOURSE F2'!B20 -> cde | D31: ='BOURSE F2'!C20 -> 0 | E31: ='BOURSE F2'!D20 -> BOURSE | F31: ='BOURSE F2'!E20 -> ZB | G31: ='BOURSE F2'!F20 -> 0 | H31: ='BOURSE F2'!G20 -> 0 | I31: ='BOURSE F2'!H20 -> 0 | J31: ='BOURSE F2'!I20 -> 0 | ... P31: ='BOURSE F2'!O20 -> 0
A32: 31 | B32: =B31+1 -> 30 | C32: ='BOURSE F2'!B21 -> cde | D32: ='BOURSE F2'!C21 -> 0 | E32: ='BOURSE F2'!D21 -> BOURSE | F32: ='BOURSE F2'!E21 -> ZB | G32: ='BOURSE F2'!F21 -> 0 | H32: ='BOURSE F2'!G21 -> 0 | I32: ='BOURSE F2'!H21 -> 0 | J32: ='BOURSE F2'!I21 -> 0 | ... P32: ='BOURSE F2'!O21 -> 0
A33: 32 | B33: =B32+1 -> 31 | C33: ='BOURSE F2'!B22 -> cde | D33: ='BOURSE F2'!C22 -> 0 | E33: ='BOURSE F2'!D22 -> BOURSE | F33: ='BOURSE F2'!E22 -> ZB | G33: ='BOURSE F2'!F22 -> 0 | H33: ='BOURSE F2'!G22 -> 0 | I33: ='BOURSE F2'!H22 -> 0 | J33: ='BOURSE F2'!I22 -> 0 | ... P33: ='BOURSE F2'!O22 -> 0
A34: 33 | B34: =B33+1 -> 32 | C34: ='BOURSE F2'!B23 -> cde | D34: ='BOURSE F2'!C23 -> 0 | E34: ='BOURSE F2'!D23 -> BOURSE | F34: ='BOURSE F2'!E23 -> ZB | G34: ='BOURSE F2'!F23 -> 0 | H34: ='BOURSE F2'!G23 -> 0 | I34: ='BOURSE F2'!H23 -> 0 | J34: ='BOURSE F2'!I23 -> 0 | ... P34: ='BOURSE F2'!O23 -> 0
A35: 34 | B35: =B34+1 -> 33 | C35: ='BOURSE F2'!B24 -> cde | D35: ='BOURSE F2'!C24 -> 0 | E35: ='BOURSE F2'!D24 -> BOURSE | F35: ='BOURSE F2'!E24 -> ZB | G35: ='BOURSE F2'!F24 -> 0 | H35: ='BOURSE F2'!G24 -> 0 | I35: ='BOURSE F2'!H24 -> 0 | J35: ='BOURSE F2'!I24 -> 0 | ... P35: ='BOURSE F2'!O24 -> 0
... A43: 42 | B43: =B42+1 -> 41 | C43: ='BOURSE F2'!B32 -> cde | D43: ='BOURSE F2'!C32 -> 0 | E43: ='BOURSE F2'!D32 -> BOURSE | F43: ='BOURSE F2'!E32 -> ZB | G43: ='BOURSE F2'!F32 -> 0 | H43: ='BOURSE F2'!G32 -> 0 | I43: ='BOURSE F2'!H32 -> 0 | J43: ='BOURSE F2'!I32 -> 0 | ... P43: ='BOURSE F2'!O32 -> 0
A44: 43 | B44: =B43+1 -> 42 | C44: ='BOURSE F3'!B12 -> cde | D44: ='BOURSE F3'!C12 -> 0 | E44: ='BOURSE F3'!D12 -> BOURSE | F44: ='BOURSE F3'!E12 -> ZB | G44: ='BOURSE F3'!F12 -> 0 | H44: ='BOURSE F3'!G12 -> 0 | I44: ='BOURSE F3'!H12 -> 0 | J44: ='BOURSE F3'!I12 -> 0 | ... P44: ='BOURSE F3'!O12 -> 0 | Q44: FEUILLE BOURSE 3
A45: 44 | B45: =B44+1 -> 43 | C45: ='BOURSE F3'!B13 -> cde | D45: ='BOURSE F3'!C13 -> 0 | E45: ='BOURSE F3'!D13 -> BOURSE | F45: ='BOURSE F3'!E13 -> ZB | G45: ='BOURSE F3'!F13 -> 0 | H45: ='BOURSE F3'!G13 -> 0 | I45: ='BOURSE F3'!H13 -> 0 | J45: ='BOURSE F3'!I13 -> 0 | ... P45: ='BOURSE F3'!O13 -> 0
A46: 45 | B46: =B45+1 -> 44 | C46: ='BOURSE F3'!B14 -> cde | D46: ='BOURSE F3'!C14 -> 0 | E46: ='BOURSE F3'!D14 -> BOURSE | F46: ='BOURSE F3'!E14 -> ZB | G46: ='BOURSE F3'!F14 -> 0 | H46: ='BOURSE F3'!G14 -> 0 | I46: ='BOURSE F3'!H14 -> 0 | J46: ='BOURSE F3'!I14 -> 0 | ... P46: ='BOURSE F3'!O14 -> 0
A47: 46 | B47: =B46+1 -> 45 | C47: ='BOURSE F3'!B15 -> cde | D47: ='BOURSE F3'!C15 -> 0 | E47: ='BOURSE F3'!D15 -> BOURSE | F47: ='BOURSE F3'!E15 -> ZB | G47: ='BOURSE F3'!F15 -> 0 | H47: ='BOURSE F3'!G15 -> 0 | I47: ='BOURSE F3'!H15 -> 0 | J47: ='BOURSE F3'!I15 -> 0 | ... P47: ='BOURSE F3'!O15 -> 0
A48: 47 | B48: =B47+1 -> 46 | C48: ='BOURSE F3'!B16 -> cde | D48: ='BOURSE F3'!C16 -> 0 | E48: ='BOURSE F3'!D16 -> BOURSE | F48: ='BOURSE F3'!E16 -> ZB | G48: ='BOURSE F3'!F16 -> 0 | H48: ='BOURSE F3'!G16 -> 0 | I48: ='BOURSE F3'!H16 -> 0 | J48: ='BOURSE F3'!I16 -> 0 | ... P48: ='BOURSE F3'!O16 -> 0
A49: 48 | B49: =B48+1 -> 47 | C49: ='BOURSE F3'!B17 -> cde | D49: ='BOURSE F3'!C17 -> 0 | E49: ='BOURSE F3'!D17 -> BOURSE | F49: ='BOURSE F3'!E17 -> ZB | G49: ='BOURSE F3'!F17 -> 0 | H49: ='BOURSE F3'!G17 -> 0 | I49: ='BOURSE F3'!H17 -> 0 | J49: ='BOURSE F3'!I17 -> 0 | ... P49: ='BOURSE F3'!O17 -> 0
A50: 49 | B50: =B49+1 -> 48 | C50: ='BOURSE F3'!B18 -> cde | D50: ='BOURSE F3'!C18 -> 0 | E50: ='BOURSE F3'!D18 -> BOURSE | F50: ='BOURSE F3'!E18 -> ZB | G50: ='BOURSE F3'!F18 -> 0 | H50: ='BOURSE F3'!G18 -> 0 | I50: ='BOURSE F3'!H18 -> 0 | J50: ='BOURSE F3'!I18 -> 0 | ... P50: ='BOURSE F3'!O18 -> 0
A51: 50 | B51: =B50+1 -> 49 | C51: ='BOURSE F3'!B19 -> cde | D51: ='BOURSE F3'!C19 -> 0 | E51: ='BOURSE F3'!D19 -> BOURSE | F51: ='BOURSE F3'!E19 -> ZB | G51: ='BOURSE F3'!F19 -> 0 | H51: ='BOURSE F3'!G19 -> 0 | I51: ='BOURSE F3'!H19 -> 0 | J51: ='BOURSE F3'!I19 -> 0 | ... P51: ='BOURSE F3'!O19 -> 0
A52: 51 | B52: =B51+1 -> 50 | C52: ='BOURSE F3'!B20 -> cde | D52: ='BOURSE F3'!C20 -> 0 | E52: ='BOURSE F3'!D20 -> BOURSE | F52: ='BOURSE F3'!E20 -> ZB | G52: ='BOURSE F3'!F20 -> 0 | H52: ='BOURSE F3'!G20 -> 0 | I52: ='BOURSE F3'!H20 -> 0 | J52: ='BOURSE F3'!I20 -> 0 | ... P52: ='BOURSE F3'!O20 -> 0
A53: 52 | B53: =B52+1 -> 51 | C53: ='BOURSE F3'!B21 -> cde | D53: ='BOURSE F3'!C21 -> 0 | E53: ='BOURSE F3'!D21 -> BOURSE | F53: ='BOURSE F3'!E21 -> ZB | G53: ='BOURSE F3'!F21 -> 0 | H53: ='BOURSE F3'!G21 -> 0 | I53: ='BOURSE F3'!H21 -> 0 | J53: ='BOURSE F3'!I21 -> 0 | ... P53: ='BOURSE F3'!O21 -> 0
A54: 53 | B54: =B53+1 -> 52 | C54: ='BOURSE F3'!B22 -> cde | D54: ='BOURSE F3'!C22 -> 0 | E54: ='BOURSE F3'!D22 -> BOURSE | F54: ='BOURSE F3'!E22 -> ZB | G54: ='BOURSE F3'!F22 -> 0 | H54: ='BOURSE F3'!G22 -> 0 | I54: ='BOURSE F3'!H22 -> 0 | J54: ='BOURSE F3'!I22 -> 0 | ... P54: ='BOURSE F3'!O22 -> 0
A55: 54 | B55: =B54+1 -> 53 | C55: ='BOURSE F3'!B23 -> cde | D55: ='BOURSE F3'!C23 -> 0 | E55: ='BOURSE F3'!D23 -> BOURSE | F55: ='BOURSE F3'!E23 -> ZB | G55: ='BOURSE F3'!F23 -> 0 | H55: ='BOURSE F3'!G23 -> 0 | I55: ='BOURSE F3'!H23 -> 0 | J55: ='BOURSE F3'!I23 -> 0 | ... P55: ='BOURSE F3'!O23 -> 0
A56: 55 | B56: =B55+1 -> 54 | C56: ='BOURSE F3'!B24 -> cde | D56: ='BOURSE F3'!C24 -> 0 | E56: ='BOURSE F3'!D24 -> BOURSE | F56: ='BOURSE F3'!E24 -> ZB | G56: ='BOURSE F3'!F24 -> 0 | H56: ='BOURSE F3'!G24 -> 0 | I56: ='BOURSE F3'!H24 -> 0 | J56: ='BOURSE F3'!I24 -> 0 | ... P56: ='BOURSE F3'!O24 -> 0
... A64: 63 | B64: =B63+1 -> 62 | C64: ='BOURSE F3'!B32 -> cde | D64: ='BOURSE F3'!C32 -> 0 | E64: ='BOURSE F3'!D32 -> BOURSE | F64: ='BOURSE F3'!E32 -> ZB | G64: ='BOURSE F3'!F32 -> 0 | H64: ='BOURSE F3'!G32 -> 0 | I64: ='BOURSE F3'!H32 -> 0 | J64: ='BOURSE F3'!I32 -> 0 | ... P64: ='BOURSE F3'!O32 -> 0

Sheet ADHERENT
A1: QUALITE | B1: nom | C1: prenom | D1: adresse | E1: code postal | F1: ville | G1: telephone | H1: mail | I1: region | J1: souche | K1: souche1 | L1: souche2 | M1: club | N1: nbre oiseaux | O1: nbre Cage Simple | P1: nbre Charles | Q1: nbre Volière
A2: ='BOURSE F1'!A6 -> 0 | B2: ='BOURSE F1'!B6 -> 0 | C2: ='BOURSE F1'!D6 -> 0 | D2: ='BOURSE F1'!F6 -> 0 | E2: ='BOURSE F1'!G6 -> 0 | F2: ='BOURSE F1'!I6 -> 0 | G2: ='BOURSE F1'!K6 -> 0 | H2: ='BOURSE F1'!M6 -> 0 | I2: ='BOURSE F1'!E9 -> CDE | J2: ='BOURSE F1'!F9 -> 0 | K2: ='BOURSE F1'!I9 -> 0 | L2: ='BOURSE F1'!J9 -> 0 | M2: ='BOURSE F1'!J9 -> 0 | N2: ='BOURSE F1'!O9 -> 0 | O2: ='BOURSE F1'!M8+'BOURSE F2'!M8+'BOURSE F3'!M8 -> 0 | P2: ='BOURSE F1'!N8+'BOURSE F2'!N8+'BOURSE F3'!N8 -> 0 | Q2: ='BOURSE F1'!O8+'BOURSE F2'!O8+'BOURSE F3'!O8 -> 0

Sheet groupe-type
A1: groupeoiseaux | B1: A_P_GR | C1: AGAS | D1: ASIAT | E1: AUST | F1: BOLBO | G1: CA_CO | H1: CALOS | I1: C_COUL | J1: COLOMB | K1: C_POST | L1: CROUP | M1: ESTRI | N1: EUPH | O1: FAUNE | P1: F_I_N | Q1: FORPUS | R1: G_AME | S1: G_AUST | T1: GOULD | U1: HYBRI | V1: KAKAR | W1: LONCH | X1: LORIS | Y1: MAND | Z1: M_AUS | AA1: OCEAN | AB1: PADDA | AC1: PERRO | AD1: POC | AE1: POP | AF1: PYRRH | AG1: REGION | AH1: sexe | AI1: NAISSANCE | AJ1: CAGE_PERSONNEL | AK1: ETAT | AL1: ESPECE_BOURSE
B2: F08 001 BF | C2: J 101 BF | D2: L1 101 BF | E2: F06 003 B | F2: M1 401 B | G2: P1 01 BF | H2: K5 101 BF | I2: D01 01 B | J2: O01 001 B | K2: E00 01 B | L2: K3 101 BF | M2: F07 001 D | N2: K1 101 BF | O2: G1 001 B | P2: F11 001 B | Q2: F11 001 B | R2: M2 101 B | S2: K6 101 B | T2: F05 001 BF | U2: H1 001 B | V2: K2 101 BF | W2: F02 001 B | X2: N2 101 B | Y2: F01 001 BF | Z2: K3 301 BF | AA2: F06 001 BF | AB2: F04 001 B | AC2: N3 101 B | AD2: I1 182 BC | AE2: I1 001 BC | AF2: M3 101 B | AG2: CDE | AH2: M | AI2: 2026 | AJ2: O | AK2: ABS | AL2: AGAS
B3: F08 001 BM | C3: J 101 BM | D3: L1 101 BM | E3: F06 003 D | F3: M1 401 D | G3: P1 01 BM | H3: K5 101 BM | I3: D01 01 D | J3: O01 001 D | K3: E00 01 D | L3: K3 101 BM | M3: F07 001 I | N3: K1 101 BM | O3: G1 001 D | P3: F11 001 D | Q3: F11 001 D | R3: M2 101 D | S3: K6 101 D | T3: F05 001 BM | U3: H1 001 D | V3: K2 101 BM | W3: F02 001 D | X3: N2 101 D | Y3: F01 001 BM | Z3: K3 301 BM | AA3: F06 001 BM | AB3: F04 001 D | AC3: N3 101 D | AD3: I1 182 BDF | AE3: I1 001 BDF | AF3: M3 101 D | AG3: UOF | AH3: F | AI3: 2025 | AJ3: N | AK3: NP | AL3: CANARI
B4: F08 001 C | C4: J 101 C | D4: L1 101 C | E4: F06 003 I | F4: M1 401 I | G4: P1 01 C | H4: K5 101 C | I4: D01 01 I | J4: O01 001 I | K4: E00 01 I | L4: K3 101 C | M4: F07 001 S | N4: K1 101 C | O4: G1 001 I | P4: F11 001 I | Q4: F11 001 I | R4: M2 101 I | S4: K6 101 I | T4: F05 001 C | U4: H1 001 I | V4: K2 101 C | W4: F02 001 I | X4: N2 101 I | Y4: F01 001 C | Z4: K3 301 C | AA4: F06 001 C | AB4: F04 001 I | AC4: N3 101 I | AD4: I1 182 BDM | AE4: I1 001 BDM | AF4: M3 101 I | AH4: C | AI4: 2024 | AK4: NJ | AL4: CHARDONNERET
B5: F08 001 DF | C5: J 101 DF | D5: L1 101 DF | E5: F06 003 S | F5: M1 401 S | G5: P1 01 DF | H5: K5 101 DF | I5: D01 01 S | J5: O01 001 S | K5: E00 01 S | L5: K3 101 DF | M5: F07 002 D | N5: K1 101 DF | O5: G1 001 S | P5: F11 001 S | Q5: F11 001 S | R5: M2 101 S | S5: K6 101 S | T5: F05 001 DF | U5: H1 001 S | V5: K2 101 DF | W5: F02 001 S | X5: N2 101 S | Y5: F01 001 DF | Z5: K3 301 DF | AA5: F06 001 DF | AB5: F04 001 S | AC5: N3 101 S | AD5: I1 182 BF | AE5: I1 001 BF | AF5: M3 101 S | AH5: ? | AI5: 2023 | AK5: DECL | AL5: EXOTIQUE
B6: F08 001 DM | C6: J 101 DM | D6: L1 101 DM | E6: F06 004 D | F6: M1 402 B | G6: P1 01 DM | H6: K5 101 DM | I6: D01 02 D | J6: O01 002 B | K6: E00 02 B | L6: K3 101 DM | M6: F07 002 I | N6: K1 101 DM | O6: G1 002 D | P6: F11 002 D | Q6: F11 002 D | R6: M2 102 B | S6: K6 102 D | T6: F05 001 DM | U6: H1 002 D | V6: K2 101 DM | W6: F02 002 D | X6: N2 102 B | Y6: F01 001 DM | Z6: K3 301 DM | AA6: F06 001 DM | AB6: F04 002 B | AC6: N3 102 D | AD6: I1 182 BM | AE6: I1 001 BM | AF6: M3 102 B | AI6: 2022 | AK6: DISQ | AL6: PERRUCHE
B7: F08 001 IF | C7: J 101 IF | D7: L1 101 IF | E7: F06 004 I | F7: M1 402 D | G7: P1 01 IF | H7: K5 101 IF | I7: D01 02 I | J7: O01 002 D | K7: E00 02 D | L7: K3 101 IF | M7: F07 002 S | N7: K1 101 IF | O7: G1 002 I | P7: F11 002 I | Q7: F11 002 I | R7: M2 102 D | S7: K6 102 I | T7: F05 001 IF | U7: H1 002 I | V7: K2 101 IF | W7: F02 002 I | X7: N2 102 D | Y7: F01 001 IF | Z7: K3 301 IF | AA7: F06 001 IF | AB7: F04 002 D | AC7: N3 102 I | AD7: I1 182 BSF | AE7: I1 001 BSF | AF7: M3 102 D | AI7: 2021 | AK7: PC | AL7: PERROQUET
B8: F08 001 IM | C8: J 101 IM | D8: L1 101 IM | E8: F06 004 S | F8: M1 402 I | G8: P1 01 IM | H8: K5 101 IM | I8: D01 02 S | J8: O01 002 I | K8: E00 02 I | L8: K3 101 IM | M8: F07 003 D | N8: K1 101 IM | O8: G1 002 S | P8: F11 002 S | Q8: F11 002 S | R8: M2 102 I | S8: K6 102 S | T8: F05 001 IM | U8: H1 002 S | V8: K2 101 IM | W8: F02 002 S | X8: N2 102 I | Y8: F01 001 IM | Z8: K3 301 IM | AA8: F06 001 IM | AB8: F04 002 I | AC8: N3 102 S | AD8: I1 182 BSM | AE8: I1 001 BSM | AF8: M3 102 I | AI8: 2020 | AK8: DCD | AL8: Grde PERRUCHE
B9: F08 001 SF | C9: J 101 SF | D9: L1 101 SF | E9: F06 005 B | F9: M1 402 S | G9: P1 01 SF | H9: K5 101 SF | I9: D01 03 D | J9: O01 002 S | K9: E00 02 S | L9: K3 101 SF | M9: F07 003 I | N9: K1 101 SF | O9: G1 003 D | P9: F11 003 B | Q9: F11 003 B | R9: M2 102 S | S9: K6 103 D | T9: F05 001 SF | U9: H1 003 B | V9: K2 101 SF | W9: F02 003 D | X9: N2 102 S | Y9: F01 001 SF | Z9: K3 301 SF | AA9: F06 001 SF | AB9: F04 002 S | AC9: N3 103 D | AD9: I1 182 C | AE9: I1 001 C | AF9: M3 102 S | AI9: 2019 | AL9: Grd EXOTIQUE
B10: F08 001 SM | C10: J 101 SM | D10: L1 101 SM | E10: F06 005 D | F10: M1 403 D | G10: P1 01 SM | H10: K5 101 SM | I10: D01 03 I | J10: O01 003 D | K10: E00 03 B | L10: K3 101 SM | M10: F07 003 S | N10: K1 101 SM | O10: G1 003 I | P10: F11 003 D | Q10: F11 003 D | R10: M2 103 D | S10: K6 103 I | T10: F05 001 SM | U10: H1 003 D | V10: K2 101 SM | W10: F02 003 I | X10: N2 103 D | Y10: F01 001 SM | Z10: K3 301 SM | AA10: F06 001 SM | AB10: F04 003 D | AC10: N3 103 I | AD10: I1 182 DF | AE10: I1 001 DF | AF10: M3 103 B | AI10: 2018
B11: F08 002 BF | C11: J 102 C | D11: L1 102 BF | E11: F06 005 I | F11: M1 403 I | G11: P1 02 BF | H11: K5 102 BF | I11: D01 03 S | J11: O01 003 I | K11: E00 03 D | L11: K3 102 BF | M11: F07 004 D | N11: K1 102 BF | O11: G1 003 S | P11: F11 003 I | Q11: F11 003 I | R11: M2 103 I | S11: K6 103 S | T11: F05 002 C | U11: H1 003 I | V11: K2 102 BF | W11: F02 003 S | X11: N2 103 I | Y11: F01 002 BF | Z11: K3 302 BF | AA11: F06 002 BF | AB11: F04 003 I | AC11: N3 103 S | AD11: I1 182 DM | AE11: I1 001 DM | AF11: M3 103 D | AI11: 2017
B12: F08 002 BM | C12: J 102 DF | D12: L1 102 BM | E12: F06 005 S | F12: M1 403 S | G12: P1 02 BM | H12: K5 102 BM | I12: D01 04 D | J12: O01 003 S | K12: E00 03 I | L12: K3 102 BM | M12: F07 004 I | N12: K1 102 BM | O12: G1 004 D | P12: F11 003 S | Q12: F11 003 S | R12: M2 103 S | S12: K6 104 B | T12: F05 002 DF | U12: H1 003 S | V12: K2 102 BM | W12: F02 004 B | X12: N2 103 S | Y12: F01 002 BM | Z12: K3 302 BM | AA12: F06 002 BM | AB12: F04 003 S | AC12: N3 104 B | AD12: I1 182 IF | AE12: I1 001 IF | AF12: M3 103 I
B13: F08 002 C | C13: J 102 DM | D13: L1 102 C | E13: F06 006 D | F13: M1 404 D | G13: P1 02 C | H13: K5 102 C | I13: D01 04 I | J13: O01 004 D | K13: E00 03 S | L13: K3 102 C | M13: F07 004 S | N13: K1 102 C | O13: G1 004 I | P13: F11 004 D | Q13: F11 004 D | R13: M2 104 D | S13: K6 104 D | T13: F05 002 DM | U13: H1 004 D | V13: K2 102 C | W13: F02 004 D | X13: N2 104 D | Y13: F01 002 C | Z13: K3 302 C | AA13: F06 002 C | AB13: F04 004 D | AC13: N3 104 D | AD13: I1 182 IM | AE13: I1 001 IM | AF13: M3 103 S
B14: F08 002 DF | C14: J 102 IF | D14: L1 102 DF | E14: F06 006 I | F14: M1 404 I | G14: P1 02 DF | H14: K5 102 DF | I14: D01 04 S | J14: O01 004 I | K14: E00 04 D | L14: K3 102 DF | M14: F07 005 B | N14: K1 102 DF | O14: G1 004 S | P14: F11 004 I | Q14: F11 004 I | R14: M2 104 I | S14: K6 104 I | T14: F05 002 IF | U14: H1 004 I | V14: K2 102 DF | W14: F02 004 I | X14: N2 104 I | Y14: F01 002 DF | Z14: K3 302 DF | AA14: F06 002 DF | AB14: F04 004 I | AC14: N3 104 I | AD14: I1 182 SF | AE14: I1 001 SF | AF14: M3 104 D | AG14: CONVOYAGE | AI14: GENRE | AJ14: TYPE BOURSE
B15: F08 002 DM | C15: J 102 IM | D15: L1 102 DM | E15: F06 006 S | F15: M1 404 S | G15: P1 02 DM | H15: K5 102 DM | I15: D01 05 B | J15: O01 004 S | K15: E00 04 I | L15: K3 102 DM | M15: F07 005 D | N15: K1 102 DM | O15: G1 005 D | P15: F11 004 S | Q15: F11 004 S | R15: M2 104 S | S15: K6 104 S | T15: F05 002 IM | U15: H1 004 S | V15: K2 102 DM | W15: F02 004 S | X15: N2 104 S | Y15: F01 002 DM | Z15: K3 302 DM | AA15: F06 002 DM | AB15: F04 004 S | AC15: N3 104 S | AD15: I1 182 SM | AE15: I1 001 SM | AF15: M3 104 I | AG15: OUI | AI15: Monsieur | AJ15: ZB
B16: F08 002 IF | C16: J 102 SF | D16: L1 102 IF | E16: F06 007 D | F16: M1 405 D | G16: P1 02 IF | H16: K5 102 IF | I16: D01 05 D | J16: O01 005 D | K16: E00 04 S | L16: K3 102 IF | M16: F07 005 I | N16: K1 102 IF | O16: G1 005 I | P16: F11 005 B | Q16: F11 005 B | R16: M2 105 D | S16: K6 105 D | T16: F05 002 SF | U16: H1 005 B | V16: K2 102 IF | W16: F02 005 D | X16: N2 105 D | Y16: F01 002 IF | Z16: K3 302 IF | AA16: F06 002 IF | AB16: F04 005 B | AC16: N3 111 D | AD16: I1 202 BC | AE16: I1 002 BC | AF16: M3 104 S | AG16: NON | AI16: Madame
B17: F08 002 IM | C17: J 102 SM | D17: L1 102 IM | E17: F06 007 I | F17: M1 405 I | G17: P1 02 IM | H17: K5 102 IM | I17: D01 05 I | J17: O01 005 I | K17: E00 05 D | L17: K3 102 IM | M17: F07 005 S | N17: K1 102 IM | O17: G1 005 S | P17: F11 005 D | Q17: F11 005 D | R17: M2 105 I | S17: K6 105 I | T17: F05 002 SM | U17: H1 005 D | V17: K2 102 IM | W17: F02 005 I | X17: N2 105 I | Y17: F01 002 IM | Z17: K3 302 IM | AA17: F06 002 IM | AB17: F04 005 D | AC17: N3 111 I | AD17: I1 202 BDF | AE17: I1 002 BDF | AF17: M3 105 B
B18: F08 002 SF | C18: J 201 BF | D18: L1 102 SF | E18: F06 007 S | F18: M1 405 S | G18: P1 02 SF | H18: K5 102 SF | I18: D01 05 S | J18: O01 005 S | K18: E00 05 I | L18: K3 102 SF | M18: F07 006 B | N18: K1 102 SF | O18: G1 007 B | P18: F11 005 I | Q18: F11 005 I | R18: M2 105 S | S18: K6 105 S | T18: F05 003 C | U18: H1 005 I | V18: K2 102 SF | W18: F02 005 S | X18: N2 105 S | Y18: F01 002 SF | Z18: K3 302 SF | AA18: F06 002 SF | AB18: F04 005 I | AC18: N3 111 S | AD18: I1 202 BDM | AE18: I1 002 BDM | AF18: M3 105 D
B19: F08 002 SM | C19: J 201 BM | D19: L1 102 SM | E19: F06 008 D | F19: M1 406 B | G19: P1 02 SM | H19: K5 102 SM | I19: D01 06 D | J19: O01 006 D | K19: E00 05 S | L19: K3 102 SM | M19: F07 006 D | N19: K1 102 SM | O19: G1 007 D | P19: F11 005 S | Q19: F11 005 S | R19: M2 106 D | S19: K6 106 D | T19: F05 003 DF | U19: H1 005 S | V19: K2 102 SM | W19: F02 006 D | X19: N2 106 D | Y19: F01 002 SM | Z19: K3 302 SM | AA19: F06 002 SM | AB19: F04 005 S | AC19: N3 112 D | AD19: I1 202 BF | AE19: I1 002 BF | AF19: M3 105 I
B20: F08 003 C | C20: J 201 C | D20: L1 201 BF | E20: F06 008 I | F20: M1 406 D | G20: P1 03 BF | H20: K5 103 C | I20: D01 06 I | J20: O01 006 I | K20: E00 06 D | L20: K3 103 C | M20: F07 006 I | N20: K1 103 C | O20: G1 007 I | P20: F11 006 D | Q20: F11 006 D | R20: M2 106 I | S20: K6 106 I | T20: F05 003 DM | U20: H1 006 D | V20: K2 103 C | W20: F02 006 I | X20: N2 106 I | Y20: F01 003 BF | Z20: K3 303 C | AA20: F06 070 B | AB20: F04 006 D | AC20: N3 112 I | AD20: I1 202 BM | AE20: I1 002 BM | AF20: M3 105 S
B21: F08 003 DF | C21: J 201 DF | D21: L1 201 BM | E21: F06 008 S | F21: M1 406 I | G21: P1 03 BM | H21: K5 103 DF | I21: D01 06 S | J21: O01 006 S | K21: E00 06 I | L21: K3 103 DF | M21: F07 006 S | N21: K1 103 DF | O21: G1 007 S | P21: F11 006 I | Q21: F11 006 I | R21: M2 106 S | S21: K6 106 S | T21: F05 003 IF | U21: H1 006 I | V21: K2 103 DF | W21: F02 006 S | X21: N2 106 S | Y21: F01 003 BM | Z21: K3 303 DF | AA21: F06 070 D | AB21: F04 006 I | AC21: N3 112 S | AD21: I1 202 BSF | AE21: I1 002 BSF | AF21: M3 106 D
B22: F08 003 DM | C22: J 201 DM | D22: L1 201 C | E22: F06 009 D | F22: M1 406 S | G22: P1 03 C | H22: K5 103 DM | I22: D01 07 D | J22: O01 007 D | K22: E00 06 S | L22: K3 103 DM | M22: F07 007 D | N22: K1 103 DM | O22: G1 009 D | P22: F11 006 S | Q22: F11 006 S | R22: M2 107 B | S22: K6 107 D | T22: F05 003 IM | U22: H1 006 S | V22: K2 103 DM | W22: F02 007 D | X22: N2 107 D | Y22: F01 003 C | Z22: K3 303 DM | AA22: F06 070 I | AB22: F04 006 S | AC22: N3 121 C | AD22: I1 202 BSM | AE22: I1 002 BSM | AF22: M3 106 I
B23: F08 003 IF | C23: J 201 IF | D23: L1 201 DF | E23: F06 009 I | F23: M1 407 B | G23: P1 03 DF | H23: K5 103 IF | I23: D01 07 I | J23: O01 007 I | K23: E01 01 B | L23: K3 103 IF | M23: F07 007 I | N23: K1 103 IF | O23: G1 009 I | P23: F11 007 B | Q23: F11 007 B | R23: M2 107 D | S23: K6 107 I | T23: F05 003 SF | U23: H1 007 B | V23: K2 103 IF | W23: F02 007 I | X23: N2 107 I | Y23: F01 003 DF | Z23: K3 303 IF | AA23: F06 070 S | AB23: F04 007 D | AC23: N3 121 DF | AD23: I1 202 C | AE23: I1 002 C | AF23: M3 106 S
B24: F08 003 IM | C24: J 201 IM | D24: L1 201 DM | E24: F06 009 S | F24: M1 407 D | G24: P1 03 DM | H24: K5 103 IM | I24: D01 07 S | J24: O01 007 S | K24: E01 01 D | L24: K3 103 IM | M24: F07 007 S | N24: K1 103 IM | O24: G1 009 S | P24: F11 007 D | Q24: F11 007 D | R24: M2 107 I | S24: K6 107 S | T24: F05 003 SM | U24: H1 007 D | V24: K2 103 IM | W24: F02 007 S | X24: N2 107 S | Y24: F01 003 DM | Z24: K3 303 IM | AA24: F06 071 B | AB24: F04 007 I | AC24: N3 121 DM | AD24: I1 202 DF | AE24: I1 002 DF | AF24: M3 107 B
B25: F08 003 SF | C25: J 201 SF | D25: L1 201 IF | E25: F06 010 D | F25: M1 407 I | G25: P1 03 IF | H25: K5 103 SF | I25: D01 08 D | J25: O01 008 D | K25: E01 01 I | L25: K3 103 SF | M25: F07 008 D | N25: K1 103 SF | O25: G1 010 D | P25: F11 007 I | Q25: F11 007 I | R25: M2 107 S | S25: K6 108 D | T25: F05 004 C | U25: H1 007 I | V25: K2 103 SF | W25: F02 008 D | X25: N2 108 D | Y25: F01 003 IF | Z25: K3 303 SF | AA25: F06 071 D | AB25: F04 007 S | AC25: N3 121 IF | AD25: I1 202 DM | AE25: I1 002 DM | AF25: M3 107 D
B26: F08 003 SM | C26: J 201 SM | D26: L1 201 IM | E26: F06 010 I | F26: M1 407 S | G26: P1 03 IM | H26: K5 103 SM | I26: D01 08 I | J26: O01 008 I | K26: E01 01 S | L26: K3 103 SM | M26: F07 008 I | N26: K1 103 SM | O26: G1 010 I | P26: F11 007 S | Q26: F11 007 S | R26: M2 108 B | S26: K6 108 I | T26: F05 004 DF | U26: H1 007 S | V26: K2 103 SM | W26: F02 008 I | X26: N2 108 I | Y26: F01 003 IM | Z26: K3 303 SM | AA26: F06 071 I | AB26: F04 008 D | AC26: N3 121 IM | AD26: I1 202 IF | AE26: I1 002 IF | AF26: M3 107 I
B27: F08 004 C | C27: J 202 BF | D27: L1 201 SF | E27: F06 010 S | F27: M1 408 D | G27: P1 03 SF | H27: K5 104 C | I27: D01 08 S | J27: O01 008 S | K27: E01 02 B | L27: K3 104 C | M27: F07 008 S | N27: K1 104 C | O27: G1 010 S | P27: F11 008 D | Q27: F11 008 D | R27: M2 108 D | S27: K6 108 S | T27: F05 004 DM | U27: H1 008 D | V27: K2 104 C | W27: F02 008 S | X27: N2 108 S | Y27: F01 003 SF | Z27: K3 304 C | AA27: F06 071 S | AB27: F04 008 I | AC27: N3 121 SF | AD27: I1 202 IM | AE27: I1 002 IM | AF27: M3 107 S
B28: F08 004 DF | C28: J 202 BM | D28: L1 201 SM | E28: F06 011 B | F28: M1 408 I | G28: P1 03 SM | H28: K5 104 DF | I28: D01 09 D | J28: O01 009 B | K28: E01 02 D | L28: K3 104 DF | M28: F07 009 D | N28: K1 104 DF | O28: G1 012 BF | P28: F11 008 I | Q28: F11 008 I | R28: M2 108 I | S28: K6 109 D | T28: F05 004 IF | U28: H1 008 I | V28: K2 104 DF | W28: F02 009 D | X28: N2 201 B | Y28: F01 003 SM | Z28: K3 304 DF | AA28: F06 072 D | AB28: F04 008 S | AC28: N3 121 SM | AD28: I1 202 SF | AE28: I1 002 SF | AF28: M3 108 D
... B62: F08 008 IF | C62: J 206 SF | D62: L1 206 IF | E62: F06 021 B | F62: M1 417 S | G62: P1 08 IF | H62: K5 110 D | I62: D01 17 I | J62: O01 019 S | K62: E02 06 D | L62: K3 109 C | M62: F07 020 I | N62: K1 110 D | O62: G1 021 BM | P62: F11 015 I | Q62: F11 015 I | R62: M2 119 D | S62: K6 120 I | T62: F05 009 C | U62: H1 018 D | V62: K2 109 C | W62: F02 019 S | X62: N2 253 D | Y62: F01 008 SF | Z62: K3 509 I | AA62: F06 082 S | AB62: F04 018 S | AC62: N3 161 D | AD62: I2 005 BF | AE62: I1 005 BM | AF62: M3 118 D
B63: F08 008 IM | C63: J 206 SM | D63: L1 206 IM | E63: F06 021 D | F63: M1 418 D | G63: P1 08 IM | H63: K5 110 I | I63: D01 17 S | J63: O01 020 D | K63: E02 06 I | L63: K3 109 DF | M63: F07 020 S | N63: K1 110 I | O63: G1 021 C | P63: F11 015 S | Q63: F11 015 S | R63: M2 119 I | S63: K6 120 S | T63: F05 009 DF | U63: H1 018 I | V63: K2 109 DF | W63: F02 020 D | X63: N2 253 I | Y63: F01 008 SM | Z63: K3 509 S | AA63: F06 083 D | AC63: N3 161 I | AD63: I2 005 BM | AE63: I1 005 BSF | AF63: M3 118 I
B64: F08 008 SF | C64: J 301 BF | D64: L1 206 SF | E64: F06 021 I | F64: M1 418 I | G64: P1 08 SF | H64: K5 110 S | I64: D01 18 D | J64: O01 020 I | K64: E02 06 S | L64: K3 109 DM | M64: F07 021 D | N64: K1 110 S | O64: G1 021 DF | P64: F11 016 D | Q64: F11 016 D | R64: M2 119 S | S64: K6 121 D | T64: F05 009 DM | U64: H1 018 S | V64: K2 109 DM | W64: F02 020 I | X64: N2 253 S | Y64: F01 009 BF | Z64: K3 510 D | AA64: F06 083 I | AC64: N3 161 S | AD64: I2 005 C | AE64: I1 005 BSM | AF64: M3 118 S
B65: F08 008 SM | C65: J 301 BM | D65: L1 206 SM | E65: F06 021 S | F65: M1 418 S | G65: P1 08 SM | H65: K5 111 D | I65: D01 18 I | J65: O01 020 S | K65: E03 01 B | L65: K3 109 IF | M65: F07 021 I | N65: K1 111 D | O65: G1 021 DM | P65: F11 016 I | Q65: F11 016 I | R65: M2 120 D | S65: K6 121 I | T65: F05 009 IF | U65: H1 019 B | V65: K2 109 IF | W65: F02 020 S | X65: N2 254 D | Y65: F01 009 BM | Z65: K3 510 I | AA65: F06 083 S | AC65: N3 162 D | AD65: I2 005 DF | AE65: I1 005 C | AF65: M3 119 D
B66: F08 009 BF | C66: J 301 C | D66: L1 207 C | E66: F06 022 B | F66: M1 419 D | G66: P1 09 C | H66: K5 111 I | I66: D01 18 S | J66: O01 021 B | K66: E03 01 D | L66: K3 109 IM | M66: F07 021 S | N66: K1 111 I | O66: G1 021 IF | P66: F11 016 S | Q66: F11 016 S | R66: M2 120 I | S66: K6 121 S | T66: F05 009 IM | U66: H1 019 D | V66: K2 109 IM | W66: F02 021 B | X66: N2 254 I | Y66: F01 009 C | Z66: K3 510 S | AA66: F06 084 D | AC66: N3 162 I | AD66: I2 005 DM | AE66: I1 005 DF | AF66: M3 119 I
B67: F08 009 BM | C67: J 301 DF | D67: L1 207 DF | E67: F06 022 D | F67: M1 419 I | G67: P1 09 DF | H67: K5 111 S | I67: D01 19 D | J67: O01 021 D | K67: E03 01 I | L67: K3 109 SF | M67: F07 022 D | N67: K1 111 S | O67: G1 021 IM | P67: F11 017 B | Q67: F11 017 B | R67: M2 120 S | S67: K6 122 D | T67: F05 009 SF | U67: H1 019 I | V67: K2 109 SF | W67: F02 021 D | X67: N2 254 S | Y67: F01 009 DF | Z67: K3 601 BF | AA67: F06 084 I | AC67: N3 162 S | AD67: I2 005 IF | AE67: I1 005 DM | AF67: M3 119 S
B68: F08 009 C | C68: J 301 DM | D68: L1 207 DM | E68: F06 022 I | F68: M1 419 S | G68: P1 09 DM | H68: K5 112 BF | I68: D01 19 I | J68: O01 021 I | K68: E03 01 S | L68: K3 109 SM | M68: F07 022 I | N68: K1 112 D | O68: G1 021 SF | P68: F11 017 D | Q68: F11 017 D | R68: M2 121 D | S68: K6 122 I | T68: F05 009 SM | U68: H1 019 S | V68: K2 109 SM | W68: F02 021 I | X68: N2 255 D | Y68: F01 009 DM | Z68: K3 601 BM | AA68: F06 084 S | AC68: N3 171 D | AD68: I2 005 IM | AE68: I1 005 IF | AF68: M3 120 B
B69: F08 009 DF | C69: J 301 IF | D69: L1 207 IF | E69: F06 022 S | F69: M1 420 BM | G69: P1 09 IF | H69: K5 112 DF | I69: D01 19 S | J69: O01 021 S | K69: E03 02 B | L69: K3 110 C | M69: F07 022 S | N69: K1 112 I | O69: G1 021 SM | P69: F11 017 I | Q69: F11 017 I | R69: M2 121 I | S69: K6 122 S | T69: F05 010 BM | U69: H1 020 D | V69: K2 110 C | W69: F02 021 S | X69: N2 255 I | Y69: F01 009 IF | Z69: K3 601 C | AA69: F06 085 B | AC69: N3 171 I | AD69: I2 005 SF | AE69: I1 005 IM | AF69: M3 120 D
B70: F08 009 DM | C70: J 301 IM | D70: L1 207 IM | E70: F06 023 D | F70: M1 420 DM | G70: P1 09 IM | H70: K5 112 IF | I70: D01 20 D | J70: O01 022 D | K70: E03 02 D | L70: K3 110 DF | M70: F07 023 D | N70: K1 112 S | O70: G1 022 C | P70: F11 017 S | Q70: F11 017 S | R70: M2 121 S | S70: K6 123 D | T70: F05 010 D | U70: H1 020 I | V70: K2 110 DF | W70: F02 022 B | X70: N2 255 S | Y70: F01 009 IM | Z70: K3 601 DF | AA70: F06 085 D | AC70: N3 171 S | AD70: I2 005 SM | AE70: I1 005 SF | AF70: M3 120 I
B71: F08 009 IF | C71: J 301 SF | D71: L1 207 SF | E71: F06 023 I | F71: M1 420 IM | G71: P1 09 SF | H71: K5 112 SF | I71: D01 20 I | J71: O01 022 I | K71: E03 02 I | L71: K3 110 DM | M71: F07 023 I | N71: K1 113 D | O71: G1 022 DF | P71: F11 018 D | Q71: F11 018 D | R71: M2 122 D | S71: K6 123 I | T71: F05 010 I | U71: H1 020 S | V71: K2 110 DM | W71: F02 022 D | X71: N2 256 D | Y71: F01 009 SF | Z71: K3 601 DM | AA71: F06 085 I | AC71: N3 172 D | AD71: I2 006 C | AE71: I1 005 SM | AF71: M3 120 S
B72: F08 009 IM | C72: J 301 SM | D72: L1 207 SM | E72: F06 023 S | F72: M1 420 SM | G72: P1 09 SM | H72: K5 113 BF | I72: D01 20 S | J72: O01 022 S | K72: E03 02 S | L72: K3 110 IF | M72: F07 023 S | N72: K1 113 I | O72: G1 022 DM | P72: F11 018 I | Q72: F11 018 I | R72: M2 122 I | S72: K6 123 S | T72: F05 010 S | U72: H2 001 B | V72: K2 110 IF | W72: F02 022 I | X72: N2 256 I | Y72: F01 009 SM | Z72: K3 601 IF | AA72: F06 085 S | AC72: N3 172 I | AD72: I2 006 DF | AE72: I1 006 BC | AF72: M3 121 D
B73: F08 009 SF | C73: J 302 C | D73: L1 208 C | E73: F06 024 B | F73: M1 421 BM | G73: P1 10 BF | H73: K5 113 DF | I73: D01 21 D | J73: O01 023 D | K73: E03 03 B | L73: K3 110 IM | M73: F07 024 D | N73: K1 113 S | O73: G1 022 IF | P73: F11 018 S | Q73: F11 018 S | R73: M2 122 S | S73: K6 124 B | T73: F05 011 D | U73: H2 001 D | V73: K2 110 IM | W73: F02 022 S | X73: N2 256 S | Y73: F01 010 C | Z73: K3 601 IM | AA73: F06 086 D | AC73: N3 172 S | AD73: I2 006 DM | AE73: I1 006 BDF | AF73: M3 121 I
B74: F08 009 SM | C74: J 302 DF | D74: L1 208 DF | E74: F06 024 D | F74: M1 421 DM | G74: P1 10 BM | H74: K5 113 IF | I74: D01 21 I | J74: O01 023 I | K74: E03 03 D | L74: K3 110 SF | M74: F07 024 I | N74: K1 114 D | O74: G1 022 IM | P74: F11 019 B | Q74: F11 019 B | R74: M2 123 D | S74: K6 124 D | T74: F05 011 I | U74: H2 001 I | V74: K2 110 SF | W74: F02 023 D | X74: N2 257 D | Y74: F01 010 DF | Z74: K3 601 SF | AA74: F06 086 I | AC74: N4 201 B | AD74: I2 006 IF | AE74: I1 006 BDM | AF74: M3 121 S
... B113: F08 015 DF | C113: J 411 I | D113: L1 213 SF | E113: F06 034 I | F113: M1 601 DF | G113: P1 15 DF | H113: K5 203 C | I113: D01 31 I | J113: O02 001 IM | K113: E05 02 I | L113: K3 117 DF | M113: F07 037 I | N113: K1 302 C | O113: G1 031 SF | P113: F11 030 D | Q113: F11 030 D | R113: M2 210 I | S113: K6 206 D | T113: F05 020 SM | U113: H2 012 S | V113: K2 205 SF | W113: F03 009 S | X113: N2 270 D | Y113: F01 015 IF | Z113: K4 105 S | AA113: F06 091 SF | AC113: N5 102 S | AD113: I2 011 IF | AE113: I1 008 SM | AF113: M3 133 D
B114: F08 015 DM | C114: J 411 S | D114: L1 213 SM | E114: F06 034 S | F114: M1 601 DM | G114: P1 15 DM | H114: K5 203 DF | I114: D01 31 S | J114: O02 001 SF | K114: E05 02 S | L114: K3 117 DM | M114: F07 037 S | N114: K1 302 DF | O114: G1 031 SM | P114: F11 030 I | Q114: F11 030 I | R114: M2 210 S | S114: K6 206 I | T114: F05 021 C | U114: H2 013 B | V114: K2 205 SM | W114: F03 010 D | X114: N2 270 I | Y114: F01 015 IM | AA114: F06 091 SM | AC114: N5 111 D | AD114: I2 011 IM | AE114: I1 009 BC | AF114: M3 133 I
B115: F08 015 IF | C115: J 412 D | D115: L1 214 C | E115: F06 035 D | F115: M1 601 IF | G115: P1 15 IF | H115: K5 203 DM | I115: D01 32 D | J115: O02 001 SM | K115: E05 03 B | L115: K3 117 IF | M115: F07 038 D | N115: K1 302 DM | O115: G1 032 C | P115: F11 030 S | Q115: F11 030 S | R115: M2 211 D | S115: K6 206 S | T115: F05 021 DF | U115: H2 013 D | V115: K2 206 C | W115: F03 010 I | X115: N2 270 S | Y115: F01 015 SF | AA115: F06 092 BF | AC115: N5 111 I | AD115: I2 011 SF | AE115: I1 009 BDF | AF115: M3 133 S
B116: F08 015 IM | C116: J 412 I | D116: L1 214 DF | E116: F06 035 I | F116: M1 601 IM | G116: P1 15 IM | H116: K5 203 IF | I116: D01 32 I | J116: O02 002 C | K116: E05 03 D | L116: K3 117 IM | M116: F07 038 I | N116: K1 302 IF | O116: G1 032 DF | P116: F11 031 B | Q116: F11 031 B | R116: M2 211 I | S116: K6 207 D | T116: F05 021 DM | U116: H2 013 I | V116: K2 206 DF | W116: F03 010 S | X116: N2 271 D | Y116: F01 015 SM | AA116: F06 092 BM | AC116: N5 111 S | AD116: I2 011 SM | AE116: I1 009 BDM | AF116: M3 134 B
B117: F08 015 SF | C117: J 412 S | D117: L1 214 DM | E117: F06 035 S | F117: M1 601 SF | G117: P1 15 SF | H117: K5 203 IM | I117: D01 32 S | J117: O02 002 DF | K117: E05 03 I | L117: K3 117 SF | M117: F07 038 S | N117: K1 302 IM | O117: G1 032 DM | P117: F11 031 D | Q117: F11 031 D | R117: M2 211 S | S117: K6 207 I | T117: F05 021 IF | U117: H2 013 S | V117: K2 206 DM | W117: F03 011 B | X117: N2 271 I | Y117: F01 016 C | AA117: F06 092 C | AC117: N5 112 D | AD117: I2 012 C | AE117: I1 009 BF | AF117: M3 134 D
B118: F08 015 SM | C118: J 413 D | D118: L1 214 IF | E118: F06 036 B | F118: M1 601 SM | G118: P1 15 SM | H118: K5 203 SF | I118: D01 33 C | J118: O02 002 DM | K118: E05 03 S | L118: K3 117 SM | M118: F07 039 D | N118: K1 302 SF | O118: G1 032 IF | P118: F11 031 I | Q118: F11 031 I | R118: M2 212 D | S118: K6 207 S | T118: F05 021 IM | U118: H2 014 D | V118: K2 206 IF | W118: F03 011 D | X118: N2 271 S | Y118: F01 016 DF | AA118: F06 092 DF | AC118: N5 112 I | AD118: I2 012 DF | AE118: I1 009 BM | AF118: M3 134 I
B119: F08 016 C | C119: J 413 I | D119: L1 214 IM | E119: F06 036 D | F119: M1 602 C | G119: P1 16 C | H119: K5 203 SM | I119: D01 33 DF | J119: O02 002 IF | K119: E05 04 D | L119: K3 118 BF | M119: F07 039 I | N119: K1 302 SM | O119: G1 032 IM | P119: F11 031 S | Q119: F11 031 S | R119: M2 212 I | S119: K6 208 D | T119: F05 021 SF | U119: H2 014 I | V119: K2 206 IM | W119: F03 011 I | X119: N2 272 D | Y119: F01 016 DM | AA119: F06 092 DM | AC119: N5 112 S | AD119: I2 012 DM | AE119: I1 009 BSF | AF119: M3 134 S
B120: F08 016 DF | C120: J 413 S | D120: L1 214 SF | E120: F06 036 I | F120: M1 602 DF | G120: P1 16 DF | H120: K5 204 C | I120: D01 33 DM | J120: O02 002 IM | K120: E05 04 I | L120: K3 118 BM | M120: F07 039 S | N120: K1 303 C | O120: G1 032 SF | P120: F11 032 D | Q120: F11 032 D | R120: M2 212 S | S120: K6 208 I | T120: F05 021 SM | U120: H2 014 S | V120: K2 206 SF | W120: F03 011 S | X120: N2 272 I | Y120: F01 016 IF | AA120: F06 092 IF | AC120: N5 121 D | AD120: I2 012 IF | AE120: I1 009 BSM | AF120: M3 135 D
B121: F08 016 DM | C121: J 414 D | D121: L1 214 SM | E121: F06 036 S | F121: M1 602 DM | G121: P1 16 DM | H121: K5 204 DF | I121: D01 33 IF | J121: O02 002 SF | K121: E05 04 S | L121: K3 118 C | M121: F07 040 D | N121: K1 303 DF | O121: G1 032 SM | P121: F11 032 I | Q121: F11 032 I | R121: M2 213 D | S121: K6 208 S | T121: F05 022 C | U121: H2 015 B | V121: K2 206 SM | W121: F03 012 D | X121: N2 272 S | Y121: F01 016 IM | AA121: F06 092 IM | AC121: N5 121 I | AD121: I2 012 IM | AE121: I1 009 C | AF121: M3 135 I
B122: F08 016 IF | C122: J 414 I | D122: L1 215 C | E122: F06 037 D | F122: M1 602 IF | G122: P1 16 IF | H122: K5 204 DM | I122: D01 33 IM | J122: O02 002 SM | K122: E05 05 D | L122: K3 118 DF | M122: F07 040 I | N122: K1 303 DM | O122: G1 033 C | P122: F11 032 S | Q122: F11 032 S | R122: M2 213 I | S122: K6 209 D | T122: F05 022 DF | U122: H2 015 D | V122: K2 207 C | W122: F03 012 I | X122: N2 273 D | Y122: F01 016 SF | AA122: F06 092 SF | AC122: N5 121 S | AD122: I2 012 SF | AE122: I1 009 DF | AF122: M3 135 S
B123: F08 016 IM | C123: J 414 S | D123: L1 215 DF | E123: F06 037 I | F123: M1 602 IM | G123: P1 16 IM | H123: K5 204 IF | I123: D01 33 SF | J123: O02 003 BF | K123: E05 05 I | L123: K3 118 DM | M123: F07 040 S | N123: K1 303 IF | O123: G1 033 DF | P123: F11 033 B | Q123: F11 033 B | R123: M2 213 S | S123: K6 209 I | T123: F05 022 DM | U123: H2 015 I | V123: K2 207 DF | W123: F03 012 S | X123: N2 273 I | Y123: F01 016 SM | AA123: F06 092 SM | AC123: N5 122 D | AD123: I2 012 SM | AE123: I1 009 DM | AF123: M3 136 D
B124: F08 016 SF | C124: J 415 D | D124: L1 215 DM | E124: F06 037 S | F124: M1 602 SF | G124: P1 16 SF | H124: K5 204 IM | I124: D01 33 SM | J124: O02 003 BM | K124: E05 05 S | L124: K3 118 IF | M124: F07 041 D | N124: K1 303 IM | O124: G1 033 DM | P124: F11 033 D | Q124: F11 033 D | R124: M2 214 D | S124: K6 209 S | T124: F05 022 IF | U124: H2 015 S | V124: K2 207 DM | W124: F03 013 D | X124: N2 273 S | Y124: F01 017 C | AA124: F06 093 C | AC124: N5 122 I | AD124: I2 021 BF | AE124: I1 009 IF | AF124: M3 136 I
B125: F08 016 SM | C125: J 415 I | D125: L1 215 IF | E125: F06 038 D | F125: M1 602 SM | G125: P1 16 SM | H125: K5 204 SF | I125: D01 34 C | J125: O02 003 C | K125: E05 06 D | L125: K3 118 IM | M125: F07 041 I | N125: K1 303 SF | O125: G1 033 IF | P125: F11 033 I | Q125: F11 033 I | R125: M2 214 I | S125: K6 210 B | T125: F05 022 IM | U125: H2 016 D | V125: K2 207 IF | W125: F03 013 I | X125: N2 274 D | Y125: F01 017 DF | AA125: F06 093 DF | AC125: N5 122 S | AD125: I2 021 BM | AE125: I1 009 IM | AF125: M3 136 S
... B132: F08 017 SM | C132: J 417 I | D132: L1 216 IF | E132: F06 040 D | F132: M1 702 S | G132: P1 17 SM | H132: K5 205 SF | I132: D01 35 B | J132: O02 004 C | K132: E06 02 B | L132: K3 119 IM | M132: F07 043 S | N132: K1 304 SF | O132: G1 034 IF | P132: F11 035 I | Q132: F11 035 I | R132: M2 216 S | S132: K6 211 S | T132: F05 023 DM | U132: H2 018 D | V132: K2 208 IF | W132: F03 015 I | X132: N2 276 I | Y132: F01 018 DF | AA132: F06 094 DF | AC132: N5 141 B | AD132: I2 021 SM | AE132: I1 010 BM | AF132: M3 139 D
B133: F08 018 C | C133: J 417 S | D133: L1 216 IM | E133: F06 040 I | G133: P1 18 BF | H133: K5 205 SM | I133: D01 35 D | J133: O02 004 DF | K133: E06 02 D | L133: K3 119 SF | M133: F07 044 D | N133: K1 304 SM | O133: G1 034 IM | P133: F11 035 S | Q133: F11 035 S | R133: M2 217 D | S133: K6 212 D | T133: F05 023 IF | U133: H2 018 I | V133: K2 208 IM | W133: F03 015 S | X133: N2 276 S | Y133: F01 018 DM | AA133: F06 094 DM | AC133: N5 141 D | AD133: I2 022 C | AE133: I1 010 BSF | AF133: M3 139 I
B134: F08 018 DF | C134: J 418 D | D134: L1 216 SF | E134: F06 040 S | G134: P1 18 BM | H134: K5 206 C | I134: D01 35 I | J134: O02 004 DM | K134: E06 02 I | L134: K3 119 SM | M134: F07 044 I | N134: K1 305 C | O134: G1 034 SF | P134: F11 036 D | Q134: F11 036 D | R134: M2 217 I | S134: K6 212 I | T134: F05 023 IM | U134: H2 018 S | V134: K2 208 SF | W134: F03 016 D | X134: N2 277 D | Y134: F01 018 IF | AA134: F06 094 IF | AC134: N5 141 I | AD134: I2 022 DF | AE134: I1 010 BSM | AF134: M3 139 S
B135: F08 018 DM | C135: J 418 I | D135: L1 216 SM | E135: F06 041 D | G135: P1 18 C | H135: K5 206 DF | I135: D01 35 S | J135: O02 004 IF | K135: E06 02 S | L135: K3 120 C | M135: F07 044 S | N135: K1 305 DF | O135: G1 034 SM | P135: F11 036 I | Q135: F11 036 I | R135: M2 217 S | S135: K6 212 S | T135: F05 023 SF | U135: H2 019 B | V135: K2 208 SM | W135: F03 016 I | X135: N2 277 I | Y135: F01 018 IM | AA135: F06 094 IM | AC135: N5 141 S | AD135: I2 022 DM | AE135: I1 010 C | AF135: M3 140 B
B136: F08 018 IF | C136: J 418 S | D136: L1 217 C | E136: F06 041 I | G136: P1 18 DF | H136: K5 206 DM | I136: D01 36 D | J136: O02 004 IM | K136: E06 03 B | L136: K3 120 DF | M136: F07 045 BF | N136: K1 305 DM | O136: G1 036 BF | P136: F11 036 S | Q136: F11 036 S | R136: M2 218 D | S136: K6 213 D | T136: F05 023 SM | U136: H2 019 D | V136: K2 209 C | W136: F03 016 S | X136: N2 277 S | Y136: F01 018 SF | AA136: F06 094 SF | AC136: N5 142 B | AD136: I2 022 IF | AE136: I1 010 DF | AF136: M3 140 D
B137: F08 018 IM | C137: J 419 D | D137: L1 217 DF | E137: F06 041 S | G137: P1 18 DM | H137: K5 206 IF | I137: D01 36 I | J137: O02 004 SF | K137: E06 03 D | L137: K3 120 DM | M137: F07 045 BM | N137: K1 305 IF | O137: G1 036 BM | P137: F11 037 B | Q137: F11 037 B | R137: M2 218 I | S137: K6 213 I | T137: F05 024 C | U137: H2 019 I | V137: K2 209 DF | W137: F03 017 D | X137: N2 278 D | Y137: F01 018 SM | AA137: F06 094 SM | AC137: N5 142 D | AD137: I2 022 IM | AE137: I1 010 DM | AF137: M3 140 I
B138: F08 018 SF | C138: J 419 I | D138: L1 217 DM | E138: F06 042 D | G138: P1 18 IF | H138: K5 206 IM | I138: D01 36 S | J138: O02 004 SM | K138: E06 03 I | L138: K3 120 IF | M138: F07 045 C | N138: K1 305 IM | O138: G1 036 C | P138: F11 037 D | Q138: F11 037 D | R138: M2 218 S | S138: K6 213 S | T138: F05 024 DF | U138: H2 019 S | V138: K2 209 DM | W138: F03 017 I | X138: N2 278 I | Y138: F01 019 C | AA138: F06 095 C | AC138: N5 142 I | AD138: I2 022 SF | AE138: I1 010 IF | AF138: M3 140 S
B139: F08 018 SM | C139: J 419 S | D139: L1 217 IF | E139: F06 042 I | G139: P1 18 IM | H139: K5 206 SF | I139: D01 37 D | J139: O02 005 BF | K139: E06 03 S | L139: K3 120 IM | M139: F07 045 DF | N139: K1 305 SF | O139: G1 036 DF | P139: F11 037 I | Q139: F11 037 I | R139: M4 001 B | S139: K6 214 D | T139: F05 024 DM | U139: H2 020 D | V139: K2 209 IF | W139: F03 017 S | X139: N2 278 S | Y139: F01 019 DF | AA139: F06 095 DF | AC139: N5 142 S | AD139: I2 022 SM | AE139: I1 010 IM | AF139: M3 141 D
B140: F08 019 BF | C140: J 420 D | D140: L1 217 IM | E140: F06 042 S | G140: P1 18 SF | H140: K5 206 SM | I140: D01 37 I | J140: O02 005 BM | K140: E06 04 D | L140: K3 120 SF | M140: F07 045 DM | N140: K1 305 SM | O140: G1 036 DM | P140: F11 037 S | Q140: F11 037 S | R140: M4 001 D | S140: K6 214 I | T140: F05 024 IF | U140: H2 020 I | V140: K2 209 IM | W140: F03 018 D | X140: N2 279 D | Y140: F01 019 DM | AA140: F06 095 DM | AC140: N5 151 D | AD140: I2 023 C | AE140: I1 010 SF | AF140: M3 141 I
B141: F08 019 BM | C141: J 420 I | D141: L1 217 SF | E141: F06 043 BF | G141: P1 18 SM | H141: K5 207 C | I141: D01 37 S | J141: O02 005 C | K141: E06 04 I | L141: K3 120 SM | M141: F07 045 IF | N141: K1 306 C | O141: G1 036 IF | P141: F11 038 D | Q141: F11 038 D | R141: M4 001 I | S141: K6 214 S | T141: F05 024 IM | U141: H2 020 S | V141: K2 209 SF | W141: F03 018 I | X141: N2 279 I | Y141: F01 019 IF | AA141: F06 095 IF | AC141: N5 151 I | AD141: I2 023 DF | AE141: I1 010 SM | AF141: M3 141 S
B142: F08 019 C | C142: J 420 S | D142: L1 217 SM | E142: F06 043 BM | G142: P1 19 C | H142: K5 207 DF | I142: D01 38 D | J142: O02 005 DF | K142: E06 04 S | L142: K3 121 C | M142: F07 045 IM | N142: K1 306 DF | O142: G1 036 IM | P142: F11 038 I | Q142: F11 038 I | R142: M4 001 S | S142: K6 215 D | T142: F05 024 SF | U142: H2 021 B | V142: K2 209 SM | W142: F03 018 S | X142: N2 279 S | Y142: F01 019 IM | AA142: F06 095 IM | AC142: N5 151 S | AD142: I2 023 DM | AE142: I1 011 BC | AF142: M3 142 D
B143: F08 019 DF | C143: J 421 D | D143: L1 218 C | E143: F06 043 C | G143: P1 19 DF | H143: K5 207 DM | I143: D01 38 I | J143: O02 005 DM | K143: E06 05 D | L143: K3 121 DF | M143: F07 045 SF | N143: K1 306 DM | O143: G1 036 SF | P143: F11 038 S | Q143: F11 038 S | R143: M4 002 D | S143: K6 215 I | T143: F05 024 SM | U143: H2 021 D | V143: K2 210 C | W143: F03 019 B | X143: N2 301 B | Y143: F01 019 SF | AA143: F06 095 SF | AC143: N5 152 D | AD143: I2 023 IF | AE143: I1 011 BDF | AF143: M3 142 I
B144: F08 019 DM | C144: J 421 I | D144: L1 218 DF | E144: F06 043 DF | G144: P1 19 DM | H144: K5 207 IF | I144: D01 38 S | J144: O02 005 IF | K144: E06 05 I | L144: K3 121 DM | M144: F07 045 SM | N144: K1 306 IF | O144: G1 036 SM | P144: F11 039 B | Q144: F11 039 B | R144: M4 002 I | S144: K6 215 S | T144: F05 025 C | U144: H2 021 I | V144: K2 210 DF | W144: F03 019 D | X144: N2 301 D | Y144: F01 019 SM | AA144: F06 095 SM | AC144: N5 152 I | AD144: I2 023 IM | AE144: I1 011 BDM | AF144: M3 142 S
... B194: F08 025 IM | C194: J 443 I | D194: L1 225 DM | E194: F06 050 C | G194: P1 26 IM | H194: K5 301 IM | I194: D02 03 I | J194: O02 011 SF | K194: E09 01 S | L194: K3 128 IF | M194: F07 052 SF | N194: K1 313 C | O194: G1 045 IF | P194: F11 053 D | Q194: F11 053 D | R194: M4 039 S | S194: K6 402 B | T194: F05 031 IM | U194: H2 035 S | V194: K2 216 SF | W194: F03 034 D | X194: N2 354 S | Y194: F01 026 DF | AA194: F06 111 S | AC194: N5 212 S | AD194: I2 030 DF | AE194: I1 022 IF | AF194: M3 158 I
B195: F08 025 SF | C195: J 443 S | D195: L1 225 IF | E195: F06 050 DF | G195: P1 26 SF | H195: K5 301 SF | I195: D02 03 S | J195: O02 011 SM | K195: E09 02 B | L195: K3 128 IM | M195: F07 052 SM | N195: K1 313 DF | O195: G1 045 IM | P195: F11 053 I | Q195: F11 053 I | R195: M4 040 D | S195: K6 402 D | T195: F05 031 SF | U195: H2 036 D | V195: K2 216 SM | W195: F03 034 I | X195: N2 355 D | Y195: F01 026 DM | AC195: N5 213 D | AD195: I2 030 DM | AE195: I1 022 IM | AF195: M3 158 S
B196: F08 025 SM | C196: J 444 D | D196: L1 225 IM | E196: F06 050 DM | G196: P1 26 SM | H196: K5 301 SM | I196: D02 04 D | J196: O02 012 C | K196: E09 02 D | L196: K3 128 SF | M196: F07 053 C | N196: K1 313 DM | O196: G1 045 SF | P196: F11 053 S | Q196: F11 053 S | R196: M4 040 I | S196: K6 402 I | T196: F05 031 SM | U196: H2 036 I | V196: K2 217 C | W196: F03 034 S | X196: N2 355 I | Y196: F01 026 IF | AC196: N5 213 I | AD196: I2 030 IF | AE196: I1 022 SF | AF196: M3 159 D
B197: F08 026 C | C197: J 444 I | D197: L1 225 SF | E197: F06 050 IF | G197: P1 27 C | H197: K5 302 BF | I197: D02 04 I | J197: O02 012 DF | K197: E09 02 I | L197: K3 128 SM | M197: F07 053 DF | N197: K1 313 IF | O197: G1 045 SM | P197: F11 054 D | Q197: F11 054 D | R197: M4 040 S | S197: K6 402 S | T197: F05 032 C | U197: H2 036 S | V197: K2 217 DF | W197: F03 035 D | X197: N2 355 S | Y197: F01 026 IM | AC197: N5 213 S | AD197: I2 030 IM | AE197: I1 022 SM | AF197: M3 159 I
B198: F08 026 DF | C198: J 444 S | D198: L1 225 SM | E198: F06 050 IM | G198: P1 27 DF | H198: K5 302 BM | I198: D02 04 S | J198: O02 012 DM | K198: E09 02 S | L198: K3 129 C | M198: F07 053 DM | N198: K1 313 IM | O198: G1 046 C | P198: F11 054 I | Q198: F11 054 I | R198: M4 061 B | S198: K6 403 D | T198: F05 032 DF | U198: H2 037 B | V198: K2 217 DM | W198: F03 035 I | X198: N2 356 D | Y198: F01 026 SF | AC198: N5 214 D | AD198: I2 030 SF | AE198: I1 023 BC | AF198: M3 159 S
B199: F08 026 DM | C199: J 445 D | D199: L1 226 C | E199: F06 050 SF | G199: P1 27 DM | H199: K5 302 C | I199: D02 05 D | J199: O02 012 IF | K199: E09 03 B | L199: K3 129 DF | M199: F07 053 IF | N199: K1 313 SF | O199: G1 046 DF | P199: F11 054 S | Q199: F11 054 S | R199: M4 061 D | S199: K6 403 I | T199: F05 032 DM | U199: H2 037 D | V199: K2 217 IF | W199: F03 035 S | X199: N2 356 I | Y199: F01 026 SM | AC199: N5 214 I | AD199: I2 030 SM | AE199: I1 023 BDF | AF199: M3 160 B
B200: F08 026 IF | C200: J 445 I | D200: L1 226 DF | E200: F06 050 SM | G200: P1 27 IF | H200: K5 302 DF | I200: D02 05 I | J200: O02 012 IM | K200: E09 03 D | L200: K3 129 DM | M200: F07 053 IM | N200: K1 313 SM | O200: G1 046 DM | P200: F11 055 B | Q200: F11 055 B | R200: M4 061 I | S200: K6 403 S | T200: F05 032 IF | U200: H2 037 I | V200: K2 217 IM | W200: F03 036 D | X200: N2 356 S | Y200: F01 027 C | AC200: N5 214 S | AD200: I2 031 BF | AE200: I1 023 BDM | AF200: M3 160 D
B201: F08 026 IM | C201: J 445 S | D201: L1 226 DM | E201: F06 051 BF | G201: P1 27 IM | H201: K5 302 DM | I201: D02 05 S | J201: O02 012 SF | K201: E09 03 I | L201: K3 129 IF | M201: F07 053 SF | N201: K1 314 BF | O201: G1 046 IF | P201: F11 055 D | Q201: F11 055 D | R201: M4 061 S | S201: K6 404 D | T201: F05 032 IM | U201: H2 037 S | V201: K2 217 SF | W201: F03 036 I | X201: N2 401 B | Y201: F01 027 DF | AC201: N5 215 D | AD201: I2 031 BM | AE201: I1 023 BF | AF201: M3 160 I
B202: F08 026 SF | C202: J 446 D | D202: L1 226 IF | E202: F06 051 BM | G202: P1 27 SF | H202: K5 302 IF | I202: D02 06 D | J202: O02 012 SM | K202: E09 03 S | L202: K3 129 IM | M202: F07 053 SM | N202: K1 314 BM | O202: G1 046 IM | P202: F11 055 I | Q202: F11 055 I | R202: M4 062 D | S202: K6 404 I | T202: F05 032 SF | U202: H2 038 D | V202: K2 217 SM | W202: F03 036 S | X202: N2 401 D | Y202: F01 027 DM | AC202: N5 215 I | AD202: I2 031 C | AE202: I1 023 BM | AF202: M3 160 S
B203: F08 026 SM | C203: J 446 I | D203: L1 226 IM | E203: F06 051 C | G203: P1 27 SM | H203: K5 302 IM | I203: D02 06 I | J203: O02 013 B | K203: E09 04 D | L203: K3 129 SF | M203: F07 054 C | N203: K1 314 C | O203: G1 046 SF | P203: F11 055 S | Q203: F11 055 S | R203: M4 062 I | S203: K6 404 S | T203: F05 032 SM | U203: H2 038 I | V203: K2 218 C | W203: F03 037 B | X203: N2 401 I | Y203: F01 027 IF | AC203: N5 215 S | AD203: I2 031 DF | AE203: I1 023 BSF | AF203: M3 161 B
B204: F08 027 C | C204: J 446 S | D204: L1 226 SF | E204: F06 051 DF | G204: P2 01 BF | H204: K5 302 SF | I204: D02 06 S | J204: O02 013 D | K204: E09 04 I | L204: K3 129 SM | M204: F07 054 DF | N204: K1 314 DF | O204: G1 046 SM | P204: F11 056 D | Q204: F11 056 D | R204: M4 062 S | S204: K6 501 B | T204: F05 033 C | U204: H2 038 S | V204: K2 218 DF | W204: F03 037 D | X204: N2 401 S | Y204: F01 027 IM | AC204: N5 216 D | AD204: I2 031 DM | AE204: I1 023 BSM | AF204: M3 161 D
B205: F08 027 DF | C205: J 447 B | D205: L1 226 SM | E205: F06 051 DM | G205: P2 01 BM | H205: K5 302 SM | I205: D02 07 C | J205: O02 013 I | K205: E09 04 S | L205: K3 130 D | M205: F07 054 DM | N205: K1 314 DM | O205: G1 047 C | P205: F11 056 I | Q205: F11 056 I | R205: M4 071 B | S205: K6 501 D | T205: F05 033 DF | U205: H2 039 B | V205: K2 218 DM | W205: F03 037 I | X205: N2 402 B | Y205: F01 027 SF | AC205: N5 216 I | AD205: I2 031 IF | AE205: I1 023 C | AF205: M3 161 I
B206: F08 027 DM | C206: J 447 D | D206: L1 227 C | E206: F06 051 IF | G206: P2 01 C | H206: K5 303 C | I206: D02 07 DF | J206: O02 013 S | K206: E09 05 D | L206: K3 130 I | M206: F07 054 IF | N206: K1 314 IF | O206: G1 047 DF | P206: F11 056 S | Q206: F11 056 S | R206: M4 071 D | S206: K6 501 I | T206: F05 033 DM | U206: H2 039 D | V206: K2 218 IF | W206: F03 037 S | X206: N2 402 D | Y206: F01 027 SM | AC206: N5 216 S | AD206: I2 031 IM | AE206: I1 023 DF | AF206: M3 161 S
... B251: F08 033 DF | C251: J 465 I | D251: L1 304 C | E251: F06 057 C | G251: P2 06 SM | H251: K5 311 D | I251: D02 16 I | J251: O04 006 S | K251: E11 06 D | L251: K3 137 DF | M251: F07 060 SM | N251: K1 321 DF | O251: G1 053 IM | P251: F11 065 SF | Q251: F11 065 SF | R251: M4 133 I | S251: K6 603 IF | T251: F05 039 BM | U251: H2 052 D | V251: K2 224 SM | W251: F03 051 S | X251: N2 454 I | Y251: F01 034 BF | AC251: N5 231 S | AD251: I2 045 IF | AE251: I1 026 IM | AF251: M3 175 I
B252: F08 033 DM | C252: J 465 S | D252: L1 304 DF | E252: F06 057 DF | G252: P2 07 C | H252: K5 311 I | I252: D02 16 S | J252: O04 007 B | K252: E11 06 I | L252: K3 137 DM | M252: F07 061 C | N252: K1 321 DM | O252: G1 053 SF | P252: F11 065 SM | Q252: F11 065 SM | R252: M4 133 S | S252: K6 603 IM | T252: F05 039 C | U252: H2 052 I | W252: F03 052 D | X252: N2 454 S | Y252: F01 034 BM | AC252: N5 232 D | AD252: I2 045 IM | AE252: I1 026 SF | AF252: M3 175 S
B253: F08 033 IF | C253: J 466 D | D253: L1 304 DM | E253: F06 057 DM | G253: P2 07 DF | H253: K5 311 S | I253: D02 17 B | J253: O04 007 D | K253: E11 06 S | L253: K3 137 IF | M253: F07 061 DF | N253: K1 321 IF | O253: G1 053 SM | P253: F11 066 C | Q253: F11 066 C | R253: M4 134 D | S253: K6 603 SF | T253: F05 039 DF | U253: H2 052 S | W253: F03 052 I | X253: N2 501 B | Y253: F01 034 C | AC253: N5 232 I | AD253: I2 045 SF | AE253: I1 026 SM | AF253: M3 176 D
B254: F08 033 IM | C254: J 466 I | D254: L1 304 IF | E254: F06 057 IF | G254: P2 07 DM | H254: K5 312 BF | I254: D02 17 D | J254: O04 007 I | K254: E12 01 B | L254: K3 137 IM | M254: F07 061 DM | N254: K1 321 IM | O254: G1 054 C | P254: F11 066 DF | Q254: F11 066 DF | R254: M4 134 I | S254: K6 603 SM | T254: F05 039 DM | U254: H2 053 B | W254: F03 052 S | X254: N2 501 D | Y254: F01 034 DF | AC254: N5 232 S | AD254: I2 045 SM | AE254: I1 027 BC | AF254: M3 176 I
B255: F08 033 SF | C255: J 466 S | D255: L1 304 IM | E255: F06 057 IM | G255: P2 07 IF | H255: K5 312 DF | I255: D02 17 I | J255: O04 007 S | K255: E12 01 D | L255: K3 137 SF | M255: F07 061 IF | N255: K1 321 SF | O255: G1 054 DF | P255: F11 066 DM | Q255: F11 066 DM | R255: M4 134 S | S255: K6 604 C | T255: F05 039 IF | U255: H2 053 D | W255: F03 053 D | X255: N2 501 I | Y255: F01 034 DM | AC255: N5 233 B | AD255: I2 046 C | AE255: I1 027 BDF | AF255: M3 176 S
B256: F08 033 SM | C256: J 467 D | D256: L1 304 SF | E256: F06 057 SF | G256: P2 07 IM | H256: K5 312 IF | I256: D02 17 S | J256: O04 008 D | K256: E12 01 I | L256: K3 137 SM | M256: F07 061 IM | N256: K1 321 SM | O256: G1 054 DM | P256: F11 066 IF | Q256: F11 066 IF | R256: M4 141 B | S256: K6 604 DF | T256: F05 039 IM | U256: H2 053 I | W256: F03 053 I | X256: N2 501 S | Y256: F01 034 IF | AC256: N5 233 D | AD256: I2 046 DF | AE256: I1 027 BDM | AF256: M3 177 D
B257: F08 034 C | C257: J 467 I | D257: L1 304 SM | E257: F06 057 SM | G257: P2 07 SF | H257: K5 312 SF | I257: D02 18 D | J257: O04 008 I | K257: E12 01 S | L257: K3 138 C | M257: F07 061 SF | N257: K1 322 C | O257: G1 054 IF | P257: F11 066 IM | Q257: F11 066 IM | R257: M4 141 D | S257: K6 604 DM | T257: F05 039 SF | U257: H2 053 S | W257: F03 053 S | X257: N2 502 B | Y257: F01 034 IM | AC257: N5 233 I | AD257: I2 046 DM | AE257: I1 027 BF | AF257: M3 177 I
B258: F08 034 DF | C258: J 467 S | D258: L1 305 C | E258: F06 058 C | G258: P2 07 SM | H258: K5 313 BF | I258: D02 18 I | J258: O04 008 S | K258: E12 02 B | L258: K3 138 DF | M258: F07 061 SM | N258: K1 322 DF | O258: G1 054 IM | P258: F11 066 SF | Q258: F11 066 SF | R258: M4 141 I | S258: K6 604 IF | T258: F05 039 SM | U258: H2 054 D | W258: F03 054 D | X258: N2 502 D | Y258: F01 034 SF | AC258: N5 233 S | AD258: I2 046 IF | AE258: I1 027 BM | AF258: M3 177 S
B259: F08 034 DM | C259: J 468 D | D259: L1 305 DF | E259: F06 058 DF | G259: P2 08 C | H259: K5 313 DF | I259: D02 18 S | J259: O05 001 BF | K259: E12 02 D | L259: K3 138 DM | M259: F07 062 C | N259: K1 322 DM | O259: G1 054 SF | P259: F11 066 SM | Q259: F11 066 SM | R259: M4 141 S | S259: K6 604 IM | T259: F05 040 C | U259: H2 054 I | W259: F03 054 I | X259: N2 502 I | Y259: F01 034 SM | AC259: N5 234 B | AD259: I2 046 IM | AE259: I1 027 BSF | AF259: M3 178 D
B260: F08 034 IF | C260: J 468 I | D260: L1 305 DM | E260: F06 058 DM | G260: P2 08 DF | H260: K5 313 IF | I260: D02 19 D | J260: O05 001 BM | K260: E12 02 I | L260: K3 138 IF | M260: F07 062 DF | N260: K1 322 IF | O260: G1 054 SM | P260: F11 067 BF | Q260: F11 067 BF | R260: M4 142 D | S260: K6 604 SF | T260: F05 040 DF | U260: H2 054 S | W260: F03 054 S | X260: N2 502 S | Y260: F01 035 C | AC260: N5 234 D | AD260: I2 046 SF | AE260: I1 027 BSM | AF260: M3 178 I
B261: F08 034 IM | C261: J 468 S | D261: L1 305 IF | E261: F06 058 IF | G261: P2 08 DM | H261: K5 313 SF | I261: D02 19 I | J261: O05 001 C | K261: E12 02 S | L261: K3 138 IM | M261: F07 062 DM | N261: K1 322 IM | O261: G1 055 C | P261: F11 067 BM | Q261: F11 067 BM | R261: M4 142 I | S261: K6 604 SM | T261: F05 040 DM | U261: H2 055 B | W261: F03 055 B | X261: N2 551 B | Y261: F01 035 DF | AC261: N5 234 I | AD261: I2 046 SM | AE261: I1 027 C | AF261: M3 178 S
B262: F08 034 SF | C262: J 469 D | D262: L1 305 IM | E262: F06 058 IM | G262: P2 08 IF | H262: K5 314 DF | I262: D02 19 S | J262: O05 001 DF | K262: E12 03 B | L262: K3 138 SF | M262: F07 062 IF | N262: K1 322 SF | O262: G1 055 DF | P262: F11 067 C | Q262: F11 067 C | R262: M4 142 S | S262: K6 605 C | T262: F05 040 IF | U262: H2 055 D | W262: F03 055 D | X262: N2 551 D | Y262: F01 035 DM | AC262: N5 234 S | AD262: I2 047 C | AE262: I1 027 DF | AF262: M3 179 D
B263: F08 034 SM | C263: J 469 I | D263: L1 305 SF | E263: F06 058 SF | G263: P2 08 IM | H263: K5 314 IF | I263: D02 20 D | J263: O05 001 DM | K263: E12 03 D | L263: K3 138 SM | M263: F07 062 IM | N263: K1 322 SM | O263: G1 055 DM | P263: F11 067 DF | Q263: F11 067 DF | R263: M4 143 D | S263: K6 605 DF | T263: F05 040 IM | U263: H2 055 I | W263: F03 055 I | X263: N2 551 I | Y263: F01 035 IF | AC263: N5 235 D | AD263: I2 047 DF | AE263: I1 027 DM | AF263: M3 179 I
... B350: F09 007 IM | C350: J 511 I | D350: L1 318 DF | E350: F06 068 IM | G350: P2 20 DF | H350: K5 432 SF | I350: D02 39 S | J350: O08 004 DF | K350: E15 01 S | L350: K3 152 DF | M350: F07 074 IF | N350: K1 335 I | O350: G1 089 B | P350: F11 078 DF | Q350: F11 078 DF | R350: M4 271 I | S350: K7 402 I | T350: F05 054 IF | U350: H6 006 I | W350: F03 083 D | X350: N2 720 D | Y350: F01 047 DM | AC350: N5 261 S | AD350: I2 066 IF | AE350: I1 041 SF | AF350: M3 205 S
B351: F09 007 SF | C351: J 511 S | D351: L1 318 DM | E351: F06 068 SF | G351: P2 20 DM | H351: K5 433 BF | I351: D02 40 D | J351: O08 004 DM | K351: E15 02 D | L351: K3 152 DM | M351: F07 074 IM | N351: K1 335 S | O351: G1 089 D | P351: F11 078 DM | Q351: F11 078 DM | R351: M4 271 S | S351: K7 402 S | T351: F05 054 IM | U351: H6 006 S | W351: F03 083 I | X351: N2 720 I | Y351: F01 047 IF | AC351: N5 262 D | AD351: I2 066 IM | AE351: I1 041 SM
B352: F09 007 SM | C352: J 512 D | D352: L1 318 IF | E352: F06 068 SM | G352: P2 20 IF | H352: K5 433 DF | I352: D02 40 I | J352: O08 004 IF | K352: E15 02 I | L352: K3 152 IF | M352: F07 074 SF | N352: K1 336 D | O352: G1 089 I | P352: F11 078 IF | Q352: F11 078 IF | R352: M4 272 D | S352: K7 403 D | T352: F05 054 SF | U352: H6 007 B | W352: F03 083 S | X352: N2 720 S | Y352: F01 047 IM | AC352: N5 262 I | AD352: I2 066 SF | AE352: I1 042 BC
B353: F09 008 C | C353: J 512 I | D353: L1 318 IM | E353: F06 069 BF | G353: P2 20 IM | H353: K5 433 IF | I353: D02 40 S | J353: O08 004 IM | K353: E15 02 S | L353: K3 152 IM | M353: F07 074 SM | N353: K1 336 I | O353: G1 089 S | P353: F11 078 IM | Q353: F11 078 IM | R353: M4 272 I | S353: K7 403 I | T353: F05 054 SM | U353: H6 007 D | W353: F03 084 D | X353: N2 721 D | Y353: F01 047 SF | AC353: N5 262 S | AD353: I2 066 SM | AE353: I1 042 BDF
B354: F09 008 DF | C354: J 512 S | D354: L1 318 SF | E354: F06 069 BM | G354: P2 20 SF | H354: K5 433 SF | I354: D02 41 C | J354: O08 004 SF | K354: E15 03 B | L354: K3 152 SF | M354: F07 075 C | N354: K1 336 S | O354: G1 091 B | P354: F11 078 SF | Q354: F11 078 SF | R354: M4 272 S | S354: K7 403 S | T354: F05 055 BF | U354: H6 007 I | W354: F03 084 I | X354: N2 721 I | Y354: F01 047 SM | AC354: N5 263 D | AD354: I2 067 C | AE354: I1 042 BDM
B355: F09 008 DM | C355: J 513 D | D355: L1 318 SM | E355: F06 069 C | G355: P2 20 SM | H355: K5 434 DF | I355: D02 41 DF | J355: O08 004 SM | K355: E15 03 D | L355: K3 152 SM | M355: F07 075 DF | N355: K1 337 D | O355: G1 091 D | P355: F11 078 SM | Q355: F11 078 SM | R355: M4 273 D | S355: K8 101 BF | T355: F05 055 BM | U355: H6 007 S | W355: F03 084 S | X355: N2 721 S | Y355: F01 048 C | AC355: N5 263 I | AD355: I2 067 DF | AE355: I1 042 BF
B356: F09 008 IF | C356: J 513 I | D356: L1 319 C | E356: F06 069 DF | G356: P2 21 C | H356: K5 434 IF | I356: D02 41 DM | J356: O09 001 BF | K356: E15 03 I | L356: K3 153 BF | M356: F07 075 DM | N356: K1 337 I | O356: G1 091 I | P356: F11 079 B | Q356: F11 079 B | R356: M4 273 I | S356: K8 101 BM | T356: F05 055 C | U356: H6 008 D | W356: F03 085 D | X356: N2 722 D | Y356: F01 048 DF | AC356: N5 263 S | AD356: I2 067 DM | AE356: I1 042 BM
...

Sheet CLASSES oiseau
A1: type | B1: CLASSE | C1: DESIGNATION | D1: IOUS | E1: LATIN | F1: NBREANNEE | G1: TYPECAGE
A2: A P GR | B2: F08 001 BF | C2: Ad. F Combassou ancestral | D2: I | F2: 25 | G2: EXOS
A3: A P GR | B3: F08 001 BM | C3: Ad. M Combassou ancestral | D3: I | F3: 25 | G3: EXOS
A4: A P GR | B4: F08 001 C | C4: Cple Combassou ancestral | D4: D | F4: 2 | G4: EXOS
A5: A P GR | B5: F08 001 DF | C5: Duo F Combassou ancestral | D5: D | F5: 2 | G5: EXOS
A6: A P GR | B6: F08 001 DM | C6: Duo M Combassou ancestral | D6: D | F6: 2 | G6: EXOS
A7: A P GR | B7: F08 001 IF | C7: Ind. F Combassou ancestral | D7: I | F7: 2 | G7: EXOS
A8: A P GR | B8: F08 001 IM | C8: Ind. M Combassou ancestral | D8: I | F8: 2 | G8: EXOS
A9: A P GR | B9: F08 001 SF | C9: Stam F Combassou ancestral | D9: S | F9: 2 | G9: EXOS
A10: A P GR | B10: F08 001 SM | C10: Stam M Combassou ancestral | D10: S | F10: 2 | G10: EXOS
A11: A P GR | B11: F08 002 BF | C11: Ad. F Combassou mutation et combinaison de mutations | D11: I | F11: 25 | G11: EXOS
A12: A P GR | B12: F08 002 BM | C12: Ad. M Combassou mutation et combinaison de mutations | D12: I | F12: 25 | G12: EXOS
A13: A P GR | B13: F08 002 C | C13: Cple Combassou mutation et combinaison de mutations | D13: D | F13: 2 | G13: EXOS
... A7436: BOURSE | B7436: ZB | C7436: . . | D7436: I | F7436: 25 | G7436: DIVERS
A7437: CA-CO | B7437: P1 01 BF | C7437: Ad. F CAILLE PEINTE phénotype ancestral | D7437: I | E7437: Exalfactioria chinensis | F7437: 25 | G7437: CAILLES
A7438: CA-CO | B7438: P1 01 BM | C7438: Ad. M CAILLE PEINTE phénotype ancestral | D7438: I | E7438: Exalfactioria chinensis | F7438: 25 | G7438: CAILLES
A7439: CA-CO | B7439: P1 01 C | C7439: Cple CAILLE PEINTE phénotype ancestral | D7439: D | E7439: Exalfactioria chinensis | F7439: 2 | G7439: CAILLES
A7440: CA-CO | B7440: P1 01 DF | C7440: Duo F CAILLE PEINTE phénotype ancestral | D7440: D | E7440: Exalfactioria chinensis | F7440: 2 | G7440: CAILLES
A7441: CA-CO | B7441: P1 01 DM | C7441: Duo M CAILLE PEINTE phénotype ancestral | D7441: D | E7441: Exalfactioria chinensis | F7441: 2 | G7441: CAILLES
A7442: CA-CO | B7442: P1 01 IF | C7442: Ind. F CAILLE PEINTE phénotype ancestral | D7442: I | E7442: Exalfactioria chinensis | F7442: 2 | G7442: CAILLES
A7443: CA-CO | B7443: P1 01 IM | C7443: Ind. M CAILLE PEINTE phénotype ancestral | D7443: I | E7443: Exalfactioria chinensis | F7443: 2 | G7443: CAILLES
A7444: CA-CO | B7444: P1 01 SF | C7444: Stam F CAILLE PEINTE phénotype ancestral | D7444: S | E7444: Exalfactioria chinensis | F7444: 2 | G7444: CAILLES
A7445: CA-CO | B7445: P1 01 SM | C7445: Stam M CAILLE PEINTE phénotype ancestral | D7445: S | E7445: Exalfactioria chinensis | F7445: 2 | G7445: CAILLES
A7446: CA-CO | B7446: P1 02 BF | C7446: Ad. F CAILLE PEINTE OPALE | D7446: I | E7446: Exalfactioria chinensis | F7446: 25 | G7446: CAILLES
A7447: CA-CO | B7447: P1 02 BM | C7447: Ad. M CAILLE PEINTE OPALE | D7447: I | E7447: Exalfactioria chinensis | F7447: 25 | G7447: CAILLES
A7448: CA-CO | B7448: P1 02 C | C7448: Cple CAILLE PEINTE OPALE | D7448: D | E7448: Exalfactioria chinensis | F7448: 2 | G7448: CAILLES
... A8378: CA-CO | B8378: P9 52 SM | C8378: Stam M TOCROS GENRE ODONTOPHORUS mutation et combinaison de mutations | D8378: S | E8378: genre Odontophorus | F8378: 2 | G8378: COLINS
A8379: CA-CO | B8379: P9 91 B | C8379: Ad. AUTRES PERDICINES - SOUS FAMILLE PERDICINAE phénotype ancestral | D8379: I | F8379: 25 | G8379: COLINS
A8380: CA-CO | B8380: P9 91 D | C8380: Duo AUTRES PERDICINES - SOUS FAMILLE PERDICINAE phénotype ancestral | D8380: D | F8380: 2 | G8380: COLINS
A8381: CA-CO | B8381: P9 91 I | C8381: Ind. AUTRES PERDICINES - SOUS FAMILLE PERDICINAE phénotype ancestral | D8381: I | F8381: 2 | G8381: COLINS
A8382: CA-CO | B8382: P9 91 S | C8382: Stam AUTRES PERDICINES - SOUS FAMILLE PERDICINAE phénotype ancestral | D8382: S | F8382: 2 | G8382: COLINS
A8383: CA-CO | B8383: P9 92 D | C8383: Duo AUTRES PERDICINES - SOUS FAMILLE PERDICINAE mutation et combinaison de mutations | D8383: D | F8383: 2 | G8383: COLINS
A8384: CA-CO | B8384: P9 92 I | C8384: Ind. AUTRES PERDICINES - SOUS FAMILLE PERDICINAE mutation et combinaison de mutations | D8384: I | F8384: 2 | G8384: COLINS
A8385: CA-CO | B8385: P9 92 S | C8385: Stam AUTRES PERDICINES - SOUS FAMILLE PERDICINAE mutation et combinaison de mutations | D8385: S | F8385: 2 | G8385: COLINS
A8386: CALOS | B8386: K5 101 BF | C8386: Ad. F Calopsitte JO grise | D8386: I | F8386: 25 | G8386: CALOS
A8387: CALOS | B8387: K5 101 BM | C8387: Ad. M Calopsitte JO grise | D8387: I | F8387: 25 | G8387: CALOS
A8388: CALOS | B8388: K5 101 C | C8388: Cple Calopsitte JO grise | D8388: D | F8388: 3 | G8388: CALOS
A8389: CALOS | B8389: K5 101 DF | C8389: Duo F Calopsitte JO grise | D8389: D | F8389: 3 | G8389: CALOS
A8390: CALOS | B8390: K5 101 DM | C8390: Duo M Calopsitte JO grise | D8390: D | F8390: 3 | G8390: CALOS
... A8757: CALOS | B8757: K5 438 SM | C8757: Stam M Calopsitte autres couleurs Joues-jaunes | D8757: S | F8757: 3 | G8757: CALOS
A8758: C-COUL | B8758: D01 01 B | C8758: Ad. BLANC | D8758: I | E8758: Serinus canaria | F8758: 25 | G8758: COULEURS
A8759: C-COUL | B8759: D01 01 D | C8759: Duo BLANC DOMINANT | D8759: D | E8759: Serinus canaria | F8759: 1 | G8759: COULEURS
A8760: C-COUL | B8760: D01 01 I | C8760: Ind BLANC DOMINANT | D8760: I | E8760: Serinus canaria | F8760: 1 | G8760: COULEURS
A8761: C-COUL | B8761: D01 01 S | C8761: Stam BLANC DOMINANT | D8761: S | E8761: Serinus canaria | F8761: 1 | G8761: COULEURS
A8762: C-COUL | B8762: D01 02 D | C8762: Duo BLANC RECESSIF | D8762: D | E8762: Serinus canaria | F8762: 1 | G8762: COULEURS
A8763: C-COUL | B8763: D01 02 I | C8763: Ind BLANC RECESSIF | D8763: I | E8763: Serinus canaria | F8763: 1 | G8763: COULEURS
A8764: C-COUL | B8764: D01 02 S | C8764: Stam BLANC RECESSIF | D8764: S | E8764: Serinus canaria | F8764: 1 | G8764: COULEURS
A8765: C-COUL | B8765: D01 03 D | C8765: Duo BLANC DOMINANT ALBINO | D8765: D | E8765: Serinus canaria | F8765: 1 | G8765: COULEURS
A8766: C-COUL | B8766: D01 03 I | C8766: Ind BLANC DOMINANT ALBINO | D8766: I | E8766: Serinus canaria | F8766: 1 | G8766: COULEURS
A8767: C-COUL | B8767: D01 03 S | C8767: Stam BLANC DOMINANT ALBINO | D8767: S | E8767: Serinus canaria | F8767: 1 | G8767: COULEURS
A8768: C-COUL | B8768: D01 04 D | C8768: Duo BLANC RECESSIF ALBINO | D8768: D | E8768: Serinus canaria | F8768: 1 | G8768: COULEURS
A8769: C-COUL | B8769: D01 04 I | C8769: Ind BLANC RECESSIF ALBINO | D8769: I | E8769: Serinus canaria | F8769: 1 | G8769: COULEURS
... A14788: CROUP | B14788: K3 229 SM | C14788: Stam M Croupion rouge autres couleurs série opaline "dominant turquoise" | D14788: S | E14788: Psephotus haematonotus | F14788: 3 | G14788: CALOS
A14789: ESTRI | B14789: F07 001 D | C14789: Duo Astrild à croupion rose ancestral | D14789: D | F14789: 2 | G14789: EXOS
A14790: ESTRI | B14790: F07 001 I | C14790: Ind. Astrild à croupion rose ancestral | D14790: I | F14790: 2 | G14790: EXOS
A14791: ESTRI | B14791: F07 001 S | C14791: Stam Astrild à croupion rose ancestral | D14791: S | F14791: 2 | G14791: EXOS
A14792: ESTRI | B14792: F07 002 D | C14792: Duo Astrild à croupion rose mutation et combinaison de mutations | D14792: D | F14792: 2 | G14792: EXOS
A14793: ESTRI | B14793: F07 002 I | C14793: Ind. Astrild à croupion rose mutation et combinaison de mutations | D14793: I | F14793: 2 | G14793: EXOS
A14794: ESTRI | B14794: F07 002 S | C14794: Stam Astrild à croupion rose mutation et combinaison de mutations | D14794: S | F14794: 2 | G14794: EXOS
A14795: ESTRI | B14795: F07 003 D | C14795: Duo Astrild à joues noires ancestral | D14795: D | F14795: 2 | G14795: EXOS
A14796: ESTRI | B14796: F07 003 I | C14796: Ind. Astrild à joues noires ancestral | D14796: I | F14796: 2 | G14796: EXOS
A14797: ESTRI | B14797: F07 003 S | C14797: Stam Astrild à joues noires ancestral | D14797: S | F14797: 2 | G14797: EXOS
A14798: ESTRI | B14798: F07 004 D | C14798: Duo Astrild à joues noires mutation et combinaison de mutations | D14798: D | F14798: 2 | G14798: EXOS
A14799: ESTRI | B14799: F07 004 I | C14799: Ind. Astrild à joues noires mutation et combinaison de mutations | D14799: I | F14799: 2 | G14799: EXOS
A14800: ESTRI | B14800: F07 004 S | C14800: Stam Astrild à joues noires mutation et combinaison de mutations | D14800: S | F14800: 2 | G14800: EXOS
... A16251: EUPH | B16251: K1 602 S | C16251: Stam autres Euphèmes toutes couleurs | D16251: S | F16251: 3 | G16251: EUPHEMES
A16252: FAUNE | B16252: G1 001 B | C16252: Ad. CHARDONNERET ELEGANT | D16252: I | E16252: Carduelis carduelis carduelis | F16252: 25 | G16252: FAUNE
A16253: FAUNE | B16253: G1 001 D | C16253: Duo CHARDONNERET ELEGANT | D16253: D | E16253: Carduelis carduelis carduelis | F16253: 2 | G16253: FAUNE
A16254: FAUNE | B16254: G1 001 I | C16254: Ind. CHARDONNERET ELEGANT | D16254: I | E16254: Carduelis carduelis carduelis | F16254: 2 | G16254: FAUNE
A16255: FAUNE | B16255: G1 001 S | C16255: Stam CHARDONNERET ELEGANT | D16255: S | E16255: Carduelis carduelis carduelis | F16255: 2 | G16255: FAUNE
A16256: FAUNE | B16256: G1 002 D | C16256: Duo CHARDONNERET ELEGANT (MAJOR) | D16256: D | E16256: Carduelis carduelis major | F16256: 2 | G16256: FAUNE
A16257: FAUNE | B16257: G1 002 I | C16257: Ind. CHARDONNERET ELEGANT (MAJOR) | D16257: I | E16257: Carduelis carduelis major | F16257: 2 | G16257: FAUNE
A16258: FAUNE | B16258: G1 002 S | C16258: Stam CHARDONNERET ELEGANT (MAJOR) | D16258: S | E16258: Carduelis carduelis major | F16258: 2 | G16258: FAUNE
A16259: FAUNE | B16259: G1 003 D | C16259: Duo CHARDONNERET ELEGANT (BRITANNICA) | D16259: D | E16259: Carduelis carduelis britanica | F16259: 2 | G16259: FAUNE
A16260: FAUNE | B16260: G1 003 I | C16260: Ind. CHARDONNERET ELEGANT (BRITANNICA) | D16260: I | E16260: Carduelis carduelis britanica | F16260: 2 | G16260: FAUNE
A16261: FAUNE | B16261: G1 003 S | C16261: Stam CHARDONNERET ELEGANT (BRITANNICA) | D16261: S | E16261: Carduelis carduelis britanica | F16261: 2 | G16261: FAUNE
A16262: FAUNE | B16262: G1 004 D | C16262: Duo CHARDONNERET ELEGANT (PARVA) | D16262: D | E16262: Carduelis carduelis parva | F16262: 2 | G16262: FAUNE
A16263: FAUNE | B16263: G1 004 I | C16263: Ind. CHARDONNERET ELEGANT (PARVA) | D16263: I | E16263: Carduelis carduelis parva | F16263: 2 | G16263: FAUNE
... A18014: FAUNE | B18014: G2 261 S | C18014: Stam CASSE NOIX MOUCHETE MUTATIONS | D18014: S | E18014: Nucifraga caryocatactes | F18014: 2 | G18014: FAUNE
A18015: FAUNE | B18015: G2 263 B | C18015: Ad. AUTRES ESPECES TOUTES MUTATIONS et COMBINAISONS | D18015: I | F18015: 25 | G18015: FAUNE
A18016: FAUNE | B18016: G2 263 C | C18016: Cple AUTRES ESPECES TOUTES MUTATIONS et COMBINAISONS | D18016: D | F18016: 2 | G18016: FAUNE
A18017: FAUNE | B18017: G2 263 DF | C18017: Duo AUTRES ESPECES TOUTES MUTATIONS et COMBINAISONS | D18017: D | F18017: 2 | G18017: FAUNE
A18018: FAUNE | B18018: G2 263 DM | C18018: Duo AUTRES ESPECES TOUTES MUTATIONS et COMBINAISONS | D18018: D | F18018: 2 | G18018: FAUNE
A18019: FAUNE | B18019: G2 263 I | C18019: Ind. AUTRES ESPECES TOUTES MUTATIONS et COMBINAISONS | D18019: I | F18019: 2 | G18019: FAUNE
A18020: FAUNE | B18020: G2 263 S | C18020: Stam AUTRES ESPECES TOUTES MUTATIONS et COMBINAISONS | D18020: S | F18020: 2 | G18020: FAUNE
A18021: F-I-N | B18021: F11 001 B | C18021: Ad. Barbu, Barbican, Barbion | D18021: I | F18021: 25 | G18021: VOLIERE
A18022: F-I-N | B18022: F11 001 D | C18022: Duo Barbu, Barbican, Barbion ancestral | D18022: D | F18022: 3 | G18022: VOLIERE
A18023: F-I-N | B18023: F11 001 I | C18023: Ind. Barbu, Barbican, Barbion ancestral | D18023: I | F18023: 3 | G18023: VOLIERE
A18024: F-I-N | B18024: F11 001 S | C18024: Stam Barbu, Barbican, Barbion ancestral | D18024: S | F18024: 3 | G18024: VOLIERE
A18025: F-I-N | B18025: F11 002 D | C18025: Duo Barbu, Barbican, Barbion mutation et combinaison de mutations | D18025: D | F18025: 3 | G18025: VOLIERE
A18026: F-I-N | B18026: F11 002 I | C18026: Ind. Barbu, Barbican, Barbion mutation et combinaison de mutations | D18026: I | F18026: 3 | G18026: VOLIERE
... A18653: F-I-N | B18653: F11 144 S | C18653: Stam Autres Frugivores, Insectivores, Nectarivores mutation et combinaison de mutations | D18653: S | F18653: 3 | G18653: EXOS
A18654: FORPUS | B18654: F11 001 B | C18654: Ad. F Forpus coelestis phénotype ancestral | D18654: I | E18654: Forpus coelestis | F18654: 25 | G18654: FORPUS
A18655: FORPUS | B18655: F11 001 D | C18655: Ad. M Forpus coelestis phénotype ancestral | D18655: I | E18655: Forpus coelestis | F18655: 25 | G18655: FORPUS
A18656: FORPUS | B18656: F11 001 I | C18656: Cple Forpus coelestis phénotype ancestral | D18656: D | E18656: Forpus coelestis | F18656: 3 | G18656: FORPUS
A18657: FORPUS | B18657: F11 001 S | C18657: Duo F Forpus coelestis phénotype ancestral | D18657: D | E18657: Forpus coelestis | F18657: 3 | G18657: FORPUS
A18658: FORPUS | B18658: F11 002 D | C18658: Duo M Forpus coelestis phénotype ancestral | D18658: D | E18658: Forpus coelestis | F18658: 3 | G18658: FORPUS
A18659: FORPUS | B18659: F11 002 I | C18659: IF Forpus coelestis phénotype ancestral | D18659: I | E18659: Forpus coelestis | F18659: 3 | G18659: FORPUS
A18660: FORPUS | B18660: F11 002 S | C18660: IM Forpus coelestis phénotype ancestral | D18660: I | E18660: Forpus coelestis | F18660: 3 | G18660: FORPUS
A18661: FORPUS | B18661: F11 003 B | C18661: Stam F Forpus coelestis phénotype ancestral | D18661: S | E18661: Forpus coelestis | F18661: 3 | G18661: FORPUS
...

Sheet engagement individuel
A1: Numéro | B1: NINSC | C1: ='CONCOURS INDIVIDUEL F1'!B10 -> REGION | D1: SOUCHE | E1: ='CONCOURS INDIVIDUEL F1'!D10 -> TYPE | F1: ='CONCOURS INDIVIDUEL F1'!E10 -> CLASSE | G1: ='CONCOURS INDIVIDUEL F1'!F10 -> DESIGNATION | H1: ='CONCOURS INDIVIDUEL F1'!G10 -> SEXE | I1: ='CONCOURS INDIVIDUEL F1'!H10 -> BAGUE MALE | J1: ='CONCOURS INDIVIDUEL F1'!I10 -> BAGUE FEMELLE | K1: bague | L1: ='CONCOURS INDIVIDUEL F1'!K10 -> ANNEE | M1: ='CONCOURS INDIVIDUEL F1'!L10 -> PRIX | N1: ='CONCOURS INDIVIDUEL F1'!M10 -> EXPOSITION OUI /NON | O1: ='CONCOURS INDIVIDUEL F1'!N10 -> CAGE PERSONNEL | P1: CONVOYAGE
A2: 1 | C2: ='CONCOURS INDIVIDUEL F1'!B11 -> cde | D2: ='CONCOURS INDIVIDUEL F1'!C11 -> PM | E2: ='CONCOURS INDIVIDUEL F1'!D11 -> 0 | F2: ='CONCOURS INDIVIDUEL F1'!E11 -> 0 | G2: ='CONCOURS INDIVIDUEL F1'!F11 | H2: ='CONCOURS INDIVIDUEL F1'!G11 -> 0 | I2: ='CONCOURS INDIVIDUEL F1'!H11 -> 0 | J2: ='CONCOURS INDIVIDUEL F1'!I11 -> 0 | L2: ='CONCOURS INDIVIDUEL F1'!K11 -> 0 | M2: ='CONCOURS INDIVIDUEL F1'!L11 -> 0 | N2: ='CONCOURS INDIVIDUEL F1'!M11 -> 0 | O2: ='CONCOURS INDIVIDUEL F1'!N11 -> 0 | P2: ='CONCOURS INDIVIDUEL F1'!O11 -> 0 | Q2: INDIVIDUEL 1
A3: 2 | C3: ='CONCOURS INDIVIDUEL F1'!B12 -> cde | D3: ='CONCOURS INDIVIDUEL F1'!C12 -> PM | E3: ='CONCOURS INDIVIDUEL F1'!D12 -> 0 | F3: ='CONCOURS INDIVIDUEL F1'!E12 -> 0 | G3: ='CONCOURS INDIVIDUEL F1'!F12 | H3: ='CONCOURS INDIVIDUEL F1'!G12 -> 0 | I3: ='CONCOURS INDIVIDUEL F1'!H12 -> 0 | J3: ='CONCOURS INDIVIDUEL F1'!I12 -> 0 | L3: ='CONCOURS INDIVIDUEL F1'!K12 -> 0 | M3: ='CONCOURS INDIVIDUEL F1'!L12 -> 0 | N3: ='CONCOURS INDIVIDUEL F1'!M12 -> 0 | O3: ='CONCOURS INDIVIDUEL F1'!N12 -> 0 | P3: ='CONCOURS INDIVIDUEL F1'!O12 -> 0
A4: 3 | C4: ='CONCOURS INDIVIDUEL F1'!B13 -> cde | D4: ='CONCOURS INDIVIDUEL F1'!C13 -> PM | E4: ='CONCOURS INDIVIDUEL F1'!D13 -> 0 | F4: ='CONCOURS INDIVIDUEL F1'!E13 -> 0 | G4: ='CONCOURS INDIVIDUEL F1'!F13 | H4: ='CONCOURS INDIVIDUEL F1'!G13 -> 0 | I4: ='CONCOURS INDIVIDUEL F1'!H13 -> 0 | J4: ='CONCOURS INDIVIDUEL F1'!I13 -> 0 | L4: ='CONCOURS INDIVIDUEL F1'!K13 -> 0 | M4: ='CONCOURS INDIVIDUEL F1'!L13 -> 0 | N4: ='CONCOURS INDIVIDUEL F1'!M13 -> 0 | O4: ='CONCOURS INDIVIDUEL F1'!N13 -> 0 | P4: ='CONCOURS INDIVIDUEL F1'!O13 -> 0
A5: 4 | C5: ='CONCOURS INDIVIDUEL F1'!B14 -> cde | D5: ='CONCOURS INDIVIDUEL F1'!C14 -> PM | E5: ='CONCOURS INDIVIDUEL F1'!D14 -> 0 | F5: ='CONCOURS INDIVIDUEL F1'!E14 -> 0 | G5: ='CONCOURS INDIVIDUEL F1'!F14 | H5: ='CONCOURS INDIVIDUEL F1'!G14 -> 0 | I5: ='CONCOURS INDIVIDUEL F1'!H14 -> 0 | J5: ='CONCOURS INDIVIDUEL F1'!I14 -> 0 | L5: ='CONCOURS INDIVIDUEL F1'!K14 -> 0 | M5: ='CONCOURS INDIVIDUEL F1'!L14 -> 0 | N5: ='CONCOURS INDIVIDUEL F1'!M14 -> 0 | O5: ='CONCOURS INDIVIDUEL F1'!N14 -> 0 | P5: ='CONCOURS INDIVIDUEL F1'!O14 -> 0
A6: 5 | C6: ='CONCOURS INDIVIDUEL F1'!B15 -> cde | D6: ='CONCOURS INDIVIDUEL F1'!C15 -> PM | E6: ='CONCOURS INDIVIDUEL F1'!D15 -> 0 | F6: ='CONCOURS INDIVIDUEL F1'!E15 -> 0 | G6: ='CONCOURS INDIVIDUEL F1'!F15 | H6: ='CONCOURS INDIVIDUEL F1'!G15 -> 0 | I6: ='CONCOURS INDIVIDUEL F1'!H15 -> 0 | J6: ='CONCOURS INDIVIDUEL F1'!I15 -> 0 | L6: ='CONCOURS INDIVIDUEL F1'!K15 -> 0 | M6: ='CONCOURS INDIVIDUEL F1'!L15 -> 0 | N6: ='CONCOURS INDIVIDUEL F1'!M15 -> 0 | O6: ='CONCOURS INDIVIDUEL F1'!N15 -> 0 | P6: ='CONCOURS INDIVIDUEL F1'!O15 -> 0
A7: 6 | C7: ='CONCOURS INDIVIDUEL F1'!B16 -> cde | D7: ='CONCOURS INDIVIDUEL F1'!C16 -> PM | E7: ='CONCOURS INDIVIDUEL F1'!D16 -> 0 | F7: ='CONCOURS INDIVIDUEL F1'!E16 -> 0 | G7: ='CONCOURS INDIVIDUEL F1'!F16 | H7: ='CONCOURS INDIVIDUEL F1'!G16 -> 0 | I7: ='CONCOURS INDIVIDUEL F1'!H16 -> 0 | J7: ='CONCOURS INDIVIDUEL F1'!I16 -> 0 | L7: ='CONCOURS INDIVIDUEL F1'!K16 -> 0 | M7: ='CONCOURS INDIVIDUEL F1'!L16 -> 0 | N7: ='CONCOURS INDIVIDUEL F1'!M16 -> 0 | O7: ='CONCOURS INDIVIDUEL F1'!N16 -> 0 | P7: ='CONCOURS INDIVIDUEL F1'!O16 -> 0
A8: 7 | C8: ='CONCOURS INDIVIDUEL F1'!B17 -> cde | D8: ='CONCOURS INDIVIDUEL F1'!C17 -> PM | E8: ='CONCOURS INDIVIDUEL F1'!D17 -> 0 | F8: ='CONCOURS INDIVIDUEL F1'!E17 -> 0 | G8: ='CONCOURS INDIVIDUEL F1'!F17 | H8: ='CONCOURS INDIVIDUEL F1'!G17 -> 0 | I8: ='CONCOURS INDIVIDUEL F1'!H17 -> 0 | J8: ='CONCOURS INDIVIDUEL F1'!I17 -> 0 | L8: ='CONCOURS INDIVIDUEL F1'!K17 -> 0 | M8: ='CONCOURS INDIVIDUEL F1'!L17 -> 0 | N8: ='CONCOURS INDIVIDUEL F1'!M17 -> 0 | O8: ='CONCOURS INDIVIDUEL F1'!N17 -> 0 | P8: ='CONCOURS INDIVIDUEL F1'!O17 -> 0
A9: 8 | C9: ='CONCOURS INDIVIDUEL F1'!B18 -> cde | D9: ='CONCOURS INDIVIDUEL F1'!C18 -> PM | E9: ='CONCOURS INDIVIDUEL F1'!D18 -> 0 | F9: ='CONCOURS INDIVIDUEL F1'!E18 -> 0 | G9: ='CONCOURS INDIVIDUEL F1'!F18 | H9: ='CONCOURS INDIVIDUEL F1'!G18 -> 0 | I9: ='CONCOURS INDIVIDUEL F1'!H18 -> 0 | J9: ='CONCOURS INDIVIDUEL F1'!I18 -> 0 | L9: ='CONCOURS INDIVIDUEL F1'!K18 -> 0 | M9: ='CONCOURS INDIVIDUEL F1'!L18 -> 0 | N9: ='CONCOURS INDIVIDUEL F1'!M18 -> 0 | O9: ='CONCOURS INDIVIDUEL F1'!N18 -> 0 | P9: ='CONCOURS INDIVIDUEL F1'!O18 -> 0
A10: 9 | C10: ='CONCOURS INDIVIDUEL F1'!B19 -> cde | D10: ='CONCOURS INDIVIDUEL F1'!C19 -> PM | E10: ='CONCOURS INDIVIDUEL F1'!D19 -> 0 | F10: ='CONCOURS INDIVIDUEL F1'!E19 -> 0 | G10: ='CONCOURS INDIVIDUEL F1'!F19 | H10: ='CONCOURS INDIVIDUEL F1'!G19 -> 0 | I10: ='CONCOURS INDIVIDUEL F1'!H19 -> 0 | J10: ='CONCOURS INDIVIDUEL F1'!I19 -> 0 | L10: ='CONCOURS INDIVIDUEL F1'!K19 -> 0 | M10: ='CONCOURS INDIVIDUEL F1'!L19 -> 0 | N10: ='CONCOURS INDIVIDUEL F1'!M19 -> 0 | O10: ='CONCOURS INDIVIDUEL F1'!N19 -> 0 | P10: ='CONCOURS INDIVIDUEL F1'!O19 -> 0
A11: 10 | C11: ='CONCOURS INDIVIDUEL F1'!B20 -> cde | D11: ='CONCOURS INDIVIDUEL F1'!C20 -> PM | E11: ='CONCOURS INDIVIDUEL F1'!D20 -> 0 | F11: ='CONCOURS INDIVIDUEL F1'!E20 -> 0 | G11: ='CONCOURS INDIVIDUEL F1'!F20 | H11: ='CONCOURS INDIVIDUEL F1'!G20 -> 0 | I11: ='CONCOURS INDIVIDUEL F1'!H20 -> 0 | J11: ='CONCOURS INDIVIDUEL F1'!I20 -> 0 | L11: ='CONCOURS INDIVIDUEL F1'!K20 -> 0 | M11: ='CONCOURS INDIVIDUEL F1'!L20 -> 0 | N11: ='CONCOURS INDIVIDUEL F1'!M20 -> 0 | O11: ='CONCOURS INDIVIDUEL F1'!N20 -> 0 | P11: ='CONCOURS INDIVIDUEL F1'!O20 -> 0
A12: 11 | C12: ='CONCOURS INDIVIDUEL F1'!B21 -> cde | D12: ='CONCOURS INDIVIDUEL F1'!C21 -> PM | E12: ='CONCOURS INDIVIDUEL F1'!D21 -> 0 | F12: ='CONCOURS INDIVIDUEL F1'!E21 -> 0 | G12: ='CONCOURS INDIVIDUEL F1'!F21 | H12: ='CONCOURS INDIVIDUEL F1'!G21 -> 0 | I12: ='CONCOURS INDIVIDUEL F1'!H21 -> 0 | J12: ='CONCOURS INDIVIDUEL F1'!I21 -> 0 | L12: ='CONCOURS INDIVIDUEL F1'!K21 -> 0 | M12: ='CONCOURS INDIVIDUEL F1'!L21 -> 0 | N12: ='CONCOURS INDIVIDUEL F1'!M21 -> 0 | O12: ='CONCOURS INDIVIDUEL F1'!N21 -> 0 | P12: ='CONCOURS INDIVIDUEL F1'!O21 -> 0
A13: 12 | C13: ='CONCOURS INDIVIDUEL F1'!B22 -> cde | D13: ='CONCOURS INDIVIDUEL F1'!C22 -> PM | E13: ='CONCOURS INDIVIDUEL F1'!D22 -> 0 | F13: ='CONCOURS INDIVIDUEL F1'!E22 -> 0 | G13: ='CONCOURS INDIVIDUEL F1'!F22 | H13: ='CONCOURS INDIVIDUEL F1'!G22 -> 0 | I13: ='CONCOURS INDIVIDUEL F1'!H22 -> 0 | J13: ='CONCOURS INDIVIDUEL F1'!I22 -> 0 | L13: ='CONCOURS INDIVIDUEL F1'!K22 -> 0 | M13: ='CONCOURS INDIVIDUEL F1'!L22 -> 0 | N13: ='CONCOURS INDIVIDUEL F1'!M22 -> 0 | O13: ='CONCOURS INDIVIDUEL F1'!N22 -> 0 | P13: ='CONCOURS INDIVIDUEL F1'!O22 -> 0
A14: 13 | C14: ='CONCOURS INDIVIDUEL F1'!B23 -> cde | D14: ='CONCOURS INDIVIDUEL F1'!C23 -> PM | E14: ='CONCOURS INDIVIDUEL F1'!D23 -> 0 | F14: ='CONCOURS INDIVIDUEL F1'!E23 -> 0 | G14: ='CONCOURS INDIVIDUEL F1'!F23 | H14: ='CONCOURS INDIVIDUEL F1'!G23 -> 0 | I14: ='CONCOURS INDIVIDUEL F1'!H23 -> 0 | J14: ='CONCOURS INDIVIDUEL F1'!I23 -> 0 | L14: ='CONCOURS INDIVIDUEL F1'!K23 -> 0 | M14: ='CONCOURS INDIVIDUEL F1'!L23 -> 0 | N14: ='CONCOURS INDIVIDUEL F1'!M23 -> 0 | O14: ='CONCOURS INDIVIDUEL F1'!N23 -> 0 | P14: ='CONCOURS INDIVIDUEL F1'!O23 -> 0
... A22: 21 | C22: ='CONCOURS INDIVIDUEL F1'!B31 -> cde | D22: ='CONCOURS INDIVIDUEL F1'!C31 -> PM | E22: ='CONCOURS INDIVIDUEL F1'!D31 -> 0 | F22: ='CONCOURS INDIVIDUEL F1'!E31 -> 0 | G22: ='CONCOURS INDIVIDUEL F1'!F31 | H22: ='CONCOURS INDIVIDUEL F1'!G31 -> 0 | I22: ='CONCOURS INDIVIDUEL F1'!H31 -> 0 | J22: ='CONCOURS INDIVIDUEL F1'!I31 -> 0 | L22: ='CONCOURS INDIVIDUEL F1'!K31 -> 0 | M22: ='CONCOURS INDIVIDUEL F1'!L31 -> 0 | N22: ='CONCOURS INDIVIDUEL F1'!M31 -> 0 | O22: ='CONCOURS INDIVIDUEL F1'!N31 -> 0 | P22: ='CONCOURS INDIVIDUEL F1'!O31 -> 0
A23: 22 | C23: ='CONCOURS INDIVIDUEL F2'!B11 -> cde | D23: ='CONCOURS INDIVIDUEL F2'!C11 -> PM | E23: ='CONCOURS INDIVIDUEL F2'!D11 -> 0 | F23: ='CONCOURS INDIVIDUEL F2'!E11 -> 0 | G23: ='CONCOURS INDIVIDUEL F2'!F11 | H23: ='CONCOURS INDIVIDUEL F2'!G11 -> 0 | I23: ='CONCOURS INDIVIDUEL F2'!H11 -> 0 | J23: ='CONCOURS INDIVIDUEL F2'!I11 -> 0 | L23: ='CONCOURS INDIVIDUEL F2'!K11 -> 0 | M23: ='CONCOURS INDIVIDUEL F2'!L11 -> 0 | N23: ='CONCOURS INDIVIDUEL F2'!M11 -> 0 | O23: ='CONCOURS INDIVIDUEL F2'!N11 -> 0 | P23: ='CONCOURS INDIVIDUEL F2'!O11 -> 0 | Q23: INDIVIDUEL 2
A24: 23 | C24: ='CONCOURS INDIVIDUEL F2'!B12 -> cde | D24: ='CONCOURS INDIVIDUEL F2'!C12 -> PM | E24: ='CONCOURS INDIVIDUEL F2'!D12 -> 0 | F24: ='CONCOURS INDIVIDUEL F2'!E12 -> 0 | G24: ='CONCOURS INDIVIDUEL F2'!F12 | H24: ='CONCOURS INDIVIDUEL F2'!G12 -> 0 | I24: ='CONCOURS INDIVIDUEL F2'!H12 -> 0 | J24: ='CONCOURS INDIVIDUEL F2'!I12 -> 0 | L24: ='CONCOURS INDIVIDUEL F2'!K12 -> 0 | M24: ='CONCOURS INDIVIDUEL F2'!L12 -> 0 | N24: ='CONCOURS INDIVIDUEL F2'!M12 -> 0 | O24: ='CONCOURS INDIVIDUEL F2'!N12 -> 0 | P24: ='CONCOURS INDIVIDUEL F2'!O12 -> 0
A25: 24 | C25: ='CONCOURS INDIVIDUEL F2'!B13 -> cde | D25: ='CONCOURS INDIVIDUEL F2'!C13 -> PM | E25: ='CONCOURS INDIVIDUEL F2'!D13 -> 0 | F25: ='CONCOURS INDIVIDUEL F2'!E13 -> 0 | G25: ='CONCOURS INDIVIDUEL F2'!F13 | H25: ='CONCOURS INDIVIDUEL F2'!G13 -> 0 | I25: ='CONCOURS INDIVIDUEL F2'!H13 -> 0 | J25: ='CONCOURS INDIVIDUEL F2'!I13 -> 0 | L25: ='CONCOURS INDIVIDUEL F2'!K13 -> 0 | M25: ='CONCOURS INDIVIDUEL F2'!L13 -> 0 | N25: ='CONCOURS INDIVIDUEL F2'!M13 -> 0 | O25: ='CONCOURS INDIVIDUEL F2'!N13 -> 0 | P25: ='CONCOURS INDIVIDUEL F2'!O13 -> 0
A26: 25 | C26: ='CONCOURS INDIVIDUEL F2'!B14 -> cde | D26: ='CONCOURS INDIVIDUEL F2'!C14 -> PM | E26: ='CONCOURS INDIVIDUEL F2'!D14 -> 0 | F26: ='CONCOURS INDIVIDUEL F2'!E14 -> 0 | G26: ='CONCOURS INDIVIDUEL F2'!F14 | H26: ='CONCOURS INDIVIDUEL F2'!G14 -> 0 | I26: ='CONCOURS INDIVIDUEL F2'!H14 -> 0 | J26: ='CONCOURS INDIVIDUEL F2'!I14 -> 0 | L26: ='CONCOURS INDIVIDUEL F2'!K14 -> 0 | M26: ='CONCOURS INDIVIDUEL F2'!L14 -> 0 | N26: ='CONCOURS INDIVIDUEL F2'!M14 -> 0 | O26: ='CONCOURS INDIVIDUEL F2'!N14 -> 0 | P26: ='CONCOURS INDIVIDUEL F2'!O14 -> 0
A27: 26 | C27: ='CONCOURS INDIVIDUEL F2'!B15 -> cde | D27: ='CONCOURS INDIVIDUEL F2'!C15 -> PM | E27: ='CONCOURS INDIVIDUEL F2'!D15 -> 0 | F27: ='CONCOURS INDIVIDUEL F2'!E15 -> 0 | G27: ='CONCOURS INDIVIDUEL F2'!F15 | H27: ='CONCOURS INDIVIDUEL F2'!G15 -> 0 | I27: ='CONCOURS INDIVIDUEL F2'!H15 -> 0 | J27: ='CONCOURS INDIVIDUEL F2'!I15 -> 0 | L27: ='CONCOURS INDIVIDUEL F2'!K15 -> 0 | M27: ='CONCOURS INDIVIDUEL F2'!L15 -> 0 | N27: ='CONCOURS INDIVIDUEL F2'!M15 -> 0 | O27: ='CONCOURS INDIVIDUEL F2'!N15 -> 0 | P27: ='CONCOURS INDIVIDUEL F2'!O15 -> 0
A28: 27 | C28: ='CONCOURS INDIVIDUEL F2'!B16 -> cde | D28: ='CONCOURS INDIVIDUEL F2'!C16 -> PM | E28: ='CONCOURS INDIVIDUEL F2'!D16 -> 0 | F28: ='CONCOURS INDIVIDUEL F2'!E16 -> 0 | G28: ='CONCOURS INDIVIDUEL F2'!F16 | H28: ='CONCOURS INDIVIDUEL F2'!G16 -> 0 | I28: ='CONCOURS INDIVIDUEL F2'!H16 -> 0 | J28: ='CONCOURS INDIVIDUEL F2'!I16 -> 0 | L28: ='CONCOURS INDIVIDUEL F2'!K16 -> 0 | M28: ='CONCOURS INDIVIDUEL F2'!L16 -> 0 | N28: ='CONCOURS INDIVIDUEL F2'!M16 -> 0 | O28: ='CONCOURS INDIVIDUEL F2'!N16 -> 0 | P28: ='CONCOURS INDIVIDUEL F2'!O16 -> 0
A29: 28 | C29: ='CONCOURS INDIVIDUEL F2'!B17 -> cde | D29: ='CONCOURS INDIVIDUEL F2'!C17 -> PM | E29: ='CONCOURS INDIVIDUEL F2'!D17 -> 0 | F29: ='CONCOURS INDIVIDUEL F2'!E17 -> 0 | G29: ='CONCOURS INDIVIDUEL F2'!F17 | H29: ='CONCOURS INDIVIDUEL F2'!G17 -> 0 | I29: ='CONCOURS INDIVIDUEL F2'!H17 -> 0 | J29: ='CONCOURS INDIVIDUEL F2'!I17 -> 0 | L29: ='CONCOURS INDIVIDUEL F2'!K17 -> 0 | M29: ='CONCOURS INDIVIDUEL F2'!L17 -> 0 | N29: ='CONCOURS INDIVIDUEL F2'!M17 -> 0 | O29: ='CONCOURS INDIVIDUEL F2'!N17 -> 0 | P29: ='CONCOURS INDIVIDUEL F2'!O17 -> 0
A30: 29 | C30: ='CONCOURS INDIVIDUEL F2'!B18 -> cde | D30: ='CONCOURS INDIVIDUEL F2'!C18 -> PM | E30: ='CONCOURS INDIVIDUEL F2'!D18 -> 0 | F30: ='CONCOURS INDIVIDUEL F2'!E18 -> 0 | G30: ='CONCOURS INDIVIDUEL F2'!F18 | H30: ='CONCOURS INDIVIDUEL F2'!G18 -> 0 | I30: ='CONCOURS INDIVIDUEL F2'!H18 -> 0 | J30: ='CONCOURS INDIVIDUEL F2'!I18 -> 0 | L30: ='CONCOURS INDIVIDUEL F2'!K18 -> 0 | M30: ='CONCOURS INDIVIDUEL F2'!L18 -> 0 | N30: ='CONCOURS INDIVIDUEL F2'!M18 -> 0 | O30: ='CONCOURS INDIVIDUEL F2'!N18 -> 0 | P30: ='CONCOURS INDIVIDUEL F2'!O18 -> 0
A31: 30 | C31: ='CONCOURS INDIVIDUEL F2'!B19 -> cde | D31: ='CONCOURS INDIVIDUEL F2'!C19 -> PM | E31: ='CONCOURS INDIVIDUEL F2'!D19 -> 0 | F31: ='CONCOURS INDIVIDUEL F2'!E19 -> 0 | G31: ='CONCOURS INDIVIDUEL F2'!F19 | H31: ='CONCOURS INDIVIDUEL F2'!G19 -> 0 | I31: ='CONCOURS INDIVIDUEL F2'!H19 -> 0 | J31: ='CONCOURS INDIVIDUEL F2'!I19 -> 0 | L31: ='CONCOURS INDIVIDUEL F2'!K19 -> 0 | M31: ='CONCOURS INDIVIDUEL F2'!L19 -> 0 | N31: ='CONCOURS INDIVIDUEL F2'!M19 -> 0 | O31: ='CONCOURS INDIVIDUEL F2'!N19 -> 0 | P31: ='CONCOURS INDIVIDUEL F2'!O19 -> 0
A32: 31 | C32: ='CONCOURS INDIVIDUEL F2'!B20 -> cde | D32: ='CONCOURS INDIVIDUEL F2'!C20 -> PM | E32: ='CONCOURS INDIVIDUEL F2'!D20 -> 0 | F32: ='CONCOURS INDIVIDUEL F2'!E20 -> 0 | G32: ='CONCOURS INDIVIDUEL F2'!F20 | H32: ='CONCOURS INDIVIDUEL F2'!G20 -> 0 | I32: ='CONCOURS INDIVIDUEL F2'!H20 -> 0 | J32: ='CONCOURS INDIVIDUEL F2'!I20 -> 0 | L32: ='CONCOURS INDIVIDUEL F2'!K20 -> 0 | M32: ='CONCOURS INDIVIDUEL F2'!L20 -> 0 | N32: ='CONCOURS INDIVIDUEL F2'!M20 -> 0 | O32: ='CONCOURS INDIVIDUEL F2'!N20 -> 0 | P32: ='CONCOURS INDIVIDUEL F2'!O20 -> 0
A33: 32 | C33: ='CONCOURS INDIVIDUEL F2'!B21 -> cde | D33: ='CONCOURS INDIVIDUEL F2'!C21 -> PM | E33: ='CONCOURS INDIVIDUEL F2'!D21 -> 0 | F33: ='CONCOURS INDIVIDUEL F2'!E21 -> 0 | G33: ='CONCOURS INDIVIDUEL F2'!F21 | H33: ='CONCOURS INDIVIDUEL F2'!G21 -> 0 | I33: ='CONCOURS INDIVIDUEL F2'!H21 -> 0 | J33: ='CONCOURS INDIVIDUEL F2'!I21 -> 0 | L33: ='CONCOURS INDIVIDUEL F2'!K21 -> 0 | M33: ='CONCOURS INDIVIDUEL F2'!L21 -> 0 | N33: ='CONCOURS INDIVIDUEL F2'!M21 -> 0 | O33: ='CONCOURS INDIVIDUEL F2'!N21 -> 0 | P33: ='CONCOURS INDIVIDUEL F2'!O21 -> 0
A34: 33 | C34: ='CONCOURS INDIVIDUEL F2'!B22 -> cde | D34: ='CONCOURS INDIVIDUEL F2'!C22 -> PM | E34: ='CONCOURS INDIVIDUEL F2'!D22 -> 0 | F34: ='CONCOURS INDIVIDUEL F2'!E22 -> 0 | G34: ='CONCOURS INDIVIDUEL F2'!F22 | H34: ='CONCOURS INDIVIDUEL F2'!G22 -> 0 | I34: ='CONCOURS INDIVIDUEL F2'!H22 -> 0 | J34: ='CONCOURS INDIVIDUEL F2'!I22 -> 0 | L34: ='CONCOURS INDIVIDUEL F2'!K22 -> 0 | M34: ='CONCOURS INDIVIDUEL F2'!L22 -> 0 | N34: ='CONCOURS INDIVIDUEL F2'!M22 -> 0 | O34: ='CONCOURS INDIVIDUEL F2'!N22 -> 0 | P34: ='CONCOURS INDIVIDUEL F2'!O22 -> 0
A35: 34 | C35: ='CONCOURS INDIVIDUEL F2'!B23 -> cde | D35: ='CONCOURS INDIVIDUEL F2'!C23 -> PM | E35: ='CONCOURS INDIVIDUEL F2'!D23 -> 0 | F35: ='CONCOURS INDIVIDUEL F2'!E23 -> 0 | G35: ='CONCOURS INDIVIDUEL F2'!F23 | H35: ='CONCOURS INDIVIDUEL F2'!G23 -> 0 | I35: ='CONCOURS INDIVIDUEL F2'!H23 -> 0 | J35: ='CONCOURS INDIVIDUEL F2'!I23 -> 0 | L35: ='CONCOURS INDIVIDUEL F2'!K23 -> 0 | M35: ='CONCOURS INDIVIDUEL F2'!L23 -> 0 | N35: ='CONCOURS INDIVIDUEL F2'!M23 -> 0 | O35: ='CONCOURS INDIVIDUEL F2'!N23 -> 0 | P35: ='CONCOURS INDIVIDUEL F2'!O23 -> 0
... A43: 42 | C43: ='CONCOURS INDIVIDUEL F2'!B31 -> cde | D43: ='CONCOURS INDIVIDUEL F2'!C31 -> PM | E43: ='CONCOURS INDIVIDUEL F2'!D31 -> 0 | F43: ='CONCOURS INDIVIDUEL F2'!E31 -> 0 | G43: ='CONCOURS INDIVIDUEL F2'!F31 | H43: ='CONCOURS INDIVIDUEL F2'!G31 -> 0 | I43: ='CONCOURS INDIVIDUEL F2'!H31 -> 0 | J43: ='CONCOURS INDIVIDUEL F2'!I31 -> 0 | L43: ='CONCOURS INDIVIDUEL F2'!K31 -> 0 | M43: ='CONCOURS INDIVIDUEL F2'!L31 -> 0 | N43: ='CONCOURS INDIVIDUEL F2'!M31 -> 0 | O43: ='CONCOURS INDIVIDUEL F2'!N31 -> 0 | P43: ='CONCOURS INDIVIDUEL F2'!O31 -> 0
A44: 43 | C44: ='CONCOURS INDIVIDUEL F3'!B11 -> cde | D44: ='CONCOURS INDIVIDUEL F3'!C11 -> PM | E44: ='CONCOURS INDIVIDUEL F3'!D11 -> 0 | F44: ='CONCOURS INDIVIDUEL F3'!E11 -> 0 | G44: ='CONCOURS INDIVIDUEL F3'!F11 | H44: ='CONCOURS INDIVIDUEL F3'!G11 -> 0 | I44: ='CONCOURS INDIVIDUEL F3'!H11 -> 0 | J44: ='CONCOURS INDIVIDUEL F3'!I11 -> 0 | L44: ='CONCOURS INDIVIDUEL F3'!K11 -> 0 | M44: ='CONCOURS INDIVIDUEL F3'!L11 -> 0 | N44: ='CONCOURS INDIVIDUEL F3'!M11 -> 0 | O44: ='CONCOURS INDIVIDUEL F3'!N11 -> 0 | P44: ='CONCOURS INDIVIDUEL F3'!O11 -> 0 | Q44: INDIVIDUEL 3
A45: 44 | C45: ='CONCOURS INDIVIDUEL F3'!B12 -> cde | D45: ='CONCOURS INDIVIDUEL F3'!C12 -> PM | E45: ='CONCOURS INDIVIDUEL F3'!D12 -> 0 | F45: ='CONCOURS INDIVIDUEL F3'!E12 -> 0 | G45: ='CONCOURS INDIVIDUEL F3'!F12 | H45: ='CONCOURS INDIVIDUEL F3'!G12 -> 0 | I45: ='CONCOURS INDIVIDUEL F3'!H12 -> 0 | J45: ='CONCOURS INDIVIDUEL F3'!I12 -> 0 | L45: ='CONCOURS INDIVIDUEL F3'!K12 -> 0 | M45: ='CONCOURS INDIVIDUEL F3'!L12 -> 0 | N45: ='CONCOURS INDIVIDUEL F3'!M12 -> 0 | O45: ='CONCOURS INDIVIDUEL F3'!N12 -> 0 | P45: ='CONCOURS INDIVIDUEL F3'!O12 -> 0
A46: 45 | C46: ='CONCOURS INDIVIDUEL F3'!B13 -> cde | D46: ='CONCOURS INDIVIDUEL F3'!C13 -> PM | E46: ='CONCOURS INDIVIDUEL F3'!D13 -> 0 | F46: ='CONCOURS INDIVIDUEL F3'!E13 -> 0 | G46: ='CONCOURS INDIVIDUEL F3'!F13 | H46: ='CONCOURS INDIVIDUEL F3'!G13 -> 0 | I46: ='CONCOURS INDIVIDUEL F3'!H13 -> 0 | J46: ='CONCOURS INDIVIDUEL F3'!I13 -> 0 | L46: ='CONCOURS INDIVIDUEL F3'!K13 -> 0 | M46: ='CONCOURS INDIVIDUEL F3'!L13 -> 0 | N46: ='CONCOURS INDIVIDUEL F3'!M13 -> 0 | O46: ='CONCOURS INDIVIDUEL F3'!N13 -> 0 | P46: ='CONCOURS INDIVIDUEL F3'!O13 -> 0
A47: 46 | C47: ='CONCOURS INDIVIDUEL F3'!B14 -> cde | D47: ='CONCOURS INDIVIDUEL F3'!C14 -> PM | E47: ='CONCOURS INDIVIDUEL F3'!D14 -> 0 | F47: ='CONCOURS INDIVIDUEL F3'!E14 -> 0 | G47: ='CONCOURS INDIVIDUEL F3'!F14 | H47: ='CONCOURS INDIVIDUEL F3'!G14 -> 0 | I47: ='CONCOURS INDIVIDUEL F3'!H14 -> 0 | J47: ='CONCOURS INDIVIDUEL F3'!I14 -> 0 | L47: ='CONCOURS INDIVIDUEL F3'!K14 -> 0 | M47: ='CONCOURS INDIVIDUEL F3'!L14 -> 0 | N47: ='CONCOURS INDIVIDUEL F3'!M14 -> 0 | O47: ='CONCOURS INDIVIDUEL F3'!N14 -> 0 | P47: ='CONCOURS INDIVIDUEL F3'!O14 -> 0
A48: 47 | C48: ='CONCOURS INDIVIDUEL F3'!B15 -> cde | D48: ='CONCOURS INDIVIDUEL F3'!C15 -> PM | E48: ='CONCOURS INDIVIDUEL F3'!D15 -> 0 | F48: ='CONCOURS INDIVIDUEL F3'!E15 -> 0 | G48: ='CONCOURS INDIVIDUEL F3'!F15 | H48: ='CONCOURS INDIVIDUEL F3'!G15 -> 0 | I48: ='CONCOURS INDIVIDUEL F3'!H15 -> 0 | J48: ='CONCOURS INDIVIDUEL F3'!I15 -> 0 | L48: ='CONCOURS INDIVIDUEL F3'!K15 -> 0 | M48: ='CONCOURS INDIVIDUEL F3'!L15 -> 0 | N48: ='CONCOURS INDIVIDUEL F3'!M15 -> 0 | O48: ='CONCOURS INDIVIDUEL F3'!N15 -> 0 | P48: ='CONCOURS INDIVIDUEL F3'!O15 -> 0
A49: 48 | C49: ='CONCOURS INDIVIDUEL F3'!B16 -> cde | D49: ='CONCOURS INDIVIDUEL F3'!C16 -> PM | E49: ='CONCOURS INDIVIDUEL F3'!D16 -> 0 | F49: ='CONCOURS INDIVIDUEL F3'!E16 -> 0 | G49: ='CONCOURS INDIVIDUEL F3'!F16 | H49: ='CONCOURS INDIVIDUEL F3'!G16 -> 0 | I49: ='CONCOURS INDIVIDUEL F3'!H16 -> 0 | J49: ='CONCOURS INDIVIDUEL F3'!I16 -> 0 | L49: ='CONCOURS INDIVIDUEL F3'!K16 -> 0 | M49: ='CONCOURS INDIVIDUEL F3'!L16 -> 0 | N49: ='CONCOURS INDIVIDUEL F3'!M16 -> 0 | O49: ='CONCOURS INDIVIDUEL F3'!N16 -> 0 | P49: ='CONCOURS INDIVIDUEL F3'!O16 -> 0
A50: 49 | C50: ='CONCOURS INDIVIDUEL F3'!B17 -> cde | D50: ='CONCOURS INDIVIDUEL F3'!C17 -> PM | E50: ='CONCOURS INDIVIDUEL F3'!D17 -> 0 | F50: ='CONCOURS INDIVIDUEL F3'!E17 -> 0 | G50: ='CONCOURS INDIVIDUEL F3'!F17 | H50: ='CONCOURS INDIVIDUEL F3'!G17 -> 0 | I50: ='CONCOURS INDIVIDUEL F3'!H17 -> 0 | J50: ='CONCOURS INDIVIDUEL F3'!I17 -> 0 | L50: ='CONCOURS INDIVIDUEL F3'!K17 -> 0 | M50: ='CONCOURS INDIVIDUEL F3'!L17 -> 0 | N50: ='CONCOURS INDIVIDUEL F3'!M17 -> 0 | O50: ='CONCOURS INDIVIDUEL F3'!N17 -> 0 | P50: ='CONCOURS INDIVIDUEL F3'!O17 -> 0
A51: 50 | C51: ='CONCOURS INDIVIDUEL F3'!B18 -> cde | D51: ='CONCOURS INDIVIDUEL F3'!C18 -> PM | E51: ='CONCOURS INDIVIDUEL F3'!D18 -> 0 | F51: ='CONCOURS INDIVIDUEL F3'!E18 -> 0 | G51: ='CONCOURS INDIVIDUEL F3'!F18 | H51: ='CONCOURS INDIVIDUEL F3'!G18 -> 0 | I51: ='CONCOURS INDIVIDUEL F3'!H18 -> 0 | J51: ='CONCOURS INDIVIDUEL F3'!I18 -> 0 | L51: ='CONCOURS INDIVIDUEL F3'!K18 -> 0 | M51: ='CONCOURS INDIVIDUEL F3'!L18 -> 0 | N51: ='CONCOURS INDIVIDUEL F3'!M18 -> 0 | O51: ='CONCOURS INDIVIDUEL F3'!N18 -> 0 | P51: ='CONCOURS INDIVIDUEL F3'!O18 -> 0
A52: 51 | C52: ='CONCOURS INDIVIDUEL F3'!B19 -> cde | D52: ='CONCOURS INDIVIDUEL F3'!C19 -> PM | E52: ='CONCOURS INDIVIDUEL F3'!D19 -> 0 | F52: ='CONCOURS INDIVIDUEL F3'!E19 -> 0 | G52: ='CONCOURS INDIVIDUEL F3'!F19 | H52: ='CONCOURS INDIVIDUEL F3'!G19 -> 0 | I52: ='CONCOURS INDIVIDUEL F3'!H19 -> 0 | J52: ='CONCOURS INDIVIDUEL F3'!I19 -> 0 | L52: ='CONCOURS INDIVIDUEL F3'!K19 -> 0 | M52: ='CONCOURS INDIVIDUEL F3'!L19 -> 0 | N52: ='CONCOURS INDIVIDUEL F3'!M19 -> 0 | O52: ='CONCOURS INDIVIDUEL F3'!N19 -> 0 | P52: ='CONCOURS INDIVIDUEL F3'!O19 -> 0
A53: 52 | C53: ='CONCOURS INDIVIDUEL F3'!B20 -> cde | D53: ='CONCOURS INDIVIDUEL F3'!C20 -> PM | E53: ='CONCOURS INDIVIDUEL F3'!D20 -> 0 | F53: ='CONCOURS INDIVIDUEL F3'!E20 -> 0 | G53: ='CONCOURS INDIVIDUEL F3'!F20 | H53: ='CONCOURS INDIVIDUEL F3'!G20 -> 0 | I53: ='CONCOURS INDIVIDUEL F3'!H20 -> 0 | J53: ='CONCOURS INDIVIDUEL F3'!I20 -> 0 | L53: ='CONCOURS INDIVIDUEL F3'!K20 -> 0 | M53: ='CONCOURS INDIVIDUEL F3'!L20 -> 0 | N53: ='CONCOURS INDIVIDUEL F3'!M20 -> 0 | O53: ='CONCOURS INDIVIDUEL F3'!N20 -> 0 | P53: ='CONCOURS INDIVIDUEL F3'!O20 -> 0
A54: 53 | C54: ='CONCOURS INDIVIDUEL F3'!B21 -> cde | D54: ='CONCOURS INDIVIDUEL F3'!C21 -> PM | E54: ='CONCOURS INDIVIDUEL F3'!D21 -> 0 | F54: ='CONCOURS INDIVIDUEL F3'!E21 -> 0 | G54: ='CONCOURS INDIVIDUEL F3'!F21 | H54: ='CONCOURS INDIVIDUEL F3'!G21 -> 0 | I54: ='CONCOURS INDIVIDUEL F3'!H21 -> 0 | J54: ='CONCOURS INDIVIDUEL F3'!I21 -> 0 | L54: ='CONCOURS INDIVIDUEL F3'!K21 -> 0 | M54: ='CONCOURS INDIVIDUEL F3'!L21 -> 0 | N54: ='CONCOURS INDIVIDUEL F3'!M21 -> 0 | O54: ='CONCOURS INDIVIDUEL F3'!N21 -> 0 | P54: ='CONCOURS INDIVIDUEL F3'!O21 -> 0
A55: 54 | C55: ='CONCOURS INDIVIDUEL F3'!B22 -> cde | D55: ='CONCOURS INDIVIDUEL F3'!C22 -> PM | E55: ='CONCOURS INDIVIDUEL F3'!D22 -> 0 | F55: ='CONCOURS INDIVIDUEL F3'!E22 -> 0 | G55: ='CONCOURS INDIVIDUEL F3'!F22 | H55: ='CONCOURS INDIVIDUEL F3'!G22 -> 0 | I55: ='CONCOURS INDIVIDUEL F3'!H22 -> 0 | J55: ='CONCOURS INDIVIDUEL F3'!I22 -> 0 | L55: ='CONCOURS INDIVIDUEL F3'!K22 -> 0 | M55: ='CONCOURS INDIVIDUEL F3'!L22 -> 0 | N55: ='CONCOURS INDIVIDUEL F3'!M22 -> 0 | O55: ='CONCOURS INDIVIDUEL F3'!N22 -> 0 | P55: ='CONCOURS INDIVIDUEL F3'!O22 -> 0
A56: 55 | C56: ='CONCOURS INDIVIDUEL F3'!B23 -> cde | D56: ='CONCOURS INDIVIDUEL F3'!C23 -> PM | E56: ='CONCOURS INDIVIDUEL F3'!D23 -> 0 | F56: ='CONCOURS INDIVIDUEL F3'!E23 -> 0 | G56: ='CONCOURS INDIVIDUEL F3'!F23 | H56: ='CONCOURS INDIVIDUEL F3'!G23 -> 0 | I56: ='CONCOURS INDIVIDUEL F3'!H23 -> 0 | J56: ='CONCOURS INDIVIDUEL F3'!I23 -> 0 | L56: ='CONCOURS INDIVIDUEL F3'!K23 -> 0 | M56: ='CONCOURS INDIVIDUEL F3'!L23 -> 0 | N56: ='CONCOURS INDIVIDUEL F3'!M23 -> 0 | O56: ='CONCOURS INDIVIDUEL F3'!N23 -> 0 | P56: ='CONCOURS INDIVIDUEL F3'!O23 -> 0
... A64: 63 | C64: ='CONCOURS INDIVIDUEL F3'!B31 -> cde | D64: ='CONCOURS INDIVIDUEL F3'!C31 -> PM | E64: ='CONCOURS INDIVIDUEL F3'!D31 -> 0 | F64: ='CONCOURS INDIVIDUEL F3'!E31 -> 0 | G64: ='CONCOURS INDIVIDUEL F3'!F31 | H64: ='CONCOURS INDIVIDUEL F3'!G31 -> 0 | I64: ='CONCOURS INDIVIDUEL F3'!H31 -> 0 | J64: ='CONCOURS INDIVIDUEL F3'!I31 -> 0 | L64: ='CONCOURS INDIVIDUEL F3'!K31 -> 0 | M64: ='CONCOURS INDIVIDUEL F3'!L31 -> 0 | N64: ='CONCOURS INDIVIDUEL F3'!M31 -> 0 | O64: ='CONCOURS INDIVIDUEL F3'!N31 -> 0 | P64: ='CONCOURS INDIVIDUEL F3'!O31 -> 0
A65: 64 | C65: ='CONCOURS DUO F1'!B11 -> cde | D65: ='CONCOURS DUO F1'!C11 -> PM | E65: ='CONCOURS DUO F1'!D11 -> 0 | F65: ='CONCOURS DUO F1'!E11 -> 0 | G65: ='CONCOURS DUO F1'!F11 | H65: ='CONCOURS DUO F1'!G11 -> 0 | I65: ='CONCOURS DUO F1'!H11 -> 0 | J65: ='CONCOURS DUO F1'!I11 -> 0 | L65: ='CONCOURS DUO F1'!K11 -> 0 | M65: ='CONCOURS DUO F1'!L11 -> 0 | N65: ='CONCOURS DUO F1'!M11 -> 0 | O65: ='CONCOURS DUO F1'!N11 -> 0 | P65: ='CONCOURS DUO F1'!O11 -> 0 | Q65: DUO 1
A66: 65 | C66: ='CONCOURS DUO F1'!B12 -> cde | D66: ='CONCOURS DUO F1'!C12 -> PM | E66: ='CONCOURS DUO F1'!D12 -> 0 | F66: ='CONCOURS DUO F1'!E12 -> 0 | G66: ='CONCOURS DUO F1'!F12 | H66: ='CONCOURS DUO F1'!G12 -> 0 | I66: ='CONCOURS DUO F1'!H12 -> 0 | J66: ='CONCOURS DUO F1'!I12 -> 0 | L66: ='CONCOURS DUO F1'!K12 -> 0 | M66: ='CONCOURS DUO F1'!L12 -> 0 | N66: ='CONCOURS DUO F1'!M12 -> 0 | O66: ='CONCOURS DUO F1'!N12 -> 0 | P66: ='CONCOURS DUO F1'!O12 -> 0
A67: 66 | C67: ='CONCOURS DUO F1'!B13 -> cde | D67: ='CONCOURS DUO F1'!C13 -> PM | E67: ='CONCOURS DUO F1'!D13 -> 0 | F67: ='CONCOURS DUO F1'!E13 -> 0 | G67: ='CONCOURS DUO F1'!F13 | H67: ='CONCOURS DUO F1'!G13 -> 0 | I67: ='CONCOURS DUO F1'!H13 -> 0 | J67: ='CONCOURS DUO F1'!I13 -> 0 | L67: ='CONCOURS DUO F1'!K13 -> 0 | M67: ='CONCOURS DUO F1'!L13 -> 0 | N67: ='CONCOURS DUO F1'!M13 -> 0 | O67: ='CONCOURS DUO F1'!N13 -> 0 | P67: ='CONCOURS DUO F1'!O13 -> 0
A68: 67 | C68: ='CONCOURS DUO F1'!B14 -> cde | D68: ='CONCOURS DUO F1'!C14 -> PM | E68: ='CONCOURS DUO F1'!D14 -> 0 | F68: ='CONCOURS DUO F1'!E14 -> 0 | G68: ='CONCOURS DUO F1'!F14 | H68: ='CONCOURS DUO F1'!G14 -> 0 | I68: ='CONCOURS DUO F1'!H14 -> 0 | J68: ='CONCOURS DUO F1'!I14 -> 0 | L68: ='CONCOURS DUO F1'!K14 -> 0 | M68: ='CONCOURS DUO F1'!L14 -> 0 | N68: ='CONCOURS DUO F1'!M14 -> 0 | O68: ='CONCOURS DUO F1'!N14 -> 0 | P68: ='CONCOURS DUO F1'!O14 -> 0
A69: 68 | C69: ='CONCOURS DUO F1'!B15 -> cde | D69: ='CONCOURS DUO F1'!C15 -> PM | E69: ='CONCOURS DUO F1'!D15 -> 0 | F69: ='CONCOURS DUO F1'!E15 -> 0 | G69: ='CONCOURS DUO F1'!F15 | H69: ='CONCOURS DUO F1'!G15 -> 0 | I69: ='CONCOURS DUO F1'!H15 -> 0 | J69: ='CONCOURS DUO F1'!I15 -> 0 | L69: ='CONCOURS DUO F1'!K15 -> 0 | M69: ='CONCOURS DUO F1'!L15 -> 0 | N69: ='CONCOURS DUO F1'!M15 -> 0 | O69: ='CONCOURS DUO F1'!N15 -> 0 | P69: ='CONCOURS DUO F1'!O15 -> 0
A70: 69 | C70: ='CONCOURS DUO F1'!B16 -> cde | D70: ='CONCOURS DUO F1'!C16 -> PM | E70: ='CONCOURS DUO F1'!D16 -> 0 | F70: ='CONCOURS DUO F1'!E16 -> 0 | G70: ='CONCOURS DUO F1'!F16 | H70: ='CONCOURS DUO F1'!G16 -> 0 | I70: ='CONCOURS DUO F1'!H16 -> 0 | J70: ='CONCOURS DUO F1'!I16 -> 0 | L70: ='CONCOURS DUO F1'!K16 -> 0 | M70: ='CONCOURS DUO F1'!L16 -> 0 | N70: ='CONCOURS DUO F1'!M16 -> 0 | O70: ='CONCOURS DUO F1'!N16 -> 0 | P70: ='CONCOURS DUO F1'!O16 -> 0
A71: 70 | C71: ='CONCOURS DUO F1'!B17 -> cde | D71: ='CONCOURS DUO F1'!C17 -> PM | E71: ='CONCOURS DUO F1'!D17 -> 0 | F71: ='CONCOURS DUO F1'!E17 -> 0 | G71: ='CONCOURS DUO F1'!F17 | H71: ='CONCOURS DUO F1'!G17 -> 0 | I71: ='CONCOURS DUO F1'!H17 -> 0 | J71: ='CONCOURS DUO F1'!I17 -> 0 | L71: ='CONCOURS DUO F1'!K17 -> 0 | M71: ='CONCOURS DUO F1'!L17 -> 0 | N71: ='CONCOURS DUO F1'!M17 -> 0 | O71: ='CONCOURS DUO F1'!N17 -> 0 | P71: ='CONCOURS DUO F1'!O17 -> 0
A72: 71 | C72: ='CONCOURS DUO F1'!B18 -> cde | D72: ='CONCOURS DUO F1'!C18 -> PM | E72: ='CONCOURS DUO F1'!D18 -> 0 | F72: ='CONCOURS DUO F1'!E18 -> 0 | G72: ='CONCOURS DUO F1'!F18 | H72: ='CONCOURS DUO F1'!G18 -> 0 | I72: ='CONCOURS DUO F1'!H18 -> 0 | J72: ='CONCOURS DUO F1'!I18 -> 0 | L72: ='CONCOURS DUO F1'!K18 -> 0 | M72: ='CONCOURS DUO F1'!L18 -> 0 | N72: ='CONCOURS DUO F1'!M18 -> 0 | O72: ='CONCOURS DUO F1'!N18 -> 0 | P72: ='CONCOURS DUO F1'!O18 -> 0
A73: 72 | C73: ='CONCOURS DUO F1'!B19 -> cde | D73: ='CONCOURS DUO F1'!C19 -> PM | E73: ='CONCOURS DUO F1'!D19 -> 0 | F73: ='CONCOURS DUO F1'!E19 -> 0 | G73: ='CONCOURS DUO F1'!F19 | H73: ='CONCOURS DUO F1'!G19 -> 0 | I73: ='CONCOURS DUO F1'!H19 -> 0 | J73: ='CONCOURS DUO F1'!I19 -> 0 | L73: ='CONCOURS DUO F1'!K19 -> 0 | M73: ='CONCOURS DUO F1'!L19 -> 0 | N73: ='CONCOURS DUO F1'!M19 -> 0 | O73: ='CONCOURS DUO F1'!N19 -> 0 | P73: ='CONCOURS DUO F1'!O19 -> 0
A74: 73 | C74: ='CONCOURS DUO F1'!B20 -> cde | D74: ='CONCOURS DUO F1'!C20 -> PM | E74: ='CONCOURS DUO F1'!D20 -> 0 | F74: ='CONCOURS DUO F1'!E20 -> 0 | G74: ='CONCOURS DUO F1'!F20 | H74: ='CONCOURS DUO F1'!G20 -> 0 | I74: ='CONCOURS DUO F1'!H20 -> 0 | J74: ='CONCOURS DUO F1'!I20 -> 0 | L74: ='CONCOURS DUO F1'!K20 -> 0 | M74: ='CONCOURS DUO F1'!L20 -> 0 | N74: ='CONCOURS DUO F1'!M20 -> 0 | O74: ='CONCOURS DUO F1'!N20 -> 0 | P74: ='CONCOURS DUO F1'!O20 -> 0
A75: 74 | C75: ='CONCOURS DUO F1'!B21 -> cde | D75: ='CONCOURS DUO F1'!C21 -> PM | E75: ='CONCOURS DUO F1'!D21 -> 0 | F75: ='CONCOURS DUO F1'!E21 -> 0 | G75: ='CONCOURS DUO F1'!F21 | H75: ='CONCOURS DUO F1'!G21 -> 0 | I75: ='CONCOURS DUO F1'!H21 -> 0 | J75: ='CONCOURS DUO F1'!I21 -> 0 | L75: ='CONCOURS DUO F1'!K21 -> 0 | M75: ='CONCOURS DUO F1'!L21 -> 0 | N75: ='CONCOURS DUO F1'!M21 -> 0 | O75: ='CONCOURS DUO F1'!N21 -> 0 | P75: ='CONCOURS DUO F1'!O21 -> 0
A76: 75 | C76: ='CONCOURS DUO F1'!B22 -> cde | D76: ='CONCOURS DUO F1'!C22 -> PM | E76: ='CONCOURS DUO F1'!D22 -> 0 | F76: ='CONCOURS DUO F1'!E22 -> 0 | G76: ='CONCOURS DUO F1'!F22 | H76: ='CONCOURS DUO F1'!G22 -> 0 | I76: ='CONCOURS DUO F1'!H22 -> 0 | J76: ='CONCOURS DUO F1'!I22 -> 0 | L76: ='CONCOURS DUO F1'!K22 -> 0 | M76: ='CONCOURS DUO F1'!L22 -> 0 | N76: ='CONCOURS DUO F1'!M22 -> 0 | O76: ='CONCOURS DUO F1'!N22 -> 0 | P76: ='CONCOURS DUO F1'!O22 -> 0
A77: 76 | C77: ='CONCOURS DUO F1'!B23 -> cde | D77: ='CONCOURS DUO F1'!C23 -> PM | E77: ='CONCOURS DUO F1'!D23 -> 0 | F77: ='CONCOURS DUO F1'!E23 -> 0 | G77: ='CONCOURS DUO F1'!F23 | H77: ='CONCOURS DUO F1'!G23 -> 0 | I77: ='CONCOURS DUO F1'!H23 -> 0 | J77: ='CONCOURS DUO F1'!I23 -> 0 | L77: ='CONCOURS DUO F1'!K23 -> 0 | M77: ='CONCOURS DUO F1'!L23 -> 0 | N77: ='CONCOURS DUO F1'!M23 -> 0 | O77: ='CONCOURS DUO F1'!N23 -> 0 | P77: ='CONCOURS DUO F1'!O23 -> 0
... A88: 87 | C88: ='CONCOURS DUO F1'!B34 -> cde | D88: ='CONCOURS DUO F1'!C34 -> PM | E88: ='CONCOURS DUO F1'!D34 -> 0 | F88: ='CONCOURS DUO F1'!E34 -> 0 | G88: ='CONCOURS DUO F1'!F34 | H88: ='CONCOURS DUO F1'!G34 -> 0 | I88: ='CONCOURS DUO F1'!H34 -> 0 | J88: ='CONCOURS DUO F1'!I34 -> 0 | L88: ='CONCOURS DUO F1'!K34 -> 0 | M88: ='CONCOURS DUO F1'!L34 -> 0 | N88: ='CONCOURS DUO F1'!M34 -> 0 | O88: ='CONCOURS DUO F1'!N34 -> 0 | P88: ='CONCOURS DUO F1'!O34 -> 0
A89: 88 | C89: ='CONCOURS DUO F2'!B11 -> cde | D89: ='CONCOURS DUO F2'!C11 -> PM | E89: ='CONCOURS DUO F2'!D11 -> 0 | F89: ='CONCOURS DUO F2'!E11 -> 0 | G89: ='CONCOURS DUO F2'!F11 | H89: ='CONCOURS DUO F2'!G11 -> 0 | I89: ='CONCOURS DUO F2'!H11 -> 0 | J89: ='CONCOURS DUO F2'!I11 -> 0 | L89: ='CONCOURS DUO F2'!K11 -> 0 | M89: ='CONCOURS DUO F2'!L11 -> 0 | N89: ='CONCOURS DUO F2'!M11 -> 0 | O89: ='CONCOURS DUO F2'!N11 -> 0 | P89: ='CONCOURS DUO F2'!O11 -> 0 | Q89: DUO 2
A90: 89 | C90: ='CONCOURS DUO F2'!B12 -> cde | D90: ='CONCOURS DUO F2'!C12 -> PM | E90: ='CONCOURS DUO F2'!D12 -> 0 | F90: ='CONCOURS DUO F2'!E12 -> 0 | G90: ='CONCOURS DUO F2'!F12 | H90: ='CONCOURS DUO F2'!G12 -> 0 | I90: ='CONCOURS DUO F2'!H12 -> 0 | J90: ='CONCOURS DUO F2'!I12 -> 0 | L90: ='CONCOURS DUO F2'!K12 -> 0 | M90: ='CONCOURS DUO F2'!L12 -> 0 | N90: ='CONCOURS DUO F2'!M12 -> 0 | O90: ='CONCOURS DUO F2'!N12 -> 0 | P90: ='CONCOURS DUO F2'!O12 -> 0
A91: 90 | C91: ='CONCOURS DUO F2'!B13 -> cde | D91: ='CONCOURS DUO F2'!C13 -> PM | E91: ='CONCOURS DUO F2'!D13 -> 0 | F91: ='CONCOURS DUO F2'!E13 -> 0 | G91: ='CONCOURS DUO F2'!F13 | H91: ='CONCOURS DUO F2'!G13 -> 0 | I91: ='CONCOURS DUO F2'!H13 -> 0 | J91: ='CONCOURS DUO F2'!I13 -> 0 | L91: ='CONCOURS DUO F2'!K13 -> 0 | M91: ='CONCOURS DUO F2'!L13 -> 0 | N91: ='CONCOURS DUO F2'!M13 -> 0 | O91: ='CONCOURS DUO F2'!N13 -> 0 | P91: ='CONCOURS DUO F2'!O13 -> 0
A92: 91 | C92: ='CONCOURS DUO F2'!B14 -> cde | D92: ='CONCOURS DUO F2'!C14 -> PM | E92: ='CONCOURS DUO F2'!D14 -> 0 | F92: ='CONCOURS DUO F2'!E14 -> 0 | G92: ='CONCOURS DUO F2'!F14 | H92: ='CONCOURS DUO F2'!G14 -> 0 | I92: ='CONCOURS DUO F2'!H14 -> 0 | J92: ='CONCOURS DUO F2'!I14 -> 0 | L92: ='CONCOURS DUO F2'!K14 -> 0 | M92: ='CONCOURS DUO F2'!L14 -> 0 | N92: ='CONCOURS DUO F2'!M14 -> 0 | O92: ='CONCOURS DUO F2'!N14 -> 0 | P92: ='CONCOURS DUO F2'!O14 -> 0
A93: 92 | C93: ='CONCOURS DUO F2'!B15 -> cde | D93: ='CONCOURS DUO F2'!C15 -> PM | E93: ='CONCOURS DUO F2'!D15 -> 0 | F93: ='CONCOURS DUO F2'!E15 -> 0 | G93: ='CONCOURS DUO F2'!F15 | H93: ='CONCOURS DUO F2'!G15 -> 0 | I93: ='CONCOURS DUO F2'!H15 -> 0 | J93: ='CONCOURS DUO F2'!I15 -> 0 | L93: ='CONCOURS DUO F2'!K15 -> 0 | M93: ='CONCOURS DUO F2'!L15 -> 0 | N93: ='CONCOURS DUO F2'!M15 -> 0 | O93: ='CONCOURS DUO F2'!N15 -> 0 | P93: ='CONCOURS DUO F2'!O15 -> 0
A94: 93 | C94: ='CONCOURS DUO F2'!B16 -> cde | D94: ='CONCOURS DUO F2'!C16 -> PM | E94: ='CONCOURS DUO F2'!D16 -> 0 | F94: ='CONCOURS DUO F2'!E16 -> 0 | G94: ='CONCOURS DUO F2'!F16 | H94: ='CONCOURS DUO F2'!G16 -> 0 | I94: ='CONCOURS DUO F2'!H16 -> 0 | J94: ='CONCOURS DUO F2'!I16 -> 0 | L94: ='CONCOURS DUO F2'!K16 -> 0 | M94: ='CONCOURS DUO F2'!L16 -> 0 | N94: ='CONCOURS DUO F2'!M16 -> 0 | O94: ='CONCOURS DUO F2'!N16 -> 0 | P94: ='CONCOURS DUO F2'!O16 -> 0
A95: 94 | C95: ='CONCOURS DUO F2'!B17 -> cde | D95: ='CONCOURS DUO F2'!C17 -> PM | E95: ='CONCOURS DUO F2'!D17 -> 0 | F95: ='CONCOURS DUO F2'!E17 -> 0 | G95: ='CONCOURS DUO F2'!F17 | H95: ='CONCOURS DUO F2'!G17 -> 0 | I95: ='CONCOURS DUO F2'!H17 -> 0 | J95: ='CONCOURS DUO F2'!I17 -> 0 | L95: ='CONCOURS DUO F2'!K17 -> 0 | M95: ='CONCOURS DUO F2'!L17 -> 0 | N95: ='CONCOURS DUO F2'!M17 -> 0 | O95: ='CONCOURS DUO F2'!N17 -> 0 | P95: ='CONCOURS DUO F2'!O17 -> 0
A96: 95 | C96: ='CONCOURS DUO F2'!B18 -> cde | D96: ='CONCOURS DUO F2'!C18 -> PM | E96: ='CONCOURS DUO F2'!D18 -> 0 | F96: ='CONCOURS DUO F2'!E18 -> 0 | G96: ='CONCOURS DUO F2'!F18 | H96: ='CONCOURS DUO F2'!G18 -> 0 | I96: ='CONCOURS DUO F2'!H18 -> 0 | J96: ='CONCOURS DUO F2'!I18 -> 0 | L96: ='CONCOURS DUO F2'!K18 -> 0 | M96: ='CONCOURS DUO F2'!L18 -> 0 | N96: ='CONCOURS DUO F2'!M18 -> 0 | O96: ='CONCOURS DUO F2'!N18 -> 0 | P96: ='CONCOURS DUO F2'!O18 -> 0
A97: 96 | C97: ='CONCOURS DUO F2'!B19 -> cde | D97: ='CONCOURS DUO F2'!C19 -> PM | E97: ='CONCOURS DUO F2'!D19 -> 0 | F97: ='CONCOURS DUO F2'!E19 -> 0 | G97: ='CONCOURS DUO F2'!F19 | H97: ='CONCOURS DUO F2'!G19 -> 0 | I97: ='CONCOURS DUO F2'!H19 -> 0 | J97: ='CONCOURS DUO F2'!I19 -> 0 | L97: ='CONCOURS DUO F2'!K19 -> 0 | M97: ='CONCOURS DUO F2'!L19 -> 0 | N97: ='CONCOURS DUO F2'!M19 -> 0 | O97: ='CONCOURS DUO F2'!N19 -> 0 | P97: ='CONCOURS DUO F2'!O19 -> 0
A98: 97 | C98: ='CONCOURS DUO F2'!B20 -> cde | D98: ='CONCOURS DUO F2'!C20 -> PM | E98: ='CONCOURS DUO F2'!D20 -> 0 | F98: ='CONCOURS DUO F2'!E20 -> 0 | G98: ='CONCOURS DUO F2'!F20 | H98: ='CONCOURS DUO F2'!G20 -> 0 | I98: ='CONCOURS DUO F2'!H20 -> 0 | J98: ='CONCOURS DUO F2'!I20 -> 0 | L98: ='CONCOURS DUO F2'!K20 -> 0 | M98: ='CONCOURS DUO F2'!L20 -> 0 | N98: ='CONCOURS DUO F2'!M20 -> 0 | O98: ='CONCOURS DUO F2'!N20 -> 0 | P98: ='CONCOURS DUO F2'!O20 -> 0
A99: 98 | C99: ='CONCOURS DUO F2'!B21 -> cde | D99: ='CONCOURS DUO F2'!C21 -> PM | E99: ='CONCOURS DUO F2'!D21 -> 0 | F99: ='CONCOURS DUO F2'!E21 -> 0 | G99: ='CONCOURS DUO F2'!F21 | H99: ='CONCOURS DUO F2'!G21 -> 0 | I99: ='CONCOURS DUO F2'!H21 -> 0 | J99: ='CONCOURS DUO F2'!I21 -> 0 | L99: ='CONCOURS DUO F2'!K21 -> 0 | M99: ='CONCOURS DUO F2'!L21 -> 0 | N99: ='CONCOURS DUO F2'!M21 -> 0 | O99: ='CONCOURS DUO F2'!N21 -> 0 | P99: ='CONCOURS DUO F2'!O21 -> 0
A100: 99 | C100: ='CONCOURS DUO F2'!B22 -> cde | D100: ='CONCOURS DUO F2'!C22 -> PM | E100: ='CONCOURS DUO F2'!D22 -> 0 | F100: ='CONCOURS DUO F2'!E22 -> 0 | G100: ='CONCOURS DUO F2'!F22 | H100: ='CONCOURS DUO F2'!G22 -> 0 | I100: ='CONCOURS DUO F2'!H22 -> 0 | J100: ='CONCOURS DUO F2'!I22 -> 0 | L100: ='CONCOURS DUO F2'!K22 -> 0 | M100: ='CONCOURS DUO F2'!L22 -> 0 | N100: ='CONCOURS DUO F2'!M22 -> 0 | O100: ='CONCOURS DUO F2'!N22 -> 0 | P100: ='CONCOURS DUO F2'!O22 -> 0
A101: 100 | C101: ='CONCOURS DUO F2'!B23 -> cde | D101: ='CONCOURS DUO F2'!C23 -> PM | E101: ='CONCOURS DUO F2'!D23 -> 0 | F101: ='CONCOURS DUO F2'!E23 -> 0 | G101: ='CONCOURS DUO F2'!F23 | H101: ='CONCOURS DUO F2'!G23 -> 0 | I101: ='CONCOURS DUO F2'!H23 -> 0 | J101: ='CONCOURS DUO F2'!I23 -> 0 | L101: ='CONCOURS DUO F2'!K23 -> 0 | M101: ='CONCOURS DUO F2'!L23 -> 0 | N101: ='CONCOURS DUO F2'!M23 -> 0 | O101: ='CONCOURS DUO F2'!N23 -> 0 | P101: ='CONCOURS DUO F2'!O23 -> 0
... A112: 111 | C112: ='CONCOURS DUO F2'!B34 -> cde | D112: ='CONCOURS DUO F2'!C34 -> PM | E112: ='CONCOURS DUO F2'!D34 -> 0 | F112: ='CONCOURS DUO F2'!E34 -> 0 | G112: ='CONCOURS DUO F2'!F34 | H112: ='CONCOURS DUO F2'!G34 -> 0 | I112: ='CONCOURS DUO F2'!H34 -> 0 | J112: ='CONCOURS DUO F2'!I34 -> 0 | L112: ='CONCOURS DUO F2'!K34 -> 0 | M112: ='CONCOURS DUO F2'!L34 -> 0 | N112: ='CONCOURS DUO F2'!M34 -> 0 | O112: ='CONCOURS DUO F2'!N34 -> 0 | P112: ='CONCOURS DUO F2'!O34 -> 0
A113: 112 | C113: ='CONCOURS DUO F2'!B11 -> cde | D113: ='CONCOURS DUO F3'!C11 -> PM | E113: ='CONCOURS DUO F3'!D11 -> 0 | F113: ='CONCOURS DUO F3'!E11 -> 0 | G113: ='CONCOURS DUO F3'!F11 | H113: ='CONCOURS DUO F3'!G11 -> 0 | I113: ='CONCOURS DUO F3'!H11 -> 0 | J113: ='CONCOURS DUO F3'!I11 -> 0 | L113: ='CONCOURS DUO F3'!K11 -> 0 | M113: ='CONCOURS DUO F3'!L11 -> 0 | N113: ='CONCOURS DUO F3'!M11 -> 0 | O113: ='CONCOURS DUO F3'!N11 -> 0 | P113: ='CONCOURS DUO F3'!O11 -> 0 | Q113: DUO 3
A114: 113 | C114: ='CONCOURS DUO F2'!B12 -> cde | D114: ='CONCOURS DUO F3'!C12 -> PM | E114: ='CONCOURS DUO F3'!D12 -> 0 | F114: ='CONCOURS DUO F3'!E12 -> 0 | G114: ='CONCOURS DUO F3'!F12 | H114: ='CONCOURS DUO F3'!G12 -> 0 | I114: ='CONCOURS DUO F3'!H12 -> 0 | J114: ='CONCOURS DUO F3'!I12 -> 0 | L114: ='CONCOURS DUO F3'!K12 -> 0 | M114: ='CONCOURS DUO F3'!L12 -> 0 | N114: ='CONCOURS DUO F3'!M12 -> 0 | O114: ='CONCOURS DUO F3'!N12 -> 0 | P114: ='CONCOURS DUO F3'!O12 -> 0
A115: 114 | C115: ='CONCOURS DUO F2'!B13 -> cde | D115: ='CONCOURS DUO F3'!C13 -> PM | E115: ='CONCOURS DUO F3'!D13 -> 0 | F115: ='CONCOURS DUO F3'!E13 -> 0 | G115: ='CONCOURS DUO F3'!F13 | H115: ='CONCOURS DUO F3'!G13 -> 0 | I115: ='CONCOURS DUO F3'!H13 -> 0 | J115: ='CONCOURS DUO F3'!I13 -> 0 | L115: ='CONCOURS DUO F3'!K13 -> 0 | M115: ='CONCOURS DUO F3'!L13 -> 0 | N115: ='CONCOURS DUO F3'!M13 -> 0 | O115: ='CONCOURS DUO F3'!N13 -> 0 | P115: ='CONCOURS DUO F3'!O13 -> 0
A116: 115 | C116: ='CONCOURS DUO F2'!B14 -> cde | D116: ='CONCOURS DUO F3'!C14 -> PM | E116: ='CONCOURS DUO F3'!D14 -> 0 | F116: ='CONCOURS DUO F3'!E14 -> 0 | G116: ='CONCOURS DUO F3'!F14 | H116: ='CONCOURS DUO F3'!G14 -> 0 | I116: ='CONCOURS DUO F3'!H14 -> 0 | J116: ='CONCOURS DUO F3'!I14 -> 0 | L116: ='CONCOURS DUO F3'!K14 -> 0 | M116: ='CONCOURS DUO F3'!L14 -> 0 | N116: ='CONCOURS DUO F3'!M14 -> 0 | O116: ='CONCOURS DUO F3'!N14 -> 0 | P116: ='CONCOURS DUO F3'!O14 -> 0
A117: 116 | C117: ='CONCOURS DUO F2'!B15 -> cde | D117: ='CONCOURS DUO F3'!C15 -> PM | E117: ='CONCOURS DUO F3'!D15 -> 0 | F117: ='CONCOURS DUO F3'!E15 -> 0 | G117: ='CONCOURS DUO F3'!F15 | H117: ='CONCOURS DUO F3'!G15 -> 0 | I117: ='CONCOURS DUO F3'!H15 -> 0 | J117: ='CONCOURS DUO F3'!I15 -> 0 | L117: ='CONCOURS DUO F3'!K15 -> 0 | M117: ='CONCOURS DUO F3'!L15 -> 0 | N117: ='CONCOURS DUO F3'!M15 -> 0 | O117: ='CONCOURS DUO F3'!N15 -> 0 | P117: ='CONCOURS DUO F3'!O15 -> 0
A118: 117 | C118: ='CONCOURS DUO F2'!B16 -> cde | D118: ='CONCOURS DUO F3'!C16 -> PM | E118: ='CONCOURS DUO F3'!D16 -> 0 | F118: ='CONCOURS DUO F3'!E16 -> 0 | G118: ='CONCOURS DUO F3'!F16 | H118: ='CONCOURS DUO F3'!G16 -> 0 | I118: ='CONCOURS DUO F3'!H16 -> 0 | J118: ='CONCOURS DUO F3'!I16 -> 0 | L118: ='CONCOURS DUO F3'!K16 -> 0 | M118: ='CONCOURS DUO F3'!L16 -> 0 | N118: ='CONCOURS DUO F3'!M16 -> 0 | O118: ='CONCOURS DUO F3'!N16 -> 0 | P118: ='CONCOURS DUO F3'!O16 -> 0
A119: 118 | C119: ='CONCOURS DUO F2'!B17 -> cde | D119: ='CONCOURS DUO F3'!C17 -> PM | E119: ='CONCOURS DUO F3'!D17 -> 0 | F119: ='CONCOURS DUO F3'!E17 -> 0 | G119: ='CONCOURS DUO F3'!F17 | H119: ='CONCOURS DUO F3'!G17 -> 0 | I119: ='CONCOURS DUO F3'!H17 -> 0 | J119: ='CONCOURS DUO F3'!I17 -> 0 | L119: ='CONCOURS DUO F3'!K17 -> 0 | M119: ='CONCOURS DUO F3'!L17 -> 0 | N119: ='CONCOURS DUO F3'!M17 -> 0 | O119: ='CONCOURS DUO F3'!N17 -> 0 | P119: ='CONCOURS DUO F3'!O17 -> 0
A120: 119 | C120: ='CONCOURS DUO F2'!B18 -> cde | D120: ='CONCOURS DUO F3'!C18 -> PM | E120: ='CONCOURS DUO F3'!D18 -> 0 | F120: ='CONCOURS DUO F3'!E18 -> 0 | G120: ='CONCOURS DUO F3'!F18 | H120: ='CONCOURS DUO F3'!G18 -> 0 | I120: ='CONCOURS DUO F3'!H18 -> 0 | J120: ='CONCOURS DUO F3'!I18 -> 0 | L120: ='CONCOURS DUO F3'!K18 -> 0 | M120: ='CONCOURS DUO F3'!L18 -> 0 | N120: ='CONCOURS DUO F3'!M18 -> 0 | O120: ='CONCOURS DUO F3'!N18 -> 0 | P120: ='CONCOURS DUO F3'!O18 -> 0
A121: 120 | C121: ='CONCOURS DUO F2'!B19 -> cde | D121: ='CONCOURS DUO F3'!C19 -> PM | E121: ='CONCOURS DUO F3'!D19 -> 0 | F121: ='CONCOURS DUO F3'!E19 -> 0 | G121: ='CONCOURS DUO F3'!F19 | H121: ='CONCOURS DUO F3'!G19 -> 0 | I121: ='CONCOURS DUO F3'!H19 -> 0 | J121: ='CONCOURS DUO F3'!I19 -> 0 | L121: ='CONCOURS DUO F3'!K19 -> 0 | M121: ='CONCOURS DUO F3'!L19 -> 0 | N121: ='CONCOURS DUO F3'!M19 -> 0 | O121: ='CONCOURS DUO F3'!N19 -> 0 | P121: ='CONCOURS DUO F3'!O19 -> 0
A122: 121 | C122: ='CONCOURS DUO F2'!B20 -> cde | D122: ='CONCOURS DUO F3'!C20 -> PM | E122: ='CONCOURS DUO F3'!D20 -> 0 | F122: ='CONCOURS DUO F3'!E20 -> 0 | G122: ='CONCOURS DUO F3'!F20 | H122: ='CONCOURS DUO F3'!G20 -> 0 | I122: ='CONCOURS DUO F3'!H20 -> 0 | J122: ='CONCOURS DUO F3'!I20 -> 0 | L122: ='CONCOURS DUO F3'!K20 -> 0 | M122: ='CONCOURS DUO F3'!L20 -> 0 | N122: ='CONCOURS DUO F3'!M20 -> 0 | O122: ='CONCOURS DUO F3'!N20 -> 0 | P122: ='CONCOURS DUO F3'!O20 -> 0
A123: 122 | C123: ='CONCOURS DUO F2'!B21 -> cde | D123: ='CONCOURS DUO F3'!C21 -> PM | E123: ='CONCOURS DUO F3'!D21 -> 0 | F123: ='CONCOURS DUO F3'!E21 -> 0 | G123: ='CONCOURS DUO F3'!F21 | H123: ='CONCOURS DUO F3'!G21 -> 0 | I123: ='CONCOURS DUO F3'!H21 -> 0 | J123: ='CONCOURS DUO F3'!I21 -> 0 | L123: ='CONCOURS DUO F3'!K21 -> 0 | M123: ='CONCOURS DUO F3'!L21 -> 0 | N123: ='CONCOURS DUO F3'!M21 -> 0 | O123: ='CONCOURS DUO F3'!N21 -> 0 | P123: ='CONCOURS DUO F3'!O21 -> 0
A124: 123 | C124: ='CONCOURS DUO F2'!B22 -> cde | D124: ='CONCOURS DUO F3'!C22 -> PM | E124: ='CONCOURS DUO F3'!D22 -> 0 | F124: ='CONCOURS DUO F3'!E22 -> 0 | G124: ='CONCOURS DUO F3'!F22 | H124: ='CONCOURS DUO F3'!G22 -> 0 | I124: ='CONCOURS DUO F3'!H22 -> 0 | J124: ='CONCOURS DUO F3'!I22 -> 0 | L124: ='CONCOURS DUO F3'!K22 -> 0 | M124: ='CONCOURS DUO F3'!L22 -> 0 | N124: ='CONCOURS DUO F3'!M22 -> 0 | O124: ='CONCOURS DUO F3'!N22 -> 0 | P124: ='CONCOURS DUO F3'!O22 -> 0
A125: 124 | C125: ='CONCOURS DUO F2'!B23 -> cde | D125: ='CONCOURS DUO F3'!C23 -> PM | E125: ='CONCOURS DUO F3'!D23 -> 0 | F125: ='CONCOURS DUO F3'!E23 -> 0 | G125: ='CONCOURS DUO F3'!F23 | H125: ='CONCOURS DUO F3'!G23 -> 0 | I125: ='CONCOURS DUO F3'!H23 -> 0 | J125: ='CONCOURS DUO F3'!I23 -> 0 | L125: ='CONCOURS DUO F3'!K23 -> 0 | M125: ='CONCOURS DUO F3'!L23 -> 0 | N125: ='CONCOURS DUO F3'!M23 -> 0 | O125: ='CONCOURS DUO F3'!N23 -> 0 | P125: ='CONCOURS DUO F3'!O23 -> 0
... A136: 135 | C136: ='CONCOURS DUO F2'!B34 -> cde | D136: ='CONCOURS DUO F3'!C34 -> PM | E136: ='CONCOURS DUO F3'!D34 -> 0 | F136: ='CONCOURS DUO F3'!E34 -> 0 | G136: ='CONCOURS DUO F3'!F34 | H136: ='CONCOURS DUO F3'!G34 -> 0 | I136: ='CONCOURS DUO F3'!H34 -> 0 | J136: ='CONCOURS DUO F3'!I34 -> 0 | L136: ='CONCOURS DUO F3'!K34 -> 0 | M136: ='CONCOURS DUO F3'!L34 -> 0 | N136: ='CONCOURS DUO F3'!M34 -> 0 | O136: ='CONCOURS DUO F3'!N34 -> 0 | P136: ='CONCOURS DUO F3'!O34 -> 0
A137: 136 | C137: ='CONCOURS STAM F1'!B11 -> cde | D137: ='CONCOURS STAM F1'!C11 -> PM | E137: ='CONCOURS STAM F1'!D11 -> 0 | F137: ='CONCOURS STAM F1'!E11 -> 0 | G137: ='CONCOURS STAM F1'!F11 | H137: ='CONCOURS STAM F1'!G11 -> 0 | I137: ='CONCOURS STAM F1'!H11 -> 0 | J137: ='CONCOURS STAM F1'!I11 -> 0 | L137: ='CONCOURS STAM F1'!K11 -> 0 | M137: ='CONCOURS STAM F1'!L11 -> 0 | N137: ='CONCOURS STAM F1'!M11 -> 0 | O137: ='CONCOURS STAM F1'!N11 -> 0 | P137: ='CONCOURS STAM F1'!O11 -> 0 | Q137: STAM 1
A138: 137 | C138: ='CONCOURS STAM F1'!B12 -> cde | D138: ='CONCOURS STAM F1'!C12 -> PM | E138: ='CONCOURS STAM F1'!D12 -> 0 | F138: ='CONCOURS STAM F1'!E12 -> 0 | G138: ='CONCOURS STAM F1'!F12 | H138: ='CONCOURS STAM F1'!G12 -> 0 | I138: ='CONCOURS STAM F1'!H12 -> 0 | J138: ='CONCOURS STAM F1'!I12 -> 0 | L138: ='CONCOURS STAM F1'!K12 -> 0 | M138: ='CONCOURS STAM F1'!L12 -> 0 | N138: ='CONCOURS STAM F1'!M12 -> 0 | O138: ='CONCOURS STAM F1'!N12 -> 0 | P138: ='CONCOURS STAM F1'!O12 -> 0
A139: 138 | C139: ='CONCOURS STAM F1'!B13 -> cde | D139: ='CONCOURS STAM F1'!C13 -> PM | E139: ='CONCOURS STAM F1'!D13 -> 0 | F139: ='CONCOURS STAM F1'!E13 -> 0 | G139: ='CONCOURS STAM F1'!F13 | H139: ='CONCOURS STAM F1'!G13 -> 0 | I139: ='CONCOURS STAM F1'!H13 -> 0 | J139: ='CONCOURS STAM F1'!I13 -> 0 | L139: ='CONCOURS STAM F1'!K13 -> 0 | M139: ='CONCOURS STAM F1'!L13 -> 0 | N139: ='CONCOURS STAM F1'!M13 -> 0 | O139: ='CONCOURS STAM F1'!N13 -> 0 | P139: ='CONCOURS STAM F1'!O13 -> 0
A140: 139 | C140: ='CONCOURS STAM F1'!B14 -> cde | D140: ='CONCOURS STAM F1'!C14 -> PM | E140: ='CONCOURS STAM F1'!D14 -> 0 | F140: ='CONCOURS STAM F1'!E14 -> 0 | G140: ='CONCOURS STAM F1'!F14 | H140: ='CONCOURS STAM F1'!G14 -> 0 | I140: ='CONCOURS STAM F1'!H14 -> 0 | J140: ='CONCOURS STAM F1'!I14 -> 0 | L140: ='CONCOURS STAM F1'!K14 -> 0 | M140: ='CONCOURS STAM F1'!L14 -> 0 | N140: ='CONCOURS STAM F1'!M14 -> 0 | O140: ='CONCOURS STAM F1'!N14 -> 0 | P140: ='CONCOURS STAM F1'!O14 -> 0
A141: 140 | C141: ='CONCOURS STAM F1'!B15 -> cde | D141: ='CONCOURS STAM F1'!C15 -> PM | E141: ='CONCOURS STAM F1'!D15 -> 0 | F141: ='CONCOURS STAM F1'!E15 -> 0 | G141: ='CONCOURS STAM F1'!F15 | H141: ='CONCOURS STAM F1'!G15 -> 0 | I141: ='CONCOURS STAM F1'!H15 -> 0 | J141: ='CONCOURS STAM F1'!I15 -> 0 | L141: ='CONCOURS STAM F1'!K15 -> 0 | M141: ='CONCOURS STAM F1'!L15 -> 0 | N141: ='CONCOURS STAM F1'!M15 -> 0 | O141: ='CONCOURS STAM F1'!N15 -> 0 | P141: ='CONCOURS STAM F1'!O15 -> 0
A142: 141 | C142: ='CONCOURS STAM F1'!B16 -> cde | D142: ='CONCOURS STAM F1'!C16 -> PM | E142: ='CONCOURS STAM F1'!D16 -> 0 | F142: ='CONCOURS STAM F1'!E16 -> 0 | G142: ='CONCOURS STAM F1'!F16 | H142: ='CONCOURS STAM F1'!G16 -> 0 | I142: ='CONCOURS STAM F1'!H16 -> 0 | J142: ='CONCOURS STAM F1'!I16 -> 0 | L142: ='CONCOURS STAM F1'!K16 -> 0 | M142: ='CONCOURS STAM F1'!L16 -> 0 | N142: ='CONCOURS STAM F1'!M16 -> 0 | O142: ='CONCOURS STAM F1'!N16 -> 0 | P142: ='CONCOURS STAM F1'!O16 -> 0
A143: 142 | C143: ='CONCOURS STAM F1'!B17 -> cde | D143: ='CONCOURS STAM F1'!C17 -> PM | E143: ='CONCOURS STAM F1'!D17 -> 0 | F143: ='CONCOURS STAM F1'!E17 -> 0 | G143: ='CONCOURS STAM F1'!F17 | H143: ='CONCOURS STAM F1'!G17 -> 0 | I143: ='CONCOURS STAM F1'!H17 -> 0 | J143: ='CONCOURS STAM F1'!I17 -> 0 | L143: ='CONCOURS STAM F1'!K17 -> 0 | M143: ='CONCOURS STAM F1'!L17 -> 0 | N143: ='CONCOURS STAM F1'!M17 -> 0 | O143: ='CONCOURS STAM F1'!N17 -> 0 | P143: ='CONCOURS STAM F1'!O17 -> 0
A144: 143 | C144: ='CONCOURS STAM F1'!B18 -> cde | D144: ='CONCOURS STAM F1'!C18 -> PM | E144: ='CONCOURS STAM F1'!D18 -> 0 | F144: ='CONCOURS STAM F1'!E18 -> 0 | G144: ='CONCOURS STAM F1'!F18 | H144: ='CONCOURS STAM F1'!G18 -> 0 | I144: ='CONCOURS STAM F1'!H18 -> 0 | J144: ='CONCOURS STAM F1'!I18 -> 0 | L144: ='CONCOURS STAM F1'!K18 -> 0 | M144: ='CONCOURS STAM F1'!L18 -> 0 | N144: ='CONCOURS STAM F1'!M18 -> 0 | O144: ='CONCOURS STAM F1'!N18 -> 0 | P144: ='CONCOURS STAM F1'!O18 -> 0
A145: 144 | C145: ='CONCOURS STAM F1'!B19 -> cde | D145: ='CONCOURS STAM F1'!C19 -> PM | E145: ='CONCOURS STAM F1'!D19 -> 0 | F145: ='CONCOURS STAM F1'!E19 -> 0 | G145: ='CONCOURS STAM F1'!F19 | H145: ='CONCOURS STAM F1'!G19 -> 0 | I145: ='CONCOURS STAM F1'!H19 -> 0 | J145: ='CONCOURS STAM F1'!I19 -> 0 | L145: ='CONCOURS STAM F1'!K19 -> 0 | M145: ='CONCOURS STAM F1'!L19 -> 0 | N145: ='CONCOURS STAM F1'!M19 -> 0 | O145: ='CONCOURS STAM F1'!N19 -> 0 | P145: ='CONCOURS STAM F1'!O19 -> 0
A146: 145 | C146: ='CONCOURS STAM F1'!B20 -> cde | D146: ='CONCOURS STAM F1'!C20 -> PM | E146: ='CONCOURS STAM F1'!D20 -> 0 | F146: ='CONCOURS STAM F1'!E20 -> 0 | G146: ='CONCOURS STAM F1'!F20 | H146: ='CONCOURS STAM F1'!G20 -> 0 | I146: ='CONCOURS STAM F1'!H20 -> 0 | J146: ='CONCOURS STAM F1'!I20 -> 0 | L146: ='CONCOURS STAM F1'!K20 -> 0 | M146: ='CONCOURS STAM F1'!L20 -> 0 | N146: ='CONCOURS STAM F1'!M20 -> 0 | O146: ='CONCOURS STAM F1'!N20 -> 0 | P146: ='CONCOURS STAM F1'!O20 -> 0
A147: 146 | C147: ='CONCOURS STAM F1'!B21 -> cde | D147: ='CONCOURS STAM F1'!C21 -> PM | E147: ='CONCOURS STAM F1'!D21 -> 0 | F147: ='CONCOURS STAM F1'!E21 -> 0 | G147: ='CONCOURS STAM F1'!F21 | H147: ='CONCOURS STAM F1'!G21 -> 0 | I147: ='CONCOURS STAM F1'!H21 -> 0 | J147: ='CONCOURS STAM F1'!I21 -> 0 | L147: ='CONCOURS STAM F1'!K21 -> 0 | M147: ='CONCOURS STAM F1'!L21 -> 0 | N147: ='CONCOURS STAM F1'!M21 -> 0 | O147: ='CONCOURS STAM F1'!N21 -> 0 | P147: ='CONCOURS STAM F1'!O21 -> 0
A148: 147 | C148: ='CONCOURS STAM F1'!B22 -> cde | D148: ='CONCOURS STAM F1'!C22 -> PM | E148: ='CONCOURS STAM F1'!D22 -> 0 | F148: ='CONCOURS STAM F1'!E22 -> 0 | G148: ='CONCOURS STAM F1'!F22 | H148: ='CONCOURS STAM F1'!G22 -> 0 | I148: ='CONCOURS STAM F1'!H22 -> 0 | J148: ='CONCOURS STAM F1'!I22 -> 0 | L148: ='CONCOURS STAM F1'!K22 -> 0 | M148: ='CONCOURS STAM F1'!L22 -> 0 | N148: ='CONCOURS STAM F1'!M22 -> 0 | O148: ='CONCOURS STAM F1'!N22 -> 0 | P148: ='CONCOURS STAM F1'!O22 -> 0
A149: 148 | C149: ='CONCOURS STAM F1'!B23 -> cde | D149: ='CONCOURS STAM F1'!C23 -> PM | E149: ='CONCOURS STAM F1'!D23 -> 0 | F149: ='CONCOURS STAM F1'!E23 -> 0 | G149: ='CONCOURS STAM F1'!F23 | H149: ='CONCOURS STAM F1'!G23 -> 0 | I149: ='CONCOURS STAM F1'!H23 -> 0 | J149: ='CONCOURS STAM F1'!I23 -> 0 | L149: ='CONCOURS STAM F1'!K23 -> 0 | M149: ='CONCOURS STAM F1'!L23 -> 0 | N149: ='CONCOURS STAM F1'!M23 -> 0 | O149: ='CONCOURS STAM F1'!N23 -> 0 | P149: ='CONCOURS STAM F1'!O23 -> 0
... A160: 159 | C160: ='CONCOURS STAM F1'!B34 -> cde | D160: ='CONCOURS STAM F1'!C34 -> PM | E160: ='CONCOURS STAM F1'!D34 -> 0 | F160: ='CONCOURS STAM F1'!E34 -> 0 | G160: ='CONCOURS STAM F1'!F34 | H160: ='CONCOURS STAM F1'!G34 -> 0 | I160: ='CONCOURS STAM F1'!H34 -> 0 | J160: ='CONCOURS STAM F1'!I34 -> 0 | L160: ='CONCOURS STAM F1'!K34 -> 0 | M160: ='CONCOURS STAM F1'!L34 -> 0 | N160: ='CONCOURS STAM F1'!M34 -> 0 | O160: ='CONCOURS STAM F1'!N34 -> 0 | P160: ='CONCOURS STAM F1'!O34 -> 0
