Workbook
Name A_P_GR: 'groupe-type'!$B$2:$B$3916
Name AGAS: 'groupe-type'!$C$2:$C$1515
Name ANNEE: 'groupe-type'!$AI$2:$AI$12
Name ASIAT: 'groupe-type'!$D$2:$D$1515
Name AUST: 'groupe-type'!$E$2:$E$361
Name BOLBO: 'groupe-type'!$F$2:$F$132
Name C_COUL: 'groupe-type'!$I$2:$I$2911
Name C_POST: 'groupe-type'!$K$2:$K$1044
Name CA_CO: 'groupe-type'!$G$2:$G$950
Name CAGE_PERSONNEL: #REF!
Name CAGE_PERSONNEL: #REF!
Name CAGE_PERSONNEL: #REF!
Name CAGE_PERSONNEL: 'groupe-type'!$AJ$2:$AJ$4
Name CALOS: 'groupe-type'!$H$2:$H$373
Name CL_GROUPE: 'groupe-type'!$B$1:$AF$1
Name CLASSE: 'CLASSES oiseau'!$B$2:$B$27640
Name COLOMB: 'groupe-type'!$J$2:$J$1192
Name CONVOI: 'groupe-type'!$AG$15:$AG$17
Name CONVOYAGE: #REF!
Name CONVOYAGE: #REF!
Name CONVOYAGE: #REF!
Name CONVOYAGE: 'groupe-type'!$AG$15:$AG$17
Name CROUP: 'groupe-type'!$L$2:$L$888
Name ESPECE_BOURSE: 'groupe-type'!$AL$2:$AL$10
Name ESTRI: 'groupe-type'!$M$2:$M$797
Name ETAT: 'groupe-type'!$AK$2:$AK$9
Name EUPH: 'groupe-type'!$N$2:$N$668
Name F_I_N: 'groupe-type'!$P$2:$P$634
Name FAUNE: 'groupe-type'!$O$2:$O$1770
Name FORPUS: 'groupe-type'!$Q$2:$Q$634
Name G_AME: 'groupe-type'!$R$2:$R$465
Name G_AUST: 'groupe-type'!$S$2:$S$647
Name GENRE: #REF!
Name GENRE: #REF!
Name GENRE: #REF!
Name GENRE: 'groupe-type'!$AI$15:$AI$17
Name GOULD: 'groupe-type'!$T$2:$T$693
Name GROUPE: 'CLASSES oiseau'!$A$2:$A$27640
Name groupeoiseaux: #REF!
Name groupeoiseaux: #REF!
Name groupeoiseaux: #REF!
Name groupeoiseaux: 'groupe-type'!$B$1:$AF$1
Name HYBRI: 'groupe-type'!$U$2:$U$407
Name individuel01: 'CONCOURS INDIVIDUEL F1'!$B$10:$N$31
Name KAKAR: 'groupe-type'!$V$2:$V$251
Name LONCH: 'groupe-type'!$W$2:$W$526
Name LORIS: 'groupe-type'!$X$2:$X$410
Name M_AUS: 'groupe-type'!$Z$2:$Z$113
Name MAND: 'groupe-type'!$Y$2:$Y$826
Name NAISSANCE: #REF!
Name NAISSANCE: #REF!
Name NAISSANCE: #REF!
Name NAISSANCE: 'groupe-type'!$AI$2:$AI$12
Name OCEAN: 'groupe-type'!$AA$2:$AA$194
Name PADDA: 'groupe-type'!$AB$2:$AB$62
Name PERRO: 'groupe-type'!$AC$2:$AC$714
Name POC: 'groupe-type'!$AD$2:$AD$895
Name POP: 'groupe-type'!$AE$2:$AE$1606
Name PYRRH: 'groupe-type'!$AF$2:$AF$350
Name REGION: #REF!

Sheet CONCOURS  INDIVIDUEL F1
D1: Renseigner ici votre Nom Prenom adresse telephone club souche Etc.
D2: CONCOURS / BOURSE SORGUES 26 & 27 - 09 - 2026
A4: qualité | B4: NOM | D4: PRENON | F4: ADRESSE | G4: CODE POSTAL | I4: VILLE | K4: TELEPHONE | M4: MAIL
A5: Monsieur | B5: pascal | D5: mOrice | F5: 1510 rte oraoires | G5: 83332 | I5: castellet | K5: 663831252 | M5: mpasca@sfr.fr
A7: FEUILLE | E7: REGION | F7: CLUB | G7: SOUCHE | J7: AUTRES SOUCHES | M7: Nbre oiseaux | N7: 10
A8: N° | B8: 1 | E8: cde | F8: ocp | G8: PM | J8: SOUC1 | K8: SOUC2 | M8: Nbre cages | N8: 5
A9: RENSEIGNER POUR LES OISEAUX 1- LE TYPE 2- LA CLASSE 3 -LE SEXE ( M F C ? ) 4 - LE N° DE BAGUE MALE OU FEMELLE POUR LES COUPLE LES DEUX 5 -L'ANNEE 6-LE PRIX 7- EXPOSITION (OUI/NON)8- CAGE PERSONELLE (OUI/NON)
A10: NINSC | B10: REGION | C10: SOUCHE | D10: TYPE | E10: CLASSE | F10: DESIGNATION | G10: SEXE | H10: BAGUE MALE | I10: BAGUE FEMELLE | J10: BAGUE | K10: ANNEE | L10: PRIX | M10: EXPOSITION OUI /NON | N10: CAGE PERSONNEL
A11: 1 | B11: =E8 -> cde | C11: =G8 -> PM | F11: =IFERROR(VLOOKUP(E11,'CLASSES oiseau'!B1:C27636,2,FALSE),"") | BHF11: =IFERROR(VLOOKUP(G11,'CLASSES oiseau'!D2:E27637,2,FALSE),"")
A12: 2 | B12: =B11 -> cde | C12: =C11 -> PM | F12: =IFERROR(VLOOKUP(E12,'CLASSES oiseau'!B2:C27637,2,FALSE),"") | J12: =_xludf.CONCAT("M",H12,"/","F",I12) -> #NAME?
A13: 3 | B13: =B12 -> cde | C13: =C12 -> PM | F13: =IFERROR(VLOOKUP(E13,'CLASSES oiseau'!B3:C27638,2,FALSE),"") | J13: =_xludf.CONCAT("M",H13,"/","F",I13) -> #NAME?
A14: 8 | B14: =B13 -> cde | C14: =C13 -> PM | F14: =IFERROR(VLOOKUP(E14,'CLASSES oiseau'!B2:C27640,2,FALSE),"") | J14: =_xludf.CONCAT("M",H14,"/","F",I14) -> #NAME?
A15: 9 | B15: =B14 -> cde | C15: =C14 -> PM | F15: =IFERROR(VLOOKUP(E15,'CLASSES oiseau'!B2:C27637,2,FALSE),"") | J15: =_xludf.CONCAT("M",H15,"/","F",I15) -> #NAME?
A16: 10 | B16: =B15 -> cde | C16: =C15 -> PM | F16: =IFERROR(VLOOKUP(E16,'CLASSES oiseau'!B2:C27637,2,FALSE),"") | J16: =_xludf.CONCAT("M",H16,"/","F",I16) -> #NAME?
A17: 11 | B17: =B16 -> cde | C17: =C16 -> PM | F17: =IFERROR(VLOOKUP(E17,'CLASSES oiseau'!B2:C27637,2,FALSE),"") | J17: =_xludf.CONCAT("M",H17,"/","F",I17) -> #NAME?
A18: 12 | B18: =B17 -> cde | C18: =C17 -> PM | F18: =IFERROR(VLOOKUP(E18,'CLASSES oiseau'!B2:C27637,2,FALSE),"") | J18: =_xludf.CONCAT("M",H18,"/","F",I18) -> #NAME?
A19: 13 | B19: =B18 -> cde | C19: =C18 -> PM | F19: =IFERROR(VLOOKUP(E19,'CLASSES oiseau'!B2:C27637,2,FALSE),"") | J19: =_xludf.CONCAT("M",H19,"/","F",I19) -> #NAME?
A20: 14 | B20: =B19 -> cde | C20: =C19 -> PM | F20: =IFERROR(VLOOKUP(E20,'CLASSES oiseau'!B2:C27637,2,FALSE),"") | J20: =_xludf.CONCAT("M",H20,"/","F",I20) -> #NAME?
A21: 15 | B21: =B20 -> cde | C21: =C20 -> PM | F21: =IFERROR(VLOOKUP(E21,'CLASSES oiseau'!B2:C27637,2,FALSE),"") | J21: =_xludf.CONCAT("M",H21,"/","F",I21) -> #NAME?
A22: 16 | B22: =B21 -> cde | C22: =C21 -> PM | F22: =IFERROR(VLOOKUP(E22,'CLASSES oiseau'!B2:C27637,2,FALSE),"") | J22: =_xludf.CONCAT("M",H22,"/","F",I22) -> #NAME?
A23: 17 | B23: =B22 -> cde | C23: =C22 -> PM | F23: =IFERROR(VLOOKUP(E23,'CLASSES oiseau'!B2:C27637,2,FALSE),"") | J23: =_xludf.CONCAT("M",H23,"/","F",I23) -> #NAME?
A24: 18 | B24: =B23 -> cde | C24: =C23 -> PM | F24: =IFERROR(VLOOKUP(E24,'CLASSES oiseau'!B2:C27637,2,FALSE),"") | J24: =_xludf.CONCAT("M",H24,"/","F",I24) -> #NAME?
A25: 19 | B25: =B24 -> cde | C25: =C24 -> PM | F25: =IFERROR(VLOOKUP(E25,'CLASSES oiseau'!B2:C27637,2,FALSE),"") | J25: =_xludf.CONCAT("M",H25,"/","F",I25) -> #NAME?
A26: 20 | B26: =B25 -> cde | C26: =C25 -> PM | F26: =IFERROR(VLOOKUP(E26,'CLASSES oiseau'!B2:C27637,2,FALSE),"") | J26: =_xludf.CONCAT("M",H26,"/","F",I26) -> #NAME?
A27: 21 | B27: =B26 -> cde | C27: =C26 -> PM | F27: =IFERROR(VLOOKUP(E27,'CLASSES oiseau'!B2:C27637,2,FALSE),"") | J27: =_xludf.CONCAT("M",H27,"/","F",I27) -> #NAME?
A28: 22 | B28: =B27 -> cde | C28: =C27 -> PM | F28: =IFERROR(VLOOKUP(E28,'CLASSES oiseau'!B2:C27637,2,FALSE),"") | J28: =_xludf.CONCAT("M",H28,"/","F",I28) -> #NAME?
A29: 23 | B29: =B28 -> cde | C29: =C28 -> PM | F29: =IFERROR(VLOOKUP(E29,'CLASSES oiseau'!B2:C27637,2,FALSE),"") | J29: =_xludf.CONCAT("M",H29,"/","F",I29) -> #NAME?
A30: 24 | B30: =B29 -> cde | C30: =C29 -> PM | F30: =IFERROR(VLOOKUP(E30,'CLASSES oiseau'!B2:C27637,2,FALSE),"") | J30: =_xludf.CONCAT("M",H30,"/","F",I30) -> #NAME?
A31: 25 | B31: =B30 -> cde | C31: =C30 -> PM | F31: =IFERROR(VLOOKUP(E31,'CLASSES oiseau'!B2:C27637,2,FALSE),"") | J31: =_xludf.CONCAT("M",H31,"/","F",I31) -> #NAME?
A32: Un changement de sujet ne pourra être fait que s'il appartient exactement à la même section et à la même classe
A33: Vous pouvez dupliquer cette feuille et la transmettre à vos amis.
A34: Si nécessaire, joindre copie du certificat de capacité ou de l'autorisation de détention.Les organisateurs déclinent toute responsabilité en cas d'annulation de la manifestation ( décision ministérielle ou autre) Tout exposant accepte que ses oiseaux puissent être filmés ou photographiés librement, et en autorise la diffusion.
A37: IND | C37: 3 | E37: =C37*D37 -> 0 | G37: Les cageots doivent toujours être accompagnés d'une feuille d'encagement..Pour les oiseaux arrivant par convoyeur
A38: DUO | C38: 5 | E38: =C38*D38 -> 0
A39: stam | C39: 10 | E39: =C39*D39 -> 0 | G39: Convoyeur M.
A40: CAGE | C40: 2 | E40: =C40*D40 -> 0 | G40: Repris par M.
A41: inscription | C41: 5 | E41: =C41*D41 -> 0 | G41: Par la signature de cette feuille, je décharge les organisateurs de toute responsabilité pour les accidents pouvant survenir à moi-même ou à mes oiseaux.
A42: Repas Samedi | C42: 15 | E42: =C42*D42 -> 0
A43: Repas Dimanche | C43: 20 | E43: =C43*D43 -> 0
C44: TOTAL | D44: =SUM(E37:E43) -> 0
...

Sheet CONCOURS  INDIVIDUEL F2
E2: ='CONCOURS INDIVIDUEL F1'!D2 -> CONCOURS / BOURSE SORGUES 26 & 27 - 09 - 2026
B4: NOM | D4: PRENON | F4: ADRESSE | G4: CODE POSTAL | I4: VILLE | K4: TELEPHONE | M4: MAIL
B5: ='CONCOURS INDIVIDUEL F1'!B5 -> pascal | D5: ='CONCOURS INDIVIDUEL F1'!D5 -> mOrice | F5: ='CONCOURS INDIVIDUEL F1'!F5 -> 1510 rte oraoires | G5: ='CONCOURS INDIVIDUEL F1'!G5 -> 83332 | I5: ='CONCOURS INDIVIDUEL F1'!I5 -> castellet | K5: ='CONCOURS INDIVIDUEL F1'!K5 -> 663831252 | M5: ='CONCOURS INDIVIDUEL F1'!M5 -> mpasca@sfr.fr
A7: FEUILLE | E7: REGION | F7: CLUB | G7: SOUCHE | J7: AUTRES SOUCHES | M7: Nbre oiseaux
A8: N° | B8: 2 | E8: ='CONCOURS INDIVIDUEL F1'!E8 -> cde | F8: ='CONCOURS INDIVIDUEL F1'!F8 -> ocp | G8: ='CONCOURS INDIVIDUEL F1'!G8 -> PM | J8: ='CONCOURS INDIVIDUEL F1'!J8 -> SOUC1 | K8: ='CONCOURS INDIVIDUEL F1'!K8 -> SOUC2 | M8: Nbre cages
A9: RENSEIGNER POUR LES OISEAUX 1- LE TYPE 2- LA CLASSE 3 -LE SEXE ( M F C ? ) 4 - LE N° DE BAGUE MALE OU FEMELLE POUR LES COUPLE LES DEUX 5 -L'ANNEE 6-LE PRIX 7- EXPOSITION (OUI/NON)8- CAGE PERSONELLE (OUI/NON)
A10: NINSC | B10: REGION | C10: SOUCHE | D10: TYPE | E10: CLASSE | F10: DESIGNATION | G10: SEXE | H10: BAGUE MALE | I10: BAGUE FEMELLE | J10: BAGUE | K10: ANNEE | L10: PRIX | M10: EXPOSITION OUI /NON | N10: CAGE PERSONNEL
A11: 1 | B11: =E8 -> cde | C11: =G8 -> PM | F11: =IFERROR(VLOOKUP(E11,'CLASSES oiseau'!B1:C27636,2,FALSE),"") | J11: =_xludf.CONCAT("M",H11,"/","F",I11) -> #NAME? | BHF11: =IFERROR(VLOOKUP(G11,'CLASSES oiseau'!D2:E27637,2,FALSE),"")
A12: 2 | B12: =B11 -> cde | C12: =C11 -> PM | F12: =IFERROR(VLOOKUP(E12,'CLASSES oiseau'!B2:C27637,2,FALSE),"") | J12: =_xludf.CONCAT("M",H12,"/","F",I12) -> #NAME?
A13: 3 | B13: =B12 -> cde | C13: =C12 -> PM | F13: =IFERROR(VLOOKUP(E13,'CLASSES oiseau'!B3:C27638,2,FALSE),"") | J13: =_xludf.CONCAT("M",H13,"/","F",I13) -> #NAME?
A14: 8 | B14: =B13 -> cde | C14: =C13 -> PM | F14: =IFERROR(VLOOKUP(E14,'CLASSES oiseau'!B2:C27640,2,FALSE),"") | J14: =_xludf.CONCAT("M",H14,"/","F",I14) -> #NAME?
A15: 9 | B15: =B14 -> cde | C15: =C14 -> PM | F15: =IFERROR(VLOOKUP(E15,'CLASSES oiseau'!B2:C27637,2,FALSE),"") | J15: =_xludf.CONCAT("M",H15,"/","F",I15) -> #NAME?
A16: 10 | B16: =B15 -> cde | C16: =C15 -> PM | F16: =IFERROR(VLOOKUP(E16,'CLASSES oiseau'!B2:C27637,2,FALSE),"") | J16: =_xludf.CONCAT("M",H16,"/","F",I16) -> #NAME?
A17: 11 | B17: =B16 -> cde | C17: =C16 -> PM | F17: =IFERROR(VLOOKUP(E17,'CLASSES oiseau'!B2:C27637,2,FALSE),"") | J17: =_xludf.CONCAT("M",H17,"/","F",I17) -> #NAME?
A18: 12 | B18: =B17 -> cde | C18: =C17 -> PM | F18: =IFERROR(VLOOKUP(E18,'CLASSES oiseau'!B2:C27637,2,FALSE),"") | J18: =_xludf.CONCAT("M",H18,"/","F",I18) -> #NAME?
A19: 13 | B19: =B18 -> cde | C19: =C18 -> PM | F19: =IFERROR(VLOOKUP(E19,'CLASSES oiseau'!B2:C27637,2,FALSE),"") | J19: =_xludf.CONCAT("M",H19,"/","F",I19) -> #NAME?
A20: 14 | B20: =B19 -> cde | C20: =C19 -> PM | F20: =IFERROR(VLOOKUP(E20,'CLASSES oiseau'!B2:C27637,2,FALSE),"") | J20: =_xludf.CONCAT("M",H20,"/","F",I20) -> #NAME?
A21: 15 | B21: =B20 -> cde | C21: =C20 -> PM | F21: =IFERROR(VLOOKUP(E21,'CLASSES oiseau'!B2:C27637,2,FALSE),"") | J21: =_xludf.CONCAT("M",H21,"/","F",I21) -> #NAME?
A22: 16 | B22: =B21 -> cde | C22: =C21 -> PM | F22: =IFERROR(VLOOKUP(E22,'CLASSES oiseau'!B2:C27637,2,FALSE),"") | J22: =_xludf.CONCAT("M",H22,"/","F",I22) -> #NAME?
A23: 17 | B23: =B22 -> cde | C23: =C22 -> PM | F23: =IFERROR(VLOOKUP(E23,'CLASSES oiseau'!B2:C27637,2,FALSE),"") | J23: =_xludf.CONCAT("M",H23,"/","F",I23) -> #NAME?
A24: 18 | B24: =B23 -> cde | C24: =C23 -> PM | F24: =IFERROR(VLOOKUP(E24,'CLASSES oiseau'!B2:C27637,2,FALSE),"") | J24: =_xludf.CONCAT("M",H24,"/","F",I24) -> #NAME?
A25: 19 | B25: =B24 -> cde | C25: =C24 -> PM | F25: =IFERROR(VLOOKUP(E25,'CLASSES oiseau'!B2:C27637,2,FALSE),"") | J25: =_xludf.CONCAT("M",H25,"/","F",I25) -> #NAME?
A26: 20 | B26: =B25 -> cde | C26: =C25 -> PM | F26: =IFERROR(VLOOKUP(E26,'CLASSES oiseau'!B2:C27637,2,FALSE),"") | J26: =_xludf.CONCAT("M",H26,"/","F",I26) -> #NAME?
A27: 21 | B27: =B26 -> cde | C27: =C26 -> PM | F27: =IFERROR(VLOOKUP(E27,'CLASSES oiseau'!B2:C27637,2,FALSE),"") | J27: =_xludf.CONCAT("M",H27,"/","F",I27) -> #NAME?
A28: 22 | B28: =B27 -> cde | C28: =C27 -> PM | F28: =IFERROR(VLOOKUP(E28,'CLASSES oiseau'!B2:C27637,2,FALSE),"") | J28: =_xludf.CONCAT("M",H28,"/","F",I28) -> #NAME?
A29: 23 | B29: =B28 -> cde | C29: =C28 -> PM | F29: =IFERROR(VLOOKUP(E29,'CLASSES oiseau'!B2:C27637,2,FALSE),"") | J29: =_xludf.CONCAT("M",H29,"/","F",I29) -> #NAME?
A30: 24 | B30: =B29 -> cde | C30: =C29 -> PM | F30: =IFERROR(VLOOKUP(E30,'CLASSES oiseau'!B2:C27637,2,FALSE),"") | J30: =_xludf.CONCAT("M",H30,"/","F",I30) -> #NAME?
A31: 25 | B31: =B30 -> cde | C31: =C30 -> PM | F31: =IFERROR(VLOOKUP(E31,'CLASSES oiseau'!B2:C27637,2,FALSE),"") | J31: =_xludf.CONCAT("M",H31,"/","F",I31) -> #NAME?
A32: Un changement de sujet ne pourra être fait que s'il appartient exactement à la même section et à la même classe
A33: Vous pouvez dupliquer cette feuille et la transmettre à vos amis.
A34: Si nécessaire, joindre copie du certificat de capacité ou de l'autorisation de détention.Les organisateurs déclinent toute responsabilité en cas d'annulation de la manifestation ( décision ministérielle ou autre) Tout exposant accepte que ses oiseaux puissent être filmés ou photographiés librement, et en autorise la diffusion.
A37: IND | C37: 3 | E37: =C37*D37 -> 0 | G37: Les cageots doivent toujours être accompagnés d'une feuille d'encagement..Pour les oiseaux arrivant par convoyeur
A38: DUO | C38: 5 | E38: =C38*D38 -> 0
A39: stam | C39: 10 | E39: =C39*D39 -> 0 | G39: Convoyeur M.
A40: CAGE | C40: 2 | E40: =C40*D40 -> 0 | G40: Repris par M.
A41: inscription | C41: 5 | E41: =C41*D41 -> 0 | G41: Par la signature de cette feuille, je décharge les organisateurs de toute responsabilité pour les accidents pouvant survenir à moi-même ou à mes oiseaux.
A42: Repas Samedi | C42: 15 | E42: =C42*D42 -> 0
A43: Repas Dimanche | C43: 20 | E43: =C43*D43 -> 0
C44: TOTAL | D44: =SUM(E37:E43) -> 0
G45: Date : | L45: Signature : | P45: Signature :
...

Sheet CONCOURS  INDIVIDUEL F3
E2: ='CONCOURS INDIVIDUEL F1'!D2 -> CONCOURS / BOURSE SORGUES 26 & 27 - 09 - 2026
B4: NOM | D4: PRENON | F4: ADRESSE | G4: CODE POSTAL | I4: VILLE | K4: TELEPHONE | M4: MAIL
B5: ='CONCOURS INDIVIDUEL F1'!B5 -> pascal | D5: ='CONCOURS INDIVIDUEL F1'!D5 -> mOrice | F5: ='CONCOURS INDIVIDUEL F1'!F5 -> 1510 rte oraoires | G5: ='CONCOURS INDIVIDUEL F1'!G5 -> 83332 | I5: ='CONCOURS INDIVIDUEL F1'!I5 -> castellet | K5: ='CONCOURS INDIVIDUEL F1'!K5 -> 663831252 | M5: ='CONCOURS INDIVIDUEL F1'!M5 -> mpasca@sfr.fr
A7: FEUILLE | E7: REGION | F7: CLUB | G7: SOUCHE | J7: AUTRES SOUCHES | M7: Nbre oiseaux
A8: N° | B8: 3 | E8: ='CONCOURS INDIVIDUEL F1'!E8 -> cde | F8: ='CONCOURS INDIVIDUEL F1'!F8 -> ocp | G8: ='CONCOURS INDIVIDUEL F1'!G8 -> PM | J8: ='CONCOURS INDIVIDUEL F1'!J8 -> SOUC1 | K8: ='CONCOURS INDIVIDUEL F1'!K8 -> SOUC2 | M8: Nbre cages
A9: RENSEIGNER POUR LES OISEAUX 1- LE TYPE 2- LA CLASSE 3 -LE SEXE ( M F C ? ) 4 - LE N° DE BAGUE MALE OU FEMELLE POUR LES COUPLE LES DEUX 5 -L'ANNEE 6-LE PRIX 7- EXPOSITION (OUI/NON)8- CAGE PERSONELLE (OUI/NON)
A10: NINSC | B10: REGION | C10: SOUCHE | D10: TYPE | E10: CLASSE | F10: DESIGNATION | G10: SEXE | H10: BAGUE MALE | I10: BAGUE FEMELLE | J10: BAGUE | K10: ANNEE | L10: PRIX | M10: EXPOSITION OUI /NON | N10: CAGE PERSONNEL
A11: 1 | B11: =E8 -> cde | C11: =G8 -> PM | F11: =IFERROR(VLOOKUP(E11,'CLASSES oiseau'!B1:C27636,2,FALSE),"") | J11: =_xludf.CONCAT("M",H11,"/","F",I11) -> #NAME? | BHF11: =IFERROR(VLOOKUP(G11,'CLASSES oiseau'!D2:E27637,2,FALSE),"")
A12: 2 | B12: =B11 -> cde | C12: =C11 -> PM | F12: =IFERROR(VLOOKUP(E12,'CLASSES oiseau'!B2:C27637,2,FALSE),"") | J12: =_xludf.CONCAT("M",H12,"/","F",I12) -> #NAME?
A13: 3 | B13: =B12 -> cde | C13: =C12 -> PM | F13: =IFERROR(VLOOKUP(E13,'CLASSES oiseau'!B3:C27638,2,FALSE),"") | J13: =_xludf.CONCAT("M",H13,"/","F",I13) -> #NAME?
A14: 4 | B14: =B13 -> cde | C14: =C13 -> PM | F14: =IFERROR(VLOOKUP(E14,'CLASSES oiseau'!B2:C27640,2,FALSE),"") | J14: =_xludf.CONCAT("M",H14,"/","F",I14) -> #NAME?
A15: 5 | B15: =B14 -> cde | C15: =C14 -> PM | F15: =IFERROR(VLOOKUP(E15,'CLASSES oiseau'!B2:C27637,2,FALSE),"") | J15: =_xludf.CONCAT("M",H15,"/","F",I15) -> #NAME?
A16: 6 | B16: =B15 -> cde | C16: =C15 -> PM | F16: =IFERROR(VLOOKUP(E16,'CLASSES oiseau'!B2:C27637,2,FALSE),"") | J16: =_xludf.CONCAT("M",H16,"/","F",I16) -> #NAME?
A17: 7 | B17: =B16 -> cde | C17: =C16 -> PM | F17: =IFERROR(VLOOKUP(E17,'CLASSES oiseau'!B2:C27637,2,FALSE),"") | J17: =_xludf.CONCAT("M",H17,"/","F",I17) -> #NAME?
A18: 8 | B18: =B17 -> cde | C18: =C17 -> PM | F18: =IFERROR(VLOOKUP(E18,'CLASSES oiseau'!B2:C27637,2,FALSE),"") | J18: =_xludf.CONCAT("M",H18,"/","F",I18) -> #NAME?
A19: 9 | B19: =B18 -> cde | C19: =C18 -> PM | F19: =IFERROR(VLOOKUP(E19,'CLASSES oiseau'!B2:C27637,2,FALSE),"") | J19: =_xludf.CONCAT("M",H19,"/","F",I19) -> #NAME?
A20: 10 | B20: =B19 -> cde | C20: =C19 -> PM | F20: =IFERROR(VLOOKUP(E20,'CLASSES oiseau'!B2:C27637,2,FALSE),"") | J20: =_xludf.CONCAT("M",H20,"/","F",I20) -> #NAME?
A21: 11 | B21: =B20 -> cde | C21: =C20 -> PM | F21: =IFERROR(VLOOKUP(E21,'CLASSES oiseau'!B2:C27637,2,FALSE),"") | J21: =_xludf.CONCAT("M",H21,"/","F",I21) -> #NAME?
A22: 12 | B22: =B21 -> cde | C22: =C21 -> PM | F22: =IFERROR(VLOOKUP(E22,'CLASSES oiseau'!B2:C27637,2,FALSE),"") | J22: =_xludf.CONCAT("M",H22,"/","F",I22) -> #NAME?
A23: 13 | B23: =B22 -> cde | C23: =C22 -> PM | F23: =IFERROR(VLOOKUP(E23,'CLASSES oiseau'!B2:C27637,2,FALSE),"") | J23: =_xludf.CONCAT("M",H23,"/","F",I23) -> #NAME?
A24: 14 | B24: =B23 -> cde | C24: =C23 -> PM | F24: =IFERROR(VLOOKUP(E24,'CLASSES oiseau'!B2:C27637,2,FALSE),"") | J24: =_xludf.CONCAT("M",H24,"/","F",I24) -> #NAME?
A25: 15 | B25: =B24 -> cde | C25: =C24 -> PM | F25: =IFERROR(VLOOKUP(E25,'CLASSES oiseau'!B2:C27637,2,FALSE),"") | J25: =_xludf.CONCAT("M",H25,"/","F",I25) -> #NAME?
A26: 16 | B26: =B25 -> cde | C26: =C25 -> PM | F26: =IFERROR(VLOOKUP(E26,'CLASSES oiseau'!B2:C27637,2,FALSE),"") | J26: =_xludf.CONCAT("M",H26,"/","F",I26) -> #NAME?
A27: 17 | B27: =B26 -> cde | C27: =C26 -> PM | F27: =IFERROR(VLOOKUP(E27,'CLASSES oiseau'!B2:C27637,2,FALSE),"") | J27: =_xludf.CONCAT("M",H27,"/","F",I27) -> #NAME?
A28: 18 | B28: =B27 -> cde | C28: =C27 -> PM | F28: =IFERROR(VLOOKUP(E28,'CLASSES oiseau'!B2:C27637,2,FALSE),"") | J28: =_xludf.CONCAT("M",H28,"/","F",I28) -> #NAME?
A29: 19 | B29: =B28 -> cde | C29: =C28 -> PM | F29: =IFERROR(VLOOKUP(E29,'CLASSES oiseau'!B2:C27637,2,FALSE),"") | J29: =_xludf.CONCAT("M",H29,"/","F",I29) -> #NAME?
A30: 20 | B30: =B29 -> cde | C30: =C29 -> PM | F30: =IFERROR(VLOOKUP(E30,'CLASSES oiseau'!B2:C27637,2,FALSE),"") | J30: =_xludf.CONCAT("M",H30,"/","F",I30) -> #NAME?
A31: 21 | B31: =B30 -> cde | C31: =C30 -> PM | F31: =IFERROR(VLOOKUP(E31,'CLASSES oiseau'!B2:C27637,2,FALSE),"") | J31: =_xludf.CONCAT("M",H31,"/","F",I31) -> #NAME?
A32: Un changement de sujet ne pourra être fait que s'il appartient exactement à la même section et à la même classe
A33: Vous pouvez dupliquer cette feuille et la transmettre à vos amis.
A34: Si nécessaire, joindre copie du certificat de capacité ou de l'autorisation de détention.Les organisateurs déclinent toute responsabilité en cas d'annulation de la manifestation ( décision ministérielle ou autre) Tout exposant accepte que ses oiseaux puissent être filmés ou photographiés librement, et en autorise la diffusion.
A37: IND | C37: 3 | E37: =C37*D37 -> 0 | G37: Les cageots doivent toujours être accompagnés d'une feuille d'encagement..Pour les oiseaux arrivant par convoyeur
A38: DUO | C38: 5 | E38: =C38*D38 -> 0
A39: stam | C39: 10 | E39: =C39*D39 -> 0 | G39: Convoyeur M.
A40: CAGE | C40: 2 | E40: =C40*D40 -> 0 | G40: Repris par M.
A41: inscription | C41: 5 | E41: =C41*D41 -> 0 | G41: Par la signature de cette feuille, je décharge les organisateurs de toute responsabilité pour les accidents pouvant survenir à moi-même ou à mes oiseaux.
A42: Repas Samedi | C42: 15 | E42: =C42*D42 -> 0
A43: Repas Dimanche | C43: 20 | E43: =C43*D43 -> 0
C44: TOTAL | D44: =SUM(E37:E43) -> 0
G45: Date : | L45: Signature : | P45: Signature :
...

Sheet CONCOURS DUO F1
E2: ='CONCOURS INDIVIDUEL F1'!D2 -> CONCOURS / BOURSE SORGUES 26 & 27 - 09 - 2026
B4: NOM | D4: PRENON | F4: ADRESSE | G4: CODE POSTAL | I4: VILLE | K4: TELEPHONE | M4: MAIL
B5: ='CONCOURS INDIVIDUEL F1'!B5 -> pascal | D5: ='CONCOURS INDIVIDUEL F1'!D5 -> mOrice | F5: ='CONCOURS INDIVIDUEL F1'!F5 -> 1510 rte oraoires | G5: ='CONCOURS INDIVIDUEL F1'!G5 -> 83332 | I5: ='CONCOURS INDIVIDUEL F1'!I5 -> castellet | K5: ='CONCOURS INDIVIDUEL F1'!K5 -> 663831252 | M5: ='CONCOURS INDIVIDUEL F1'!M5 -> mpasca@sfr.fr
A7: FEUILLE | E7: REGION | F7: CLUB | G7: SOUCHE | J7: AUTRES SOUCHES | M7: Nbre oiseaux
A8: N° | B8: 1 | E8: ='CONCOURS INDIVIDUEL F1'!E8 -> cde | F8: ='CONCOURS INDIVIDUEL F1'!F8 -> ocp | G8: ='CONCOURS INDIVIDUEL F1'!G8 -> PM | J8: ='CONCOURS INDIVIDUEL F1'!J8 -> SOUC1 | K8: ='CONCOURS INDIVIDUEL F1'!K8 -> SOUC2 | M8: Nbre cages
A9: RENSEIGNER POUR LES OISEAUX 1- LE TYPE 2- LA CLASSE 3 -LE SEXE ( M F C ? ) 4 - LE N° DE BAGUE MALE OU FEMELLE POUR LES COUPLE LES DEUX 5 -L'ANNEE 6-LE PRIX 7- EXPOSITION (OUI/NON)8- CAGE PERSONELLE (OUI/NON)
A10: NINSC | B10: REGION | C10: SOUCHE | D10: TYPE | E10: CLASSE | F10: DESIGNATION | G10: SEXE | H10: BAGUE MALE | I10: BAGUE FEMELLE | J10: BAGUE | K10: ANNEE | L10: PRIX | M10: EXPOSITION OUI /NON | N10: CAGE PERSONNEL
A11: 1 | B11: =E8 -> cde | C11: =G8 -> PM | F11: =IFERROR(VLOOKUP(E11,'CLASSES oiseau'!B1:C27636,2,FALSE),"") | BHF11: =IFERROR(VLOOKUP(G11,'CLASSES oiseau'!D2:E27637,2,FALSE),"")
A12: 2 | B12: =B11 -> cde | C12: =C11 -> PM | E12: =E11 -> 0 | F12: =IFERROR(VLOOKUP(E12,'CLASSES oiseau'!B2:C27637,2,FALSE),"")
A13: 3 | B13: =B12 -> cde | C13: =C12 -> PM | F13: =IFERROR(VLOOKUP(E13,'CLASSES oiseau'!B3:C27638,2,FALSE),"")
A14: 4 | B14: =B13 -> cde | C14: =C13 -> PM | E14: =E13 -> 0 | F14: =IFERROR(VLOOKUP(E14,'CLASSES oiseau'!B4:C27639,2,FALSE),"")
A15: 5 | B15: =B14 -> cde | C15: =C14 -> PM | F15: =IFERROR(VLOOKUP(E15,'CLASSES oiseau'!B5:C27640,2,FALSE),"")
A16: 6 | B16: =B15 -> cde | C16: =C15 -> PM | E16: =E15 -> 0 | F16: =IFERROR(VLOOKUP(E16,'CLASSES oiseau'!B6:C27641,2,FALSE),"")
A17: 7 | B17: =B16 -> cde | C17: =C16 -> PM | F17: =IFERROR(VLOOKUP(E17,'CLASSES oiseau'!B7:C27642,2,FALSE),"")
A18: 8 | B18: =B17 -> cde | C18: =C17 -> PM | E18: =E17 -> 0 | F18: =IFERROR(VLOOKUP(E18,'CLASSES oiseau'!B8:C27643,2,FALSE),"")
A19: 9 | B19: =B18 -> cde | C19: =C18 -> PM | F19: =IFERROR(VLOOKUP(E19,'CLASSES oiseau'!B9:C27644,2,FALSE),"")
A20: 10 | B20: =B19 -> cde | C20: =C19 -> PM | E20: =E19 -> 0 | F20: =IFERROR(VLOOKUP(E20,'CLASSES oiseau'!B10:C27645,2,FALSE),"")
A21: 11 | B21: =B20 -> cde | C21: =C20 -> PM | F21: =IFERROR(VLOOKUP(E21,'CLASSES oiseau'!B11:C27646,2,FALSE),"")
A22: 12 | B22: =B21 -> cde | C22: =C21 -> PM | E22: =E21 -> 0 | F22: =IFERROR(VLOOKUP(E22,'CLASSES oiseau'!B12:C27647,2,FALSE),"")
A23: 13 | B23: =B22 -> cde | C23: =C22 -> PM | F23: =IFERROR(VLOOKUP(E23,'CLASSES oiseau'!B13:C27648,2,FALSE),"")
A24: 14 | B24: =B23 -> cde | C24: =C23 -> PM | E24: =E23 -> 0 | F24: =IFERROR(VLOOKUP(E24,'CLASSES oiseau'!B14:C27649,2,FALSE),"")
A25: 15 | B25: =B24 -> cde | C25: =C24 -> PM | F25: =IFERROR(VLOOKUP(E25,'CLASSES oiseau'!B15:C27650,2,FALSE),"")
A26: 16 | B26: =B25 -> cde | C26: =C25 -> PM | E26: =E25 -> 0 | F26: =IFERROR(VLOOKUP(E26,'CLASSES oiseau'!B16:C27651,2,FALSE),"")
A27: 17 | B27: =B26 -> cde | C27: =C26 -> PM | F27: =IFERROR(VLOOKUP(E27,'CLASSES oiseau'!B17:C27652,2,FALSE),"")
A28: 18 | B28: =B27 -> cde | C28: =C27 -> PM | E28: =E27 -> 0 | F28: =IFERROR(VLOOKUP(E28,'CLASSES oiseau'!B18:C27653,2,FALSE),"")
A29: 19 | B29: =B28 -> cde | C29: =C28 -> PM | F29: =IFERROR(VLOOKUP(E29,'CLASSES oiseau'!B19:C27654,2,FALSE),"")
A30: 20 | B30: =B29 -> cde | C30: =C29 -> PM | E30: =E29 -> 0 | F30: =IFERROR(VLOOKUP(E30,'CLASSES oiseau'!B20:C27655,2,FALSE),"")
A31: 21 | B31: =B30 -> cde | C31: =C30 -> PM | F31: =IFERROR(VLOOKUP(E31,'CLASSES oiseau'!B21:C27656,2,FALSE),"")
A32: 22 | B32: =B31 -> cde | C32: =C31 -> PM | E32: =E31 -> 0 | F32: =IFERROR(VLOOKUP(E32,'CLASSES oiseau'!B22:C27657,2,FALSE),"")
A33: 23 | B33: =B32 -> cde | C33: =C32 -> PM | F33: =IFERROR(VLOOKUP(E33,'CLASSES oiseau'!B23:C27658,2,FALSE),"")
A34: 24 | B34: =B33 -> cde | C34: =C33 -> PM | E34: =E33 -> 0 | F34: =IFERROR(VLOOKUP(E34,'CLASSES oiseau'!B24:C27659,2,FALSE),"")
A35: Un changement de sujet ne pourra être fait que s'il appartient exactement à la même section et à la même classe
A36: Vous pouvez dupliquer cette feuille et la transmettre à vos amis.
A37: Si nécessaire, joindre copie du certificat de capacité ou de l'autorisation de détention.Les organisateurs déclinent toute responsabilité en cas d'annulation de la manifestation ( décision ministérielle ou autre) Tout exposant accepte que ses oiseaux puissent être filmés ou photographiés librement, et en autorise la diffusion.
A40: IND | C40: 3 | E40: =C40*D40 -> 0 | G40: Les cageots doivent toujours être accompagnés d'une feuille d'encagement..Pour les oiseaux arrivant par convoyeur
A41: DUO | C41: 5 | E41: =C41*D41 -> 0
A42: stam | C42: 10 | E42: =C42*D42 -> 0 | G42: Convoyeur M.
A43: CAGE | C43: 2 | E43: =C43*D43 -> 0 | G43: Repris par M.
A44: inscription | C44: 5 | E44: =C44*D44 -> 0 | G44: Par la signature de cette feuille, je décharge les organisateurs de toute responsabilité pour les accidents pouvant survenir à moi-même ou à mes oiseaux.
A45: Repas Samedi | C45: 15 | E45: =C45*D45 -> 0
...

Sheet CONCOURS DUO F2
E2: ='CONCOURS INDIVIDUEL F1'!D2 -> CONCOURS / BOURSE SORGUES 26 & 27 - 09 - 2026
B4: NOM | D4: PRENON | F4: ADRESSE | G4: CODE POSTAL | I4: VILLE | K4: TELEPHONE | M4: MAIL
B5: ='CONCOURS INDIVIDUEL F1'!B5 -> pascal | D5: ='CONCOURS INDIVIDUEL F1'!D5 -> mOrice | F5: ='CONCOURS INDIVIDUEL F1'!F5 -> 1510 rte oraoires | G5: ='CONCOURS INDIVIDUEL F1'!G5 -> 83332 | I5: ='CONCOURS INDIVIDUEL F1'!I5 -> castellet | K5: ='CONCOURS INDIVIDUEL F1'!K5 -> 663831252 | M5: ='CONCOURS INDIVIDUEL F1'!M5 -> mpasca@sfr.fr
A7: FEUILLE | E7: REGION | F7: CLUB | G7: SOUCHE | J7: AUTRES SOUCHES | M7: Nbre oiseaux
A8: N° | B8: 2 | E8: ='CONCOURS INDIVIDUEL F1'!E8 -> cde | F8: ='CONCOURS INDIVIDUEL F1'!F8 -> ocp | G8: ='CONCOURS INDIVIDUEL F1'!G8 -> PM | J8: ='CONCOURS INDIVIDUEL F1'!J8 -> SOUC1 | K8: ='CONCOURS INDIVIDUEL F1'!K8 -> SOUC2 | M8: Nbre cages
A9: RENSEIGNER POUR LES OISEAUX 1- LE TYPE 2- LA CLASSE 3 -LE SEXE ( M F C ? ) 4 - LE N° DE BAGUE MALE OU FEMELLE POUR LES COUPLE LES DEUX 5 -L'ANNEE 6-LE PRIX 7- EXPOSITION (OUI/NON)8- CAGE PERSONELLE (OUI/NON)
A10: NINSC | B10: REGION | C10: SOUCHE | D10: TYPE | E10: CLASSE | F10: DESIGNATION | G10: SEXE | H10: BAGUE MALE | I10: BAGUE FEMELLE | J10: BAGUE | K10: ANNEE | L10: PRIX | M10: EXPOSITION OUI /NON | N10: CAGE PERSONNEL
A11: 1 | B11: =E8 -> cde | C11: =G8 -> PM | F11: =IFERROR(VLOOKUP(E11,'CLASSES oiseau'!B1:C27636,2,FALSE),"") | BHF11: =IFERROR(VLOOKUP(G11,'CLASSES oiseau'!D2:E27637,2,FALSE),"")
A12: 2 | B12: =B11 -> cde | C12: =C11 -> PM | E12: =E11 -> 0 | F12: =IFERROR(VLOOKUP(E12,'CLASSES oiseau'!B2:C27637,2,FALSE),"")
A13: 3 | B13: =B12 -> cde | C13: =C12 -> PM | F13: =IFERROR(VLOOKUP(E13,'CLASSES oiseau'!B3:C27638,2,FALSE),"")
A14: 4 | B14: =B13 -> cde | C14: =C13 -> PM | E14: =E13 -> 0 | F14: =IFERROR(VLOOKUP(E14,'CLASSES oiseau'!B4:C27639,2,FALSE),"")
A15: 5 | B15: =B14 -> cde | C15: =C14 -> PM | F15: =IFERROR(VLOOKUP(E15,'CLASSES oiseau'!B5:C27640,2,FALSE),"") | J15: =_xludf.CONCAT("M",H15,"/","F",I15) -> #NAME?
A16: 6 | B16: =B15 -> cde | C16: =C15 -> PM | E16: =E15 -> 0 | F16: =IFERROR(VLOOKUP(E16,'CLASSES oiseau'!B6:C27641,2,FALSE),"") | J16: =_xludf.CONCAT("M",H16,"/","F",I16) -> #NAME?
A17: 7 | B17: =B16 -> cde | C17: =C16 -> PM | F17: =IFERROR(VLOOKUP(E17,'CLASSES oiseau'!B7:C27642,2,FALSE),"") | J17: =_xludf.CONCAT("M",H17,"/","F",I17) -> #NAME?
A18: 8 | B18: =B17 -> cde | C18: =C17 -> PM | E18: =E17 -> 0 | F18: =IFERROR(VLOOKUP(E18,'CLASSES oiseau'!B8:C27643,2,FALSE),"") | J18: =_xludf.CONCAT("M",H18,"/","F",I18) -> #NAME?
A19: 9 | B19: =B18 -> cde | C19: =C18 -> PM | F19: =IFERROR(VLOOKUP(E19,'CLASSES oiseau'!B9:C27644,2,FALSE),"") | J19: =_xludf.CONCAT("M",H19,"/","F",I19) -> #NAME?
A20: 10 | B20: =B19 -> cde | C20: =C19 -> PM | E20: =E19 -> 0 | F20: =IFERROR(VLOOKUP(E20,'CLASSES oiseau'!B10:C27645,2,FALSE),"") | J20: =_xludf.CONCAT("M",H20,"/","F",I20) -> #NAME?
A21: 11 | B21: =B20 -> cde | C21: =C20 -> PM | F21: =IFERROR(VLOOKUP(E21,'CLASSES oiseau'!B11:C27646,2,FALSE),"") | J21: =_xludf.CONCAT("M",H21,"/","F",I21) -> #NAME?
A22: 12 | B22: =B21 -> cde | C22: =C21 -> PM | E22: =E21 -> 0 | F22: =IFERROR(VLOOKUP(E22,'CLASSES oiseau'!B12:C27647,2,FALSE),"") | J22: =_xludf.CONCAT("M",H22,"/","F",I22) -> #NAME?
A23: 13 | B23: =B22 -> cde | C23: =C22 -> PM | F23: =IFERROR(VLOOKUP(E23,'CLASSES oiseau'!B13:C27648,2,FALSE),"") | J23: =_xludf.CONCAT("M",H23,"/","F",I23) -> #NAME?
A24: 14 | B24: =B23 -> cde | C24: =C23 -> PM | E24: =E23 -> 0 | F24: =IFERROR(VLOOKUP(E24,'CLASSES oiseau'!B14:C27649,2,FALSE),"") | J24: =_xludf.CONCAT("M",H24,"/","F",I24) -> #NAME?
A25: 15 | B25: =B24 -> cde | C25: =C24 -> PM | F25: =IFERROR(VLOOKUP(E25,'CLASSES oiseau'!B15:C27650,2,FALSE),"") | J25: =_xludf.CONCAT("M",H25,"/","F",I25) -> #NAME?
A26: 16 | B26: =B25 -> cde | C26: =C25 -> PM | E26: =E25 -> 0 | F26: =IFERROR(VLOOKUP(E26,'CLASSES oiseau'!B16:C27651,2,FALSE),"") | J26: =_xludf.CONCAT("M",H26,"/","F",I26) -> #NAME?
A27: 17 | B27: =B26 -> cde | C27: =C26 -> PM | F27: =IFERROR(VLOOKUP(E27,'CLASSES oiseau'!B17:C27652,2,FALSE),"") | J27: =_xludf.CONCAT("M",H27,"/","F",I27) -> #NAME?
A28: 18 | B28: =B27 -> cde | C28: =C27 -> PM | E28: =E27 -> 0 | F28: =IFERROR(VLOOKUP(E28,'CLASSES oiseau'!B18:C27653,2,FALSE),"") | J28: =_xludf.CONCAT("M",H28,"/","F",I28) -> #NAME?
A29: 19 | B29: =B28 -> cde | C29: =C28 -> PM | F29: =IFERROR(VLOOKUP(E29,'CLASSES oiseau'!B19:C27654,2,FALSE),"") | J29: =_xludf.CONCAT("M",H29,"/","F",I29) -> #NAME?
A30: 20 | B30: =B29 -> cde | C30: =C29 -> PM | E30: =E29 -> 0 | F30: =IFERROR(VLOOKUP(E30,'CLASSES oiseau'!B20:C27655,2,FALSE),"") | J30: =_xludf.CONCAT("M",H30,"/","F",I30) -> #NAME?
A31: 21 | B31: =B30 -> cde | C31: =C30 -> PM | F31: =IFERROR(VLOOKUP(E31,'CLASSES oiseau'!B21:C27656,2,FALSE),"") | J31: =_xludf.CONCAT("M",H31,"/","F",I31) -> #NAME?
A32: 22 | B32: =B31 -> cde | C32: =C31 -> PM | E32: =E31 -> 0 | F32: =IFERROR(VLOOKUP(E32,'CLASSES oiseau'!B22:C27657,2,FALSE),"") | J32: =_xludf.CONCAT("M",H32,"/","F",I32) -> #NAME?
A33: 23 | B33: =B32 -> cde | C33: =C32 -> PM | F33: =IFERROR(VLOOKUP(E33,'CLASSES oiseau'!B23:C27658,2,FALSE),"") | J33: =_xludf.CONCAT("M",H33,"/","F",I33) -> #NAME?
A34: 24 | B34: =B33 -> cde | C34: =C33 -> PM | E34: =E33 -> 0 | F34: =IFERROR(VLOOKUP(E34,'CLASSES oiseau'!B24:C27659,2,FALSE),"") | J34: =_xludf.CONCAT("M",H34,"/","F",I34) -> #NAME?
A35: Un changement de sujet ne pourra être fait que s'il appartient exactement à la même section et à la même classe
A36: Vous pouvez dupliquer cette feuille et la transmettre à vos amis.
A37: Si nécessaire, joindre copie du certificat de capacité ou de l'autorisation de détention.Les organisateurs déclinent toute responsabilité en cas d'annulation de la manifestation ( décision ministérielle ou autre) Tout exposant accepte que ses oiseaux puissent être filmés ou photographiés librement, et en autorise la diffusion.
A40: IND | C40: 3 | E40: =C40*D40 -> 0 | G40: Les cageots doivent toujours être accompagnés d'une feuille d'encagement..Pour les oiseaux arrivant par convoyeur
A41: DUO | C41: 5 | E41: =C41*D41 -> 0
A42: stam | C42: 10 | E42: =C42*D42 -> 0 | G42: Convoyeur M.
A43: CAGE | C43: 2 | E43: =C43*D43 -> 0 | G43: Repris par M.
A44: inscription | C44: 5 | E44: =C44*D44 -> 0 | G44: Par la signature de cette feuille, je décharge les organisateurs de toute responsabilité pour les accidents pouvant survenir à moi-même ou à mes oiseaux.
A45: Repas Samedi | C45: 15 | E45: =C45*D45 -> 0
...

Sheet CONCOURS DUO F3
E2: ='CONCOURS INDIVIDUEL F1'!D2 -> CONCOURS / BOURSE SORGUES 26 & 27 - 09 - 2026
B4: NOM | D4: PRENON | F4: ADRESSE | G4: CODE POSTAL | I4: VILLE | K4: TELEPHONE | M4: MAIL
B5: ='CONCOURS INDIVIDUEL F1'!B5 -> pascal | D5: ='CONCOURS INDIVIDUEL F1'!D5 -> mOrice | F5: ='CONCOURS INDIVIDUEL F1'!F5 -> 1510 rte oraoires | G5: ='CONCOURS INDIVIDUEL F1'!G5 -> 83332 | I5: ='CONCOURS INDIVIDUEL F1'!I5 -> castellet | K5: ='CONCOURS INDIVIDUEL F1'!K5 -> 663831252 | M5: ='CONCOURS INDIVIDUEL F1'!M5 -> mpasca@sfr.fr
A7: FEUILLE | E7: REGION | F7: CLUB | G7: SOUCHE | J7: AUTRES SOUCHES | M7: Nbre oiseaux
A8: N° | B8: 3 | E8: ='CONCOURS INDIVIDUEL F1'!E8 -> cde | F8: ='CONCOURS INDIVIDUEL F1'!F8 -> ocp | G8: ='CONCOURS INDIVIDUEL F1'!G8 -> PM | J8: ='CONCOURS INDIVIDUEL F1'!J8 -> SOUC1 | K8: ='CONCOURS INDIVIDUEL F1'!K8 -> SOUC2 | M8: Nbre cages
A9: RENSEIGNER POUR LES OISEAUX 1- LE TYPE 2- LA CLASSE 3 -LE SEXE ( M F C ? ) 4 - LE N° DE BAGUE MALE OU FEMELLE POUR LES COUPLE LES DEUX 5 -L'ANNEE 6-LE PRIX 7- EXPOSITION (OUI/NON)8- CAGE PERSONELLE (OUI/NON)
A10: NINSC | B10: REGION | C10: SOUCHE | D10: TYPE | E10: CLASSE | F10: DESIGNATION | G10: SEXE | H10: BAGUE MALE | I10: BAGUE FEMELLE | J10: BAGUE | K10: ANNEE | L10: PRIX | M10: EXPOSITION OUI /NON | N10: CAGE PERSONNEL
A11: 1 | B11: =E8 -> cde | C11: =G8 -> PM | F11: =IFERROR(VLOOKUP(E11,'CLASSES oiseau'!B1:C27636,2,FALSE),"") | J11: =_xludf.CONCAT("M",H11,"/","F",I11) -> #NAME? | BHF11: =IFERROR(VLOOKUP(G11,'CLASSES oiseau'!D2:E27637,2,FALSE),"")
A12: 2 | B12: =B11 -> cde | C12: =C11 -> PM | E12: =E11 -> 0 | F12: =IFERROR(VLOOKUP(E12,'CLASSES oiseau'!B2:C27637,2,FALSE),"") | J12: =_xludf.CONCAT("M",H12,"/","F",I12) -> #NAME?
A13: 3 | B13: =B12 -> cde | C13: =C12 -> PM | F13: =IFERROR(VLOOKUP(E13,'CLASSES oiseau'!B3:C27638,2,FALSE),"") | J13: =_xludf.CONCAT("M",H13,"/","F",I13) -> #NAME?
A14: 4 | B14: =B13 -> cde | C14: =C13 -> PM | E14: =E13 -> 0 | F14: =IFERROR(VLOOKUP(E14,'CLASSES oiseau'!B4:C27639,2,FALSE),"") | J14: =_xludf.CONCAT("M",H14,"/","F",I14) -> #NAME?
A15: 5 | B15: =B14 -> cde | C15: =C14 -> PM | F15: =IFERROR(VLOOKUP(E15,'CLASSES oiseau'!B5:C27640,2,FALSE),"") | J15: =_xludf.CONCAT("M",H15,"/","F",I15) -> #NAME?
A16: 6 | B16: =B15 -> cde | C16: =C15 -> PM | E16: =E15 -> 0 | F16: =IFERROR(VLOOKUP(E16,'CLASSES oiseau'!B6:C27641,2,FALSE),"") | J16: =_xludf.CONCAT("M",H16,"/","F",I16) -> #NAME?
A17: 7 | B17: =B16 -> cde | C17: =C16 -> PM | F17: =IFERROR(VLOOKUP(E17,'CLASSES oiseau'!B7:C27642,2,FALSE),"") | J17: =_xludf.CONCAT("M",H17,"/","F",I17) -> #NAME?
A18: 8 | B18: =B17 -> cde | C18: =C17 -> PM | E18: =E17 -> 0 | F18: =IFERROR(VLOOKUP(E18,'CLASSES oiseau'!B8:C27643,2,FALSE),"") | J18: =_xludf.CONCAT("M",H18,"/","F",I18) -> #NAME?
A19: 9 | B19: =B18 -> cde | C19: =C18 -> PM | F19: =IFERROR(VLOOKUP(E19,'CLASSES oiseau'!B9:C27644,2,FALSE),"") | J19: =_xludf.CONCAT("M",H19,"/","F",I19) -> #NAME?
A20: 10 | B20: =B19 -> cde | C20: =C19 -> PM | E20: =E19 -> 0 | F20: =IFERROR(VLOOKUP(E20,'CLASSES oiseau'!B10:C27645,2,FALSE),"") | J20: =_xludf.CONCAT("M",H20,"/","F",I20) -> #NAME?
A21: 11 | B21: =B20 -> cde | C21: =C20 -> PM | F21: =IFERROR(VLOOKUP(E21,'CLASSES oiseau'!B11:C27646,2,FALSE),"") | J21: =_xludf.CONCAT("M",H21,"/","F",I21) -> #NAME?
A22: 12 | B22: =B21 -> cde | C22: =C21 -> PM | E22: =E21 -> 0 | F22: =IFERROR(VLOOKUP(E22,'CLASSES oiseau'!B12:C27647,2,FALSE),"") | J22: =_xludf.CONCAT("M",H22,"/","F",I22) -> #NAME?
A23: 13 | B23: =B22 -> cde | C23: =C22 -> PM | F23: =IFERROR(VLOOKUP(E23,'CLASSES oiseau'!B13:C27648,2,FALSE),"") | J23: =_xludf.CONCAT("M",H23,"/","F",I23) -> #NAME?
A24: 14 | B24: =B23 -> cde | C24: =C23 -> PM | E24: =E23 -> 0 | F24: =IFERROR(VLOOKUP(E24,'CLASSES oiseau'!B14:C27649,2,FALSE),"") | J24: =_xludf.CONCAT("M",H24,"/","F",I24) -> #NAME?
A25: 15 | B25: =B24 -> cde | C25: =C24 -> PM | F25: =IFERROR(VLOOKUP(E25,'CLASSES oiseau'!B15:C27650,2,FALSE),"") | J25: =_xludf.CONCAT("M",H25,"/","F",I25) -> #NAME?
A26: 16 | B26: =B25 -> cde | C26: =C25 -> PM | E26: =E25 -> 0 | F26: =IFERROR(VLOOKUP(E26,'CLASSES oiseau'!B16:C27651,2,FALSE),"") | J26: =_xludf.CONCAT("M",H26,"/","F",I26) -> #NAME?
A27: 17 | B27: =B26 -> cde | C27: =C26 -> PM | F27: =IFERROR(VLOOKUP(E27,'CLASSES oiseau'!B17:C27652,2,FALSE),"") | J27: =_xludf.CONCAT("M",H27,"/","F",I27) -> #NAME?
A28: 18 | B28: =B27 -> cde | C28: =C27 -> PM | E28: =E27 -> 0 | F28: =IFERROR(VLOOKUP(E28,'CLASSES oiseau'!B18:C27653,2,FALSE),"") | J28: =_xludf.CONCAT("M",H28,"/","F",I28) -> #NAME?
A29: 19 | B29: =B28 -> cde | C29: =C28 -> PM | F29: =IFERROR(VLOOKUP(E29,'CLASSES oiseau'!B19:C27654,2,FALSE),"") | J29: =_xludf.CONCAT("M",H29,"/","F",I29) -> #NAME?
A30: 20 | B30: =B29 -> cde | C30: =C29 -> PM | E30: =E29 -> 0 | F30: =IFERROR(VLOOKUP(E30,'CLASSES oiseau'!B20:C27655,2,FALSE),"") | J30: =_xludf.CONCAT("M",H30,"/","F",I30) -> #NAME?
A31: 21 | B31: =B30 -> cde | C31: =C30 -> PM | F31: =IFERROR(VLOOKUP(E31,'CLASSES oiseau'!B21:C27656,2,FALSE),"") | J31: =_xludf.CONCAT("M",H31,"/","F",I31) -> #NAME?
A32: 22 | B32: =B31 -> cde | C32: =C31 -> PM | E32: =E31 -> 0 | F32: =IFERROR(VLOOKUP(E32,'CLASSES oiseau'!B22:C27657,2,FALSE),"") | J32: =_xludf.CONCAT("M",H32,"/","F",I32) -> #NAME?
A33: 23 | B33: =B32 -> cde | C33: =C32 -> PM | F33: =IFERROR(VLOOKUP(E33,'CLASSES oiseau'!B23:C27658,2,FALSE),"") | J33: =_xludf.CONCAT("M",H33,"/","F",I33) -> #NAME?
A34: 24 | B34: =B33 -> cde | C34: =C33 -> PM | E34: =E33 -> 0 | F34: =IFERROR(VLOOKUP(E34,'CLASSES oiseau'!B24:C27659,2,FALSE),"") | J34: =_xludf.CONCAT("M",H34,"/","F",I34) -> #NAME?
A35: Un changement de sujet ne pourra être fait que s'il appartient exactement à la même section et à la même classe
A36: Vous pouvez dupliquer cette feuille et la transmettre à vos amis.
A37: Si nécessaire, joindre copie du certificat de capacité ou de l'autorisation de détention.Les organisateurs déclinent toute responsabilité en cas d'annulation de la manifestation ( décision ministérielle ou autre) Tout exposant accepte que ses oiseaux puissent être filmés ou photographiés librement, et en autorise la diffusion.
A40: IND | C40: 3 | E40: =C40*D40 -> 0 | G40: Les cageots doivent toujours être accompagnés d'une feuille d'encagement..Pour les oiseaux arrivant par convoyeur
A41: DUO | C41: 5 | E41: =C41*D41 -> 0
A42: stam | C42: 10 | E42: =C42*D42 -> 0 | G42: Convoyeur M.
A43: CAGE | C43: 2 | E43: =C43*D43 -> 0 | G43: Repris par M.
A44: inscription | C44: 5 | E44: =C44*D44 -> 0 | G44: Par la signature de cette feuille, je décharge les organisateurs de toute responsabilité pour les accidents pouvant survenir à moi-même ou à mes oiseaux.
A45: Repas Samedi | C45: 15 | E45: =C45*D45 -> 0
...

Sheet CONCOURS STAM F1
E2: ='CONCOURS INDIVIDUEL F1'!D2 -> CONCOURS / BOURSE SORGUES 26 & 27 - 09 - 2026
B4: NOM | D4: PRENON | F4: ADRESSE | G4: CODE POSTAL | I4: VILLE | K4: TELEPHONE | M4: MAIL
B5: ='CONCOURS INDIVIDUEL F1'!B5 -> pascal | D5: ='CONCOURS INDIVIDUEL F1'!D5 -> mOrice | F5: ='CONCOURS INDIVIDUEL F1'!F5 -> 1510 rte oraoires | G5: ='CONCOURS INDIVIDUEL F1'!G5 -> 83332 | I5: ='CONCOURS INDIVIDUEL F1'!I5 -> castellet | K5: ='CONCOURS INDIVIDUEL F1'!K5 -> 663831252 | M5: ='CONCOURS INDIVIDUEL F1'!M5 -> mpasca@sfr.fr
A7: FEUILLE | E7: REGION | F7: CLUB | G7: SOUCHE | J7: AUTRES SOUCHES | M7: Nbre oiseaux
A8: N° | B8: 1 | E8: ='CONCOURS INDIVIDUEL F1'!E8 -> cde | F8: ='CONCOURS INDIVIDUEL F1'!F8 -> ocp | G8: ='CONCOURS INDIVIDUEL F1'!G8 -> PM | J8: ='CONCOURS INDIVIDUEL F1'!J8 -> SOUC1 | K8: ='CONCOURS INDIVIDUEL F1'!K8 -> SOUC2 | M8: Nbre cages
A9: RENSEIGNER POUR LES OISEAUX 1- LE TYPE 2- LA CLASSE 3 -LE SEXE ( M F C ? ) 4 - LE N° DE BAGUE MALE OU FEMELLE POUR LES COUPLE LES DEUX 5 -L'ANNEE 6-LE PRIX 7- EXPOSITION (OUI/NON)8- CAGE PERSONELLE (OUI/NON)
A10: NINSC | B10: REGION | C10: SOUCHE | D10: TYPE | E10: CLASSE | F10: DESIGNATION | G10: SEXE | H10: BAGUE MALE | I10: BAGUE FEMELLE | J10: BAGUE | K10: ANNEE | L10: PRIX | M10: EXPOSITION OUI /NON | N10: CAGE PERSONNEL
A11: 1 | B11: =E8 -> cde | C11: =G8 -> PM | F11: =IFERROR(VLOOKUP(E11,'CLASSES oiseau'!B1:C27636,2,FALSE),"") | BHF11: =IFERROR(VLOOKUP(G11,'CLASSES oiseau'!D2:E27637,2,FALSE),"")
A12: 2 | B12: =B11 -> cde | C12: =C11 -> PM | E12: =E11 -> 0 | F12: =IFERROR(VLOOKUP(E12,'CLASSES oiseau'!B2:C27637,2,FALSE),"")
A13: 3 | B13: =B12 -> cde | C13: =C12 -> PM | E13: =E12 -> 0 | F13: =IFERROR(VLOOKUP(E13,'CLASSES oiseau'!B3:C27638,2,FALSE),"")
A14: 4 | B14: =B13 -> cde | C14: =C13 -> PM | E14: =E13 -> 0 | F14: =IFERROR(VLOOKUP(E14,'CLASSES oiseau'!B4:C27639,2,FALSE),"")
A15: 5 | B15: =B14 -> cde | C15: =C14 -> PM | F15: =IFERROR(VLOOKUP(E15,'CLASSES oiseau'!B5:C27640,2,FALSE),"") | J15: =_xludf.CONCAT("M",H15,"/","F",I15) -> #NAME?
A16: 6 | B16: =B15 -> cde | C16: =C15 -> PM | E16: =E15 -> 0 | F16: =IFERROR(VLOOKUP(E16,'CLASSES oiseau'!B6:C27641,2,FALSE),"") | J16: =_xludf.CONCAT("M",H16,"/","F",I16) -> #NAME?
A17: 7 | B17: =B16 -> cde | C17: =C16 -> PM | E17: =E16 -> 0 | F17: =IFERROR(VLOOKUP(E17,'CLASSES oiseau'!B7:C27642,2,FALSE),"") | J17: =_xludf.CONCAT("M",H17,"/","F",I17) -> #NAME?
A18: 8 | B18: =B17 -> cde | C18: =C17 -> PM | E18: =E17 -> 0 | F18: =IFERROR(VLOOKUP(E18,'CLASSES oiseau'!B8:C27643,2,FALSE),"") | J18: =_xludf.CONCAT("M",H18,"/","F",I18) -> #NAME?
A19: 9 | B19: =B18 -> cde | C19: =C18 -> PM | F19: =IFERROR(VLOOKUP(E19,'CLASSES oiseau'!B9:C27644,2,FALSE),"") | J19: =_xludf.CONCAT("M",H19,"/","F",I19) -> #NAME?
A20: 10 | B20: =B19 -> cde | C20: =C19 -> PM | E20: =E19 -> 0 | F20: =IFERROR(VLOOKUP(E20,'CLASSES oiseau'!B10:C27645,2,FALSE),"") | J20: =_xludf.CONCAT("M",H20,"/","F",I20) -> #NAME?
A21: 11 | B21: =B20 -> cde | C21: =C20 -> PM | E21: =E20 -> 0 | F21: =IFERROR(VLOOKUP(E21,'CLASSES oiseau'!B11:C27646,2,FALSE),"") | J21: =_xludf.CONCAT("M",H21,"/","F",I21) -> #NAME?
A22: 12 | B22: =B21 -> cde | C22: =C21 -> PM | E22: =E21 -> 0 | F22: =IFERROR(VLOOKUP(E22,'CLASSES oiseau'!B12:C27647,2,FALSE),"") | J22: =_xludf.CONCAT("M",H22,"/","F",I22) -> #NAME?
A23: 13 | B23: =B22 -> cde | C23: =C22 -> PM | F23: =IFERROR(VLOOKUP(E23,'CLASSES oiseau'!B13:C27648,2,FALSE),"") | J23: =_xludf.CONCAT("M",H23,"/","F",I23) -> #NAME?
A24: 14 | B24: =B23 -> cde | C24: =C23 -> PM | E24: =E23 -> 0 | F24: =IFERROR(VLOOKUP(E24,'CLASSES oiseau'!B14:C27649,2,FALSE),"") | J24: =_xludf.CONCAT("M",H24,"/","F",I24) -> #NAME?
A25: 15 | B25: =B24 -> cde | C25: =C24 -> PM | E25: =E24 -> 0 | F25: =IFERROR(VLOOKUP(E25,'CLASSES oiseau'!B15:C27650,2,FALSE),"") | J25: =_xludf.CONCAT("M",H25,"/","F",I25) -> #NAME?
A26: 16 | B26: =B25 -> cde | C26: =C25 -> PM | E26: =E25 -> 0 | F26: =IFERROR(VLOOKUP(E26,'CLASSES oiseau'!B16:C27651,2,FALSE),"") | J26: =_xludf.CONCAT("M",H26,"/","F",I26) -> #NAME?
A27: 17 | B27: =B26 -> cde | C27: =C26 -> PM | F27: =IFERROR(VLOOKUP(E27,'CLASSES oiseau'!B17:C27652,2,FALSE),"") | J27: =_xludf.CONCAT("M",H27,"/","F",I27) -> #NAME?
A28: 18 | B28: =B27 -> cde | C28: =C27 -> PM | E28: =E27 -> 0 | F28: =IFERROR(VLOOKUP(E28,'CLASSES oiseau'!B18:C27653,2,FALSE),"") | J28: =_xludf.CONCAT("M",H28,"/","F",I28) -> #NAME?
A29: 19 | B29: =B28 -> cde | C29: =C28 -> PM | E29: =E28 -> 0 | F29: =IFERROR(VLOOKUP(E29,'CLASSES oiseau'!B19:C27654,2,FALSE),"") | J29: =_xludf.CONCAT("M",H29,"/","F",I29) -> #NAME?
A30: 20 | B30: =B29 -> cde | C30: =C29 -> PM | E30: =E29 -> 0 | F30: =IFERROR(VLOOKUP(E30,'CLASSES oiseau'!B20:C27655,2,FALSE),"") | J30: =_xludf.CONCAT("M",H30,"/","F",I30) -> #NAME?
A31: 21 | B31: =B30 -> cde | C31: =C30 -> PM | F31: =IFERROR(VLOOKUP(E31,'CLASSES oiseau'!B21:C27656,2,FALSE),"") | J31: =_xludf.CONCAT("M",H31,"/","F",I31) -> #NAME?
A32: 22 | B32: =B31 -> cde | C32: =C31 -> PM | E32: =E31 -> 0 | F32: =IFERROR(VLOOKUP(E32,'CLASSES oiseau'!B22:C27657,2,FALSE),"") | J32: =_xludf.CONCAT("M",H32,"/","F",I32) -> #NAME?
A33: 23 | B33: =B32 -> cde | C33: =C32 -> PM | E33: =E32 -> 0 | F33: =IFERROR(VLOOKUP(E33,'CLASSES oiseau'!B23:C27658,2,FALSE),"") | J33: =_xludf.CONCAT("M",H33,"/","F",I33) -> #NAME?
A34: 24 | B34: =B33 -> cde | C34: =C33 -> PM | E34: =E33 -> 0 | F34: =IFERROR(VLOOKUP(E34,'CLASSES oiseau'!B24:C27659,2,FALSE),"") | J34: =_xludf.CONCAT("M",H34,"/","F",I34) -> #NAME?
A35: Un changement de sujet ne pourra être fait que s'il appartient exactement à la même section et à la même classe
A36: Vous pouvez dupliquer cette feuille et la transmettre à vos amis.
A37: Si nécessaire, joindre copie du certificat de capacité ou de l'autorisation de détention.Les organisateurs déclinent toute responsabilité en cas d'annulation de la manifestation ( décision ministérielle ou autre) Tout exposant accepte que ses oiseaux puissent être filmés ou photographiés librement, et en autorise la diffusion.
A40: IND | C40: 3 | E40: =C40*D40 -> 0 | G40: Les cageots doivent toujours être accompagnés d'une feuille d'encagement..Pour les oiseaux arrivant par convoyeur
A41: DUO | C41: 5 | E41: =C41*D41 -> 0
A42: stam | C42: 10 | E42: =C42*D42 -> 0 | G42: Convoyeur M.
A43: CAGE | C43: 2 | E43: =C43*D43 -> 0 | G43: Repris par M.
A44: inscription | C44: 5 | E44: =C44*D44 -> 0 | G44: Par la signature de cette feuille, je décharge les organisateurs de toute responsabilité pour les accidents pouvant survenir à moi-même ou à mes oiseaux.
A45: Repas Samedi | C45: 15 | E45: =C45*D45 -> 0
...

Sheet CONCOURS  STAM F2
E2: ='CONCOURS INDIVIDUEL F1'!D2 -> CONCOURS / BOURSE SORGUES 26 & 27 - 09 - 2026
B4: NOM | D4: PRENON | F4: ADRESSE | G4: CODE POSTAL | I4: VILLE | K4: TELEPHONE | M4: MAIL
B5: ='CONCOURS INDIVIDUEL F1'!B5 -> pascal | D5: ='CONCOURS INDIVIDUEL F1'!D5 -> mOrice | F5: ='CONCOURS INDIVIDUEL F1'!F5 -> 1510 rte oraoires | G5: ='CONCOURS INDIVIDUEL F1'!G5 -> 83332 | I5: ='CONCOURS INDIVIDUEL F1'!I5 -> castellet | K5: ='CONCOURS INDIVIDUEL F1'!K5 -> 663831252 | M5: ='CONCOURS INDIVIDUEL F1'!M5 -> mpasca@sfr.fr
A7: FEUILLE | E7: REGION | F7: CLUB | G7: SOUCHE | J7: AUTRES SOUCHES | M7: Nbre oiseaux
A8: N° | B8: 2 | E8: ='CONCOURS INDIVIDUEL F1'!E8 -> cde | F8: ='CONCOURS INDIVIDUEL F1'!F8 -> ocp | G8: ='CONCOURS INDIVIDUEL F1'!G8 -> PM | J8: ='CONCOURS INDIVIDUEL F1'!J8 -> SOUC1 | K8: ='CONCOURS INDIVIDUEL F1'!K8 -> SOUC2 | M8: Nbre cages
A9: RENSEIGNER POUR LES OISEAUX 1- LE TYPE 2- LA CLASSE 3 -LE SEXE ( M F C ? ) 4 - LE N° DE BAGUE MALE OU FEMELLE POUR LES COUPLE LES DEUX 5 -L'ANNEE 6-LE PRIX 7- EXPOSITION (OUI/NON)8- CAGE PERSONELLE (OUI/NON)
A10: NINSC | B10: REGION | C10: SOUCHE | D10: TYPE | E10: CLASSE | F10: DESIGNATION | G10: SEXE | H10: BAGUE MALE | I10: BAGUE FEMELLE | J10: BAGUE | K10: ANNEE | L10: PRIX | M10: EXPOSITION OUI /NON | N10: CAGE PERSONNEL
A11: 1 | B11: =E8 -> cde | C11: =G8 -> PM | F11: =IFERROR(VLOOKUP(E11,'CLASSES oiseau'!B1:C27636,2,FALSE),"") | BHF11: =IFERROR(VLOOKUP(G11,'CLASSES oiseau'!D2:E27637,2,FALSE),"")
A12: 2 | B12: =B11 -> cde | C12: =C11 -> PM | E12: =E11 -> 0 | F12: =IFERROR(VLOOKUP(E12,'CLASSES oiseau'!B2:C27637,2,FALSE),"") | J12: =_xludf.CONCAT("M",H12,"/","F",I12) -> #NAME?
A13: 3 | B13: =B12 -> cde | C13: =C12 -> PM | E13: =E12 -> 0 | F13: =IFERROR(VLOOKUP(E13,'CLASSES oiseau'!B3:C27638,2,FALSE),"") | J13: =_xludf.CONCAT("M",H13,"/","F",I13) -> #NAME?
A14: 4 | B14: =B13 -> cde | C14: =C13 -> PM | E14: =E13 -> 0 | F14: =IFERROR(VLOOKUP(E14,'CLASSES oiseau'!B4:C27639,2,FALSE),"") | J14: =_xludf.CONCAT("M",H14,"/","F",I14) -> #NAME?
A15: 5 | B15: =B14 -> cde | C15: =C14 -> PM | F15: =IFERROR(VLOOKUP(E15,'CLASSES oiseau'!B5:C27640,2,FALSE),"") | J15: =_xludf.CONCAT("M",H15,"/","F",I15) -> #NAME?
A16: 6 | B16: =B15 -> cde | C16: =C15 -> PM | E16: =E15 -> 0 | F16: =IFERROR(VLOOKUP(E16,'CLASSES oiseau'!B6:C27641,2,FALSE),"") | J16: =_xludf.CONCAT("M",H16,"/","F",I16) -> #NAME?
A17: 7 | B17: =B16 -> cde | C17: =C16 -> PM | E17: =E16 -> 0 | F17: =IFERROR(VLOOKUP(E17,'CLASSES oiseau'!B7:C27642,2,FALSE),"") | J17: =_xludf.CONCAT("M",H17,"/","F",I17) -> #NAME?
A18: 8 | B18: =B17 -> cde | C18: =C17 -> PM | E18: =E17 -> 0 | F18: =IFERROR(VLOOKUP(E18,'CLASSES oiseau'!B8:C27643,2,FALSE),"") | J18: =_xludf.CONCAT("M",H18,"/","F",I18) -> #NAME?
A19: 9 | B19: =B18 -> cde | C19: =C18 -> PM | F19: =IFERROR(VLOOKUP(E19,'CLASSES oiseau'!B9:C27644,2,FALSE),"") | J19: =_xludf.CONCAT("M",H19,"/","F",I19) -> #NAME?
A20: 10 | B20: =B19 -> cde | C20: =C19 -> PM | E20: =E19 -> 0 | F20: =IFERROR(VLOOKUP(E20,'CLASSES oiseau'!B10:C27645,2,FALSE),"") | J20: =_xludf.CONCAT("M",H20,"/","F",I20) -> #NAME?
A21: 11 | B21: =B20 -> cde | C21: =C20 -> PM | E21: =E20 -> 0 | F21: =IFERROR(VLOOKUP(E21,'CLASSES oiseau'!B11:C27646,2,FALSE),"") | J21: =_xludf.CONCAT("M",H21,"/","F",I21) -> #NAME?
A22: 12 | B22: =B21 -> cde | C22: =C21 -> PM | E22: =E21 -> 0 | F22: =IFERROR(VLOOKUP(E22,'CLASSES oiseau'!B12:C27647,2,FALSE),"") | J22: =_xludf.CONCAT("M",H22,"/","F",I22) -> #NAME?
A23: 13 | B23: =B22 -> cde | C23: =C22 -> PM | F23: =IFERROR(VLOOKUP(E23,'CLASSES oiseau'!B13:C27648,2,FALSE),"") | J23: =_xludf.CONCAT("M",H23,"/","F",I23) -> #NAME?
A24: 14 | B24: =B23 -> cde | C24: =C23 -> PM | E24: =E23 -> 0 | F24: =IFERROR(VLOOKUP(E24,'CLASSES oiseau'!B14:C27649,2,FALSE),"") | J24: =_xludf.CONCAT("M",H24,"/","F",I24) -> #NAME?
A25: 15 | B25: =B24 -> cde | C25: =C24 -> PM | E25: =E24 -> 0 | F25: =IFERROR(VLOOKUP(E25,'CLASSES oiseau'!B15:C27650,2,FALSE),"") | J25: =_xludf.CONCAT("M",H25,"/","F",I25) -> #NAME?
A26: 16 | B26: =B25 -> cde | C26: =C25 -> PM | E26: =E25 -> 0 | F26: =IFERROR(VLOOKUP(E26,'CLASSES oiseau'!B16:C27651,2,FALSE),"") | J26: =_xludf.CONCAT("M",H26,"/","F",I26) -> #NAME?
A27: 17 | B27: =B26 -> cde | C27: =C26 -> PM | F27: =IFERROR(VLOOKUP(E27,'CLASSES oiseau'!B17:C27652,2,FALSE),"") | J27: =_xludf.CONCAT("M",H27,"/","F",I27) -> #NAME?
A28: 18 | B28: =B27 -> cde | C28: =C27 -> PM | E28: =E27 -> 0 | F28: =IFERROR(VLOOKUP(E28,'CLASSES oiseau'!B18:C27653,2,FALSE),"") | J28: =_xludf.CONCAT("M",H28,"/","F",I28) -> #NAME?
A29: 19 | B29: =B28 -> cde | C29: =C28 -> PM | E29: =E28 -> 0 | F29: =IFERROR(VLOOKUP(E29,'CLASSES oiseau'!B19:C27654,2,FALSE),"") | J29: =_xludf.CONCAT("M",H29,"/","F",I29) -> #NAME?
A30: 20 | B30: =B29 -> cde | C30: =C29 -> PM | E30: =E29 -> 0 | F30: =IFERROR(VLOOKUP(E30,'CLASSES oiseau'!B20:C27655,2,FALSE),"") | J30: =_xludf.CONCAT("M",H30,"/","F",I30) -> #NAME?
A31: 21 | B31: =B30 -> cde | C31: =C30 -> PM | F31: =IFERROR(VLOOKUP(E31,'CLASSES oiseau'!B21:C27656,2,FALSE),"") | J31: =_xludf.CONCAT("M",H31,"/","F",I31) -> #NAME?
A32: 22 | B32: =B31 -> cde | C32: =C31 -> PM | E32: =E31 -> 0 | F32: =IFERROR(VLOOKUP(E32,'CLASSES oiseau'!B22:C27657,2,FALSE),"") | J32: =_xludf.CONCAT("M",H32,"/","F",I32) -> #NAME?
A33: 23 | B33: =B32 -> cde | C33: =C32 -> PM | E33: =E32 -> 0 | F33: =IFERROR(VLOOKUP(E33,'CLASSES oiseau'!B23:C27658,2,FALSE),"") | J33: =_xludf.CONCAT("M",H33,"/","F",I33) -> #NAME?
A34: 24 | B34: =B33 -> cde | C34: =C33 -> PM | E34: =E33 -> 0 | F34: =IFERROR(VLOOKUP(E34,'CLASSES oiseau'!B24:C27659,2,FALSE),"") | J34: =_xludf.CONCAT("M",H34,"/","F",I34) -> #NAME?
A35: Un changement de sujet ne pourra être fait que s'il appartient exactement à la même section et à la même classe
A36: Vous pouvez dupliquer cette feuille et la transmettre à vos amis.
A37: Si nécessaire, joindre copie du certificat de capacité ou de l'autorisation de détention.Les organisateurs déclinent toute responsabilité en cas d'annulation de la manifestation ( décision ministérielle ou autre) Tout exposant accepte que ses oiseaux puissent être filmés ou photographiés librement, et en autorise la diffusion.
A40: IND | C40: 3 | E40: =C40*D40 -> 0 | G40: Les cageots doivent toujours être accompagnés d'une feuille d'encagement..Pour les oiseaux arrivant par convoyeur
A41: DUO | C41: 5 | E41: =C41*D41 -> 0
A42: stam | C42: 10 | E42: =C42*D42 -> 0 | G42: Convoyeur M.
A43: CAGE | C43: 2 | E43: =C43*D43 -> 0 | G43: Repris par M.
A44: inscription | C44: 5 | E44: =C44*D44 -> 0 | G44: Par la signature de cette feuille, je décharge les organisateurs de toute responsabilité pour les accidents pouvant survenir à moi-même ou à mes oiseaux.
A45: Repas Samedi | C45: 15 | E45: =C45*D45 -> 0
...

Sheet CONCOURS STAM F3
E2: ='CONCOURS INDIVIDUEL F1'!D2 -> CONCOURS / BOURSE SORGUES 26 & 27 - 09 - 2026
B4: NOM | D4: PRENON | F4: ADRESSE | G4: CODE POSTAL | I4: VILLE | K4: TELEPHONE | M4: MAIL
B5: ='CONCOURS INDIVIDUEL F1'!B5 -> pascal | D5: ='CONCOURS INDIVIDUEL F1'!D5 -> mOrice | F5: ='CONCOURS INDIVIDUEL F1'!F5 -> 1510 rte oraoires | G5: ='CONCOURS INDIVIDUEL F1'!G5 -> 83332 | I5: ='CONCOURS INDIVIDUEL F1'!I5 -> castellet | K5: ='CONCOURS INDIVIDUEL F1'!K5 -> 663831252 | M5: ='CONCOURS INDIVIDUEL F1'!M5 -> mpasca@sfr.fr
A7: FEUILLE | E7: REGION | F7: CLUB | G7: SOUCHE | J7: AUTRES SOUCHES | M7: Nbre oiseaux
A8: N° | B8: 3 | E8: ='CONCOURS INDIVIDUEL F1'!E8 -> cde | F8: ='CONCOURS INDIVIDUEL F1'!F8 -> ocp | G8: ='CONCOURS INDIVIDUEL F1'!G8 -> PM | J8: ='CONCOURS INDIVIDUEL F1'!J8 -> SOUC1 | K8: ='CONCOURS INDIVIDUEL F1'!K8 -> SOUC2 | M8: Nbre cages
A9: RENSEIGNER POUR LES OISEAUX 1- LE TYPE 2- LA CLASSE 3 -LE SEXE ( M F C ? ) 4 - LE N° DE BAGUE MALE OU FEMELLE POUR LES COUPLE LES DEUX 5 -L'ANNEE 6-LE PRIX 7- EXPOSITION (OUI/NON)8- CAGE PERSONELLE (OUI/NON)
A10: NINSC | B10: REGION | C10: SOUCHE | D10: TYPE | E10: CLASSE | F10: DESIGNATION | G10: SEXE | H10: BAGUE MALE | I10: BAGUE FEMELLE | J10: BAGUE | K10: ANNEE | L10: PRIX | M10: EXPOSITION OUI /NON | N10: CAGE PERSONNEL
A11: 1 | B11: =E8 -> cde | C11: =G8 -> PM | F11: =IFERROR(VLOOKUP(E11,'CLASSES oiseau'!B1:C27636,2,FALSE),"") | J11: =_xludf.CONCAT("M",H11,"/","F",I11) -> #NAME? | BHF11: =IFERROR(VLOOKUP(G11,'CLASSES oiseau'!D2:E27637,2,FALSE),"")
A12: 2 | B12: =B11 -> cde | C12: =C11 -> PM | E12: =E11 -> 0 | F12: =IFERROR(VLOOKUP(E12,'CLASSES oiseau'!B2:C27637,2,FALSE),"") | J12: =_xludf.CONCAT("M",H12,"/","F",I12) -> #NAME?
A13: 3 | B13: =B12 -> cde | C13: =C12 -> PM | E13: =E12 -> 0 | F13: =IFERROR(VLOOKUP(E13,'CLASSES oiseau'!B3:C27638,2,FALSE),"") | J13: =_xludf.CONCAT("M",H13,"/","F",I13) -> #NAME?
A14: 4 | B14: =B13 -> cde | C14: =C13 -> PM | E14: =E13 -> 0 | F14: =IFERROR(VLOOKUP(E14,'CLASSES oiseau'!B4:C27639,2,FALSE),"") | J14: =_xludf.CONCAT("M",H14,"/","F",I14) -> #NAME?
A15: 5 | B15: =B14 -> cde | C15: =C14 -> PM | F15: =IFERROR(VLOOKUP(E15,'CLASSES oiseau'!B5:C27640,2,FALSE),"") | J15: =_xludf.CONCAT("M",H15,"/","F",I15) -> #NAME?
A16: 6 | B16: =B15 -> cde | C16: =C15 -> PM | E16: =E15 -> 0 | F16: =IFERROR(VLOOKUP(E16,'CLASSES oiseau'!B6:C27641,2,FALSE),"") | J16: =_xludf.CONCAT("M",H16,"/","F",I16) -> #NAME?
A17: 7 | B17: =B16 -> cde | C17: =C16 -> PM | E17: =E16 -> 0 | F17: =IFERROR(VLOOKUP(E17,'CLASSES oiseau'!B7:C27642,2,FALSE),"") | J17: =_xludf.CONCAT("M",H17,"/","F",I17) -> #NAME?
A18: 8 | B18: =B17 -> cde | C18: =C17 -> PM | E18: =E17 -> 0 | F18: =IFERROR(VLOOKUP(E18,'CLASSES oiseau'!B8:C27643,2,FALSE),"") | J18: =_xludf.CONCAT("M",H18,"/","F",I18) -> #NAME?
A19: 9 | B19: =B18 -> cde | C19: =C18 -> PM | F19: =IFERROR(VLOOKUP(E19,'CLASSES oiseau'!B9:C27644,2,FALSE),"") | J19: =_xludf.CONCAT("M",H19,"/","F",I19) -> #NAME?
A20: 10 | B20: =B19 -> cde | C20: =C19 -> PM | E20: =E19 -> 0 | F20: =IFERROR(VLOOKUP(E20,'CLASSES oiseau'!B10:C27645,2,FALSE),"") | J20: =_xludf.CONCAT("M",H20,"/","F",I20) -> #NAME?
A21: 11 | B21: =B20 -> cde | C21: =C20 -> PM | E21: =E20 -> 0 | F21: =IFERROR(VLOOKUP(E21,'CLASSES oiseau'!B11:C27646,2,FALSE),"") | J21: =_xludf.CONCAT("M",H21,"/","F",I21) -> #NAME?
A22: 12 | B22: =B21 -> cde | C22: =C21 -> PM | E22: =E21 -> 0 | F22: =IFERROR(VLOOKUP(E22,'CLASSES oiseau'!B12:C27647,2,FALSE),"") | J22: =_xludf.CONCAT("M",H22,"/","F",I22) -> #NAME?
A23: 13 | B23: =B22 -> cde | C23: =C22 -> PM | F23: =IFERROR(VLOOKUP(E23,'CLASSES oiseau'!B13:C27648,2,FALSE),"") | J23: =_xludf.CONCAT("M",H23,"/","F",I23) -> #NAME?
A24: 14 | B24: =B23 -> cde | C24: =C23 -> PM | E24: =E23 -> 0 | F24: =IFERROR(VLOOKUP(E24,'CLASSES oiseau'!B14:C27649,2,FALSE),"") | J24: =_xludf.CONCAT("M",H24,"/","F",I24) -> #NAME?
A25: 15 | B25: =B24 -> cde | C25: =C24 -> PM | E25: =E24 -> 0 | F25: =IFERROR(VLOOKUP(E25,'CLASSES oiseau'!B15:C27650,2,FALSE),"") | J25: =_xludf.CONCAT("M",H25,"/","F",I25) -> #NAME?
A26: 16 | B26: =B25 -> cde | C26: =C25 -> PM | E26: =E25 -> 0 | F26: =IFERROR(VLOOKUP(E26,'CLASSES oiseau'!B16:C27651,2,FALSE),"") | J26: =_xludf.CONCAT("M",H26,"/","F",I26) -> #NAME?
A27: 17 | B27: =B26 -> cde | C27: =C26 -> PM | F27: =IFERROR(VLOOKUP(E27,'CLASSES oiseau'!B17:C27652,2,FALSE),"") | J27: =_xludf.CONCAT("M",H27,"/","F",I27) -> #NAME?
A28: 18 | B28: =B27 -> cde | C28: =C27 -> PM | E28: =E27 -> 0 | F28: =IFERROR(VLOOKUP(E28,'CLASSES oiseau'!B18:C27653,2,FALSE),"") | J28: =_xludf.CONCAT("M",H28,"/","F",I28) -> #NAME?
A29: 19 | B29: =B28 -> cde | C29: =C28 -> PM | E29: =E28 -> 0 | F29: =IFERROR(VLOOKUP(E29,'CLASSES oiseau'!B19:C27654,2,FALSE),"") | J29: =_xludf.CONCAT("M",H29,"/","F",I29) -> #NAME?
A30: 20 | B30: =B29 -> cde | C30: =C29 -> PM | E30: =E29 -> 0 | F30: =IFERROR(VLOOKUP(E30,'CLASSES oiseau'!B20:C27655,2,FALSE),"") | J30: =_xludf.CONCAT("M",H30,"/","F",I30) -> #NAME?
A31: 21 | B31: =B30 -> cde | C31: =C30 -> PM | F31: =IFERROR(VLOOKUP(E31,'CLASSES oiseau'!B21:C27656,2,FALSE),"") | J31: =_xludf.CONCAT("M",H31,"/","F",I31) -> #NAME?
A32: 22 | B32: =B31 -> cde | C32: =C31 -> PM | E32: =E31 -> 0 | F32: =IFERROR(VLOOKUP(E32,'CLASSES oiseau'!B22:C27657,2,FALSE),"") | J32: =_xludf.CONCAT("M",H32,"/","F",I32) -> #NAME?
A33: 23 | B33: =B32 -> cde | C33: =C32 -> PM | E33: =E32 -> 0 | F33: =IFERROR(VLOOKUP(E33,'CLASSES oiseau'!B23:C27658,2,FALSE),"") | J33: =_xludf.CONCAT("M",H33,"/","F",I33) -> #NAME?
A34: 24 | B34: =B33 -> cde | C34: =C33 -> PM | E34: =E33 -> 0 | F34: =IFERROR(VLOOKUP(E34,'CLASSES oiseau'!B24:C27659,2,FALSE),"") | J34: =_xludf.CONCAT("M",H34,"/","F",I34) -> #NAME?
A35: Un changement de sujet ne pourra être fait que s'il appartient exactement à la même section et à la même classe
A36: Vous pouvez dupliquer cette feuille et la transmettre à vos amis.
A37: Si nécessaire, joindre copie du certificat de capacité ou de l'autorisation de détention.Les organisateurs déclinent toute responsabilité en cas d'annulation de la manifestation ( décision ministérielle ou autre) Tout exposant accepte que ses oiseaux puissent être filmés ou photographiés librement, et en autorise la diffusion.
A40: IND | C40: 3 | E40: =C40*D40 -> 0 | G40: Les cageots doivent toujours être accompagnés d'une feuille d'encagement..Pour les oiseaux arrivant par convoyeur
A41: DUO | C41: 5 | E41: =C41*D41 -> 0
A42: stam | C42: 10 | E42: =C42*D42 -> 0 | G42: Convoyeur M.
A43: CAGE | C43: 2 | E43: =C43*D43 -> 0 | G43: Repris par M.
A44: inscription | C44: 5 | E44: =C44*D44 -> 0 | G44: Par la signature de cette feuille, je décharge les organisateurs de toute responsabilité pour les accidents pouvant survenir à moi-même ou à mes oiseaux.
A45: Repas Samedi | C45: 15 | E45: =C45*D45 -> 0
...

Sheet BOURSE F1
D1: Renseigner ici votre Nom Prenom adresse telephone club souche Etc.
D2: BOURSE AUBAGNE 17 & 18 OCTOBRE 2026
A5: qualité | B5: NOM | D5: PRENON | F5: ADRESSE | G5: CODE POSTAL | I5: VILLE | K5: TELEPHONE | M5: MAIL
K7: Nbre Cages | M7: Simple | N7: Charles | O7: Volière
A8: FEUILLE n° | E8: ='CONCOURS INDIVIDUEL F1'!E8 -> cde | F8: CLUB | G8: SOUCHE | I8: AUTRES SOUCHES
A9: N° | B9: 1 | E9: CDE | M9: Nbre oiseaux
A10: RENSEIGNER POUR LES OISEAUX 1- DESIGNATION ( Description de l'oiseaux ) 3 -LE SEXE ( M F C ? ) 4 - LE N° DE BAGUE MALE OU FEMELLE POUR LES COUPLE LES DEUX 5 -L'ANNEE 6-LE PRIX 7- N° CAGE (Mettre le même N° de cage pour oiseaux qui seront ensemble) 8- CAGE PERSO (OUI/NON)
A11: NINSC | B11: REGION | C11: SOUCHE | D11: TYPE | E11: CLASSE | F11: DESIGNATION | G11: SEXE | H11: BAGUE MALE | I11: BAGUE FEMELLE | J11: N° CAGE | K11: ANNEE | L11: PRIX | M11: expo | N11: CAGE PERSO | O11: CONVOYAGE
A12: 1 | B12: =E9 -> CDE | C12: =G9 -> 0 | D12: BOURSE | E12: ZB
A13: 2 | B13: =B12 -> CDE | C13: =C12 -> 0 | D13: BOURSE | E13: ZB
A14: 3 | B14: =B13 -> CDE | C14: =C13 -> 0 | D14: BOURSE | E14: ZB
A15: 4 | B15: =B14 -> CDE | C15: =C14 -> 0 | D15: BOURSE | E15: ZB
A16: 5 | B16: =B15 -> CDE | C16: =C15 -> 0 | D16: BOURSE | E16: ZB
A17: 6 | B17: =B16 -> CDE | C17: =C16 -> 0 | D17: BOURSE | E17: ZB
A18: 7 | B18: =B17 -> CDE | C18: =C17 -> 0 | D18: BOURSE | E18: ZB
